BEGIN:VCALENDAR
VERSION:2.0
PRODID:-//Boden Coon Rapids - ECPv6.11.2.1//NONSGML v1.0//EN
CALSCALE:GREGORIAN
METHOD:PUBLISH
X-ORIGINAL-URL:https://bodencoonrapids.com
X-WR-CALDESC:Events for Boden Coon Rapids
REFRESH-INTERVAL;VALUE=DURATION:PT1H
X-Robots-Tag:noindex
X-PUBLISHED-TTL:PT1H
BEGIN:VTIMEZONE
TZID:America/Chicago
BEGIN:DAYLIGHT
TZOFFSETFROM:-0600
TZOFFSETTO:-0500
TZNAME:CDT
DTSTART:20250309T080000
END:DAYLIGHT
BEGIN:STANDARD
TZOFFSETFROM:-0500
TZOFFSETTO:-0600
TZNAME:CST
DTSTART:20251102T070000
END:STANDARD
END:VTIMEZONE
BEGIN:VEVENT
DTSTART;VALUE=DATE:20251129
DTEND;VALUE=DATE:20251130
DTSTAMP:20260423T014126
CREATED:20251030T145041Z
LAST-MODIFIED:20251128T155035Z
UID:10003373-1764374400-1764460799@bodencoonrapids.com
SUMMARY:Always Available Activities/Located in labeled cabinets
DESCRIPTION:
URL:https://bodencoonrapids.com/event-calendar/always-available-activities-located-in-labeled-cabinets-113/
LOCATION:Activities Room
CATEGORIES:Assisted Living
END:VEVENT
BEGIN:VEVENT
DTSTART;VALUE=DATE:20251129
DTEND;VALUE=DATE:20251130
DTSTAMP:20260423T014126
CREATED:20251102T163545Z
LAST-MODIFIED:20251127T180555Z
UID:10003423-1764374400-1764460799@bodencoonrapids.com
SUMMARY:Always available activities
DESCRIPTION:
URL:https://bodencoonrapids.com/event-calendar/always-available-activities-216/
CATEGORIES:Memory Care
END:VEVENT
BEGIN:VEVENT
DTSTART;TZID=America/Chicago:20251129T080000
DTEND;TZID=America/Chicago:20251129T090000
DTSTAMP:20260423T014126
CREATED:20251102T163545Z
LAST-MODIFIED:20251129T002035Z
UID:10003425-1764403200-1764406800@bodencoonrapids.com
SUMMARY:Breakfast
DESCRIPTION:
URL:https://bodencoonrapids.com/event-calendar/breakfast-203/
CATEGORIES:Memory Care
END:VEVENT
BEGIN:VEVENT
DTSTART;TZID=America/Chicago:20251129T090000
DTEND;TZID=America/Chicago:20251129T100000
DTSTAMP:20260423T014126
CREATED:20251102T163545Z
LAST-MODIFIED:20251129T002035Z
UID:10003426-1764406800-1764410400@bodencoonrapids.com
SUMMARY:Life skills/Grooming/Dressing/Room pick up
DESCRIPTION:
URL:https://bodencoonrapids.com/event-calendar/life-skills-grooming-dressing-room-pick-up-68/
CATEGORIES:Memory Care
END:VEVENT
BEGIN:VEVENT
DTSTART;TZID=America/Chicago:20251129T100000
DTEND;TZID=America/Chicago:20251129T110000
DTSTAMP:20260423T014126
CREATED:20251031T145042Z
LAST-MODIFIED:20251128T155035Z
UID:10003385-1764410400-1764414000@bodencoonrapids.com
SUMMARY:Walking Challenge
DESCRIPTION:
URL:https://bodencoonrapids.com/event-calendar/walking-challenge-41/
LOCATION:Front Lobby
CATEGORIES:Assisted Living
END:VEVENT
BEGIN:VEVENT
DTSTART;TZID=America/Chicago:20251129T110000
DTEND;TZID=America/Chicago:20251129T120000
DTSTAMP:20260423T014126
CREATED:20251031T145042Z
LAST-MODIFIED:20251128T155035Z
UID:10003386-1764414000-1764417600@bodencoonrapids.com
SUMMARY:Book Club
DESCRIPTION:
URL:https://bodencoonrapids.com/event-calendar/book-club-14/
LOCATION:Activities Room
CATEGORIES:Assisted Living
END:VEVENT
BEGIN:VEVENT
DTSTART;TZID=America/Chicago:20251129T110000
DTEND;TZID=America/Chicago:20251129T120000
DTSTAMP:20260423T014126
CREATED:20251102T163545Z
LAST-MODIFIED:20251129T002036Z
UID:10003427-1764414000-1764417600@bodencoonrapids.com
SUMMARY:Exercise/Group/1:1
DESCRIPTION:
URL:https://bodencoonrapids.com/event-calendar/exercise-group-11-88/
CATEGORIES:Memory Care
END:VEVENT
BEGIN:VEVENT
DTSTART;TZID=America/Chicago:20251129T120000
DTEND;TZID=America/Chicago:20251129T130000
DTSTAMP:20260423T014126
CREATED:20251102T163545Z
LAST-MODIFIED:20251129T002036Z
UID:10003428-1764417600-1764421200@bodencoonrapids.com
SUMMARY:Lunch
DESCRIPTION:
URL:https://bodencoonrapids.com/event-calendar/lunch-182/
CATEGORIES:Memory Care
END:VEVENT
BEGIN:VEVENT
DTSTART;TZID=America/Chicago:20251129T130000
DTEND;TZID=America/Chicago:20251129T140000
DTSTAMP:20260423T014126
CREATED:20251031T145042Z
LAST-MODIFIED:20251128T155035Z
UID:10003387-1764421200-1764424800@bodencoonrapids.com
SUMMARY:Chair yoga
DESCRIPTION:
URL:https://bodencoonrapids.com/event-calendar/chair-yoga-5/
CATEGORIES:Assisted Living
END:VEVENT
BEGIN:VEVENT
DTSTART;TZID=America/Chicago:20251129T130000
DTEND;TZID=America/Chicago:20251129T150000
DTSTAMP:20260423T014126
CREATED:20251103T163545Z
LAST-MODIFIED:20251129T002036Z
UID:10003435-1764421200-1764428400@bodencoonrapids.com
SUMMARY:Rest with favorite show/Music choice/1'1 Games
DESCRIPTION:
URL:https://bodencoonrapids.com/event-calendar/rest-with-favorite-show-music-choice-11-games-88/
CATEGORIES:Memory Care
END:VEVENT
BEGIN:VEVENT
DTSTART;TZID=America/Chicago:20251129T140000
DTEND;TZID=America/Chicago:20251129T160000
DTSTAMP:20260423T014126
CREATED:20251103T163545Z
LAST-MODIFIED:20251129T002036Z
UID:10003434-1764424800-1764432000@bodencoonrapids.com
SUMMARY:Snack and Social hour/Trivia
DESCRIPTION:
URL:https://bodencoonrapids.com/event-calendar/snack-and-social-hour-trivia-202/
CATEGORIES:Memory Care
END:VEVENT
BEGIN:VEVENT
DTSTART;TZID=America/Chicago:20251129T150000
DTEND;TZID=America/Chicago:20251129T180000
DTSTAMP:20260423T014126
CREATED:20251102T163545Z
LAST-MODIFIED:20251129T002034Z
UID:10003429-1764428400-1764439200@bodencoonrapids.com
SUMMARY:Games and puzzles/Stem/Group/1:1
DESCRIPTION:
URL:https://bodencoonrapids.com/event-calendar/games-and-puzzles-stem-group-11-42/
CATEGORIES:Memory Care
END:VEVENT
BEGIN:VEVENT
DTSTART;TZID=America/Chicago:20251129T170000
DTEND;TZID=America/Chicago:20251129T180000
DTSTAMP:20260423T014126
CREATED:20251103T163545Z
LAST-MODIFIED:20251129T002034Z
UID:10003436-1764435600-1764439200@bodencoonrapids.com
SUMMARY:Dinner
DESCRIPTION:
URL:https://bodencoonrapids.com/event-calendar/dinner-182/
CATEGORIES:Memory Care
END:VEVENT
BEGIN:VEVENT
DTSTART;TZID=America/Chicago:20251129T173000
DTEND;TZID=America/Chicago:20251129T183000
DTSTAMP:20260423T014126
CREATED:20251103T163545Z
LAST-MODIFIED:20251130T002124Z
UID:10003437-1764437400-1764441000@bodencoonrapids.com
SUMMARY:Walk or Wheel /Group
DESCRIPTION:
URL:https://bodencoonrapids.com/event-calendar/walk-or-wheel-group-202/
CATEGORIES:Memory Care
END:VEVENT
BEGIN:VEVENT
DTSTART;TZID=America/Chicago:20251129T190000
DTEND;TZID=America/Chicago:20251129T200000
DTSTAMP:20260423T014126
CREATED:20251103T163546Z
LAST-MODIFIED:20251130T002124Z
UID:10003439-1764442800-1764446400@bodencoonrapids.com
SUMMARY:Evening Stretching/Massage/TV/Games/Relax
DESCRIPTION:
URL:https://bodencoonrapids.com/event-calendar/evening-stretching-massage-tv-games-relax-42/
CATEGORIES:Memory Care
END:VEVENT
END:VCALENDAR