BEGIN:VCALENDAR
VERSION:2.0
PRODID:-//Boden Coon Rapids - ECPv6.11.2.1//NONSGML v1.0//EN
CALSCALE:GREGORIAN
METHOD:PUBLISH
X-ORIGINAL-URL:https://bodencoonrapids.com
X-WR-CALDESC:Events for Boden Coon Rapids
REFRESH-INTERVAL;VALUE=DURATION:PT1H
X-Robots-Tag:noindex
X-PUBLISHED-TTL:PT1H
BEGIN:VTIMEZONE
TZID:America/Chicago
BEGIN:DAYLIGHT
TZOFFSETFROM:-0600
TZOFFSETTO:-0500
TZNAME:CDT
DTSTART:20250309T080000
END:DAYLIGHT
BEGIN:STANDARD
TZOFFSETFROM:-0500
TZOFFSETTO:-0600
TZNAME:CST
DTSTART:20251102T070000
END:STANDARD
END:VTIMEZONE
BEGIN:VEVENT
DTSTART;VALUE=DATE:20251201
DTEND;VALUE=DATE:20251202
DTSTAMP:20260423T000829
CREATED:20251101T150541Z
LAST-MODIFIED:20251130T003633Z
UID:10003403-1764547200-1764633599@bodencoonrapids.com
SUMMARY:Always Available Activities/Located in labeled cabinets
DESCRIPTION:
URL:https://bodencoonrapids.com/event-calendar/always-available-activities-located-in-labeled-cabinets-115/
LOCATION:Activities Room
CATEGORIES:Assisted Living
END:VEVENT
BEGIN:VEVENT
DTSTART;VALUE=DATE:20251201
DTEND;VALUE=DATE:20251202
DTSTAMP:20260423T000829
CREATED:20251104T163545Z
LAST-MODIFIED:20251130T002124Z
UID:10003454-1764547200-1764633599@bodencoonrapids.com
SUMMARY:Always available activities
DESCRIPTION:
URL:https://bodencoonrapids.com/event-calendar/always-available-activities-218/
CATEGORIES:Memory Care
END:VEVENT
BEGIN:VEVENT
DTSTART;TZID=America/Chicago:20251201T080000
DTEND;TZID=America/Chicago:20251201T090000
DTSTAMP:20260423T000829
CREATED:20251104T163545Z
LAST-MODIFIED:20251201T002039Z
UID:10003456-1764576000-1764579600@bodencoonrapids.com
SUMMARY:Breakfast
DESCRIPTION:
URL:https://bodencoonrapids.com/event-calendar/breakfast-205/
CATEGORIES:Memory Care
END:VEVENT
BEGIN:VEVENT
DTSTART;TZID=America/Chicago:20251201T083000
DTEND;TZID=America/Chicago:20251201T093000
DTSTAMP:20260423T000829
CREATED:20251101T150541Z
LAST-MODIFIED:20251201T005035Z
UID:10003404-1764577800-1764581400@bodencoonrapids.com
SUMMARY:Guided Meditation
DESCRIPTION:
URL:https://bodencoonrapids.com/event-calendar/guided-meditation-87/
LOCATION:Living Room
CATEGORIES:Assisted Living
END:VEVENT
BEGIN:VEVENT
DTSTART;TZID=America/Chicago:20251201T090000
DTEND;TZID=America/Chicago:20251201T100000
DTSTAMP:20260423T000829
CREATED:20251104T163546Z
LAST-MODIFIED:20251201T002039Z
UID:10003457-1764579600-1764583200@bodencoonrapids.com
SUMMARY:Life skills/Grooming/Dressing/Room pick up
DESCRIPTION:
URL:https://bodencoonrapids.com/event-calendar/life-skills-grooming-dressing-room-pick-up-70/
CATEGORIES:Memory Care
END:VEVENT
BEGIN:VEVENT
DTSTART;TZID=America/Chicago:20251201T103000
DTEND;TZID=America/Chicago:20251201T113000
DTSTAMP:20260423T000829
CREATED:20251102T152041Z
LAST-MODIFIED:20251201T005035Z
UID:10003416-1764585000-1764588600@bodencoonrapids.com
SUMMARY:Exercise Class/Hosted by Community Life
DESCRIPTION:
URL:https://bodencoonrapids.com/event-calendar/exercise-class-hosted-by-community-life-93/
LOCATION:Living Room
CATEGORIES:Assisted Living
END:VEVENT
BEGIN:VEVENT
DTSTART;TZID=America/Chicago:20251201T110000
DTEND;TZID=America/Chicago:20251201T120000
DTSTAMP:20260423T000829
CREATED:20251104T163546Z
LAST-MODIFIED:20251201T002039Z
UID:10003458-1764586800-1764590400@bodencoonrapids.com
SUMMARY:Exercise/Group/1:1
DESCRIPTION:
URL:https://bodencoonrapids.com/event-calendar/exercise-group-11-90/
CATEGORIES:Memory Care
END:VEVENT
BEGIN:VEVENT
DTSTART;TZID=America/Chicago:20251201T120000
DTEND;TZID=America/Chicago:20251201T130000
DTSTAMP:20260423T000829
CREATED:20251104T163546Z
LAST-MODIFIED:20251201T002039Z
UID:10003459-1764590400-1764594000@bodencoonrapids.com
SUMMARY:Lunch
DESCRIPTION:
URL:https://bodencoonrapids.com/event-calendar/lunch-184/
CATEGORIES:Memory Care
END:VEVENT
BEGIN:VEVENT
DTSTART;TZID=America/Chicago:20251201T130000
DTEND;TZID=America/Chicago:20251201T150000
DTSTAMP:20260423T000829
CREATED:20251105T163546Z
LAST-MODIFIED:20251201T002039Z
UID:10003467-1764594000-1764601200@bodencoonrapids.com
SUMMARY:Rest with favorite show/Music choice/1'1 Games
DESCRIPTION:
URL:https://bodencoonrapids.com/event-calendar/rest-with-favorite-show-music-choice-11-games-90/
CATEGORIES:Memory Care
END:VEVENT
BEGIN:VEVENT
DTSTART;TZID=America/Chicago:20251201T140000
DTEND;TZID=America/Chicago:20251201T160000
DTSTAMP:20260423T000829
CREATED:20251105T163546Z
LAST-MODIFIED:20251201T002039Z
UID:10003466-1764597600-1764604800@bodencoonrapids.com
SUMMARY:Snack and Social hour/Trivia
DESCRIPTION:
URL:https://bodencoonrapids.com/event-calendar/snack-and-social-hour-trivia-204/
CATEGORIES:Memory Care
END:VEVENT
BEGIN:VEVENT
DTSTART;TZID=America/Chicago:20251201T150000
DTEND;TZID=America/Chicago:20251201T180000
DTSTAMP:20260423T000829
CREATED:20251104T163546Z
LAST-MODIFIED:20251201T002038Z
UID:10003460-1764601200-1764612000@bodencoonrapids.com
SUMMARY:Games and puzzles/Stem/Group/1:1
DESCRIPTION:
URL:https://bodencoonrapids.com/event-calendar/games-and-puzzles-stem-group-11-44/
CATEGORIES:Memory Care
END:VEVENT
BEGIN:VEVENT
DTSTART;TZID=America/Chicago:20251201T170000
DTEND;TZID=America/Chicago:20251201T180000
DTSTAMP:20260423T000829
CREATED:20251105T163546Z
LAST-MODIFIED:20251201T002038Z
UID:10003468-1764608400-1764612000@bodencoonrapids.com
SUMMARY:Dinner
DESCRIPTION:
URL:https://bodencoonrapids.com/event-calendar/dinner-184/
CATEGORIES:Memory Care
END:VEVENT
BEGIN:VEVENT
DTSTART;TZID=America/Chicago:20251201T173000
DTEND;TZID=America/Chicago:20251201T183000
DTSTAMP:20260423T000829
CREATED:20251105T163546Z
LAST-MODIFIED:20251202T002050Z
UID:10003469-1764610200-1764613800@bodencoonrapids.com
SUMMARY:Walk or Wheel /Group
DESCRIPTION:
URL:https://bodencoonrapids.com/event-calendar/walk-or-wheel-group-204/
CATEGORIES:Memory Care
END:VEVENT
BEGIN:VEVENT
DTSTART;TZID=America/Chicago:20251201T190000
DTEND;TZID=America/Chicago:20251201T200000
DTSTAMP:20260423T000829
CREATED:20251105T163546Z
LAST-MODIFIED:20251202T002050Z
UID:10003471-1764615600-1764619200@bodencoonrapids.com
SUMMARY:Evening Stretching/Massage/TV/Games/Relax
DESCRIPTION:
URL:https://bodencoonrapids.com/event-calendar/evening-stretching-massage-tv-games-relax-44/
CATEGORIES:Memory Care
END:VEVENT
END:VCALENDAR