BEGIN:VCALENDAR
VERSION:2.0
PRODID:-//Boden Coon Rapids - ECPv6.11.2.1//NONSGML v1.0//EN
CALSCALE:GREGORIAN
METHOD:PUBLISH
X-WR-CALNAME:Boden Coon Rapids
X-ORIGINAL-URL:https://bodencoonrapids.com
X-WR-CALDESC:Events for Boden Coon Rapids
REFRESH-INTERVAL;VALUE=DURATION:PT1H
X-Robots-Tag:noindex
X-PUBLISHED-TTL:PT1H
BEGIN:VTIMEZONE
TZID:America/Chicago
BEGIN:DAYLIGHT
TZOFFSETFROM:-0600
TZOFFSETTO:-0500
TZNAME:CDT
DTSTART:20250309T080000
END:DAYLIGHT
BEGIN:STANDARD
TZOFFSETFROM:-0500
TZOFFSETTO:-0600
TZNAME:CST
DTSTART:20251102T070000
END:STANDARD
END:VTIMEZONE
BEGIN:VEVENT
DTSTART;VALUE=DATE:20251206
DTEND;VALUE=DATE:20251207
DTSTAMP:20260423T000604
CREATED:20251106T152041Z
LAST-MODIFIED:20251205T005059Z
UID:10003479-1764979200-1765065599@bodencoonrapids.com
SUMMARY:Always Available Activities/Located in labeled cabinets
DESCRIPTION:
URL:https://bodencoonrapids.com/event-calendar/always-available-activities-located-in-labeled-cabinets-120/
LOCATION:Activities Room
CATEGORIES:Assisted Living
END:VEVENT
BEGIN:VEVENT
DTSTART;VALUE=DATE:20251206
DTEND;VALUE=DATE:20251207
DTSTAMP:20260423T000604
CREATED:20251109T165048Z
LAST-MODIFIED:20251205T002045Z
UID:10003528-1764979200-1765065599@bodencoonrapids.com
SUMMARY:Always available activities
DESCRIPTION:
URL:https://bodencoonrapids.com/event-calendar/always-available-activities-223/
CATEGORIES:Memory Care
END:VEVENT
BEGIN:VEVENT
DTSTART;TZID=America/Chicago:20251206T080000
DTEND;TZID=America/Chicago:20251206T090000
DTSTAMP:20260423T000604
CREATED:20251109T165048Z
LAST-MODIFIED:20251206T002054Z
UID:10003530-1765008000-1765011600@bodencoonrapids.com
SUMMARY:Breakfast
DESCRIPTION:
URL:https://bodencoonrapids.com/event-calendar/breakfast-210/
CATEGORIES:Memory Care
END:VEVENT
BEGIN:VEVENT
DTSTART;TZID=America/Chicago:20251206T090000
DTEND;TZID=America/Chicago:20251206T100000
DTSTAMP:20260423T000604
CREATED:20251109T165048Z
LAST-MODIFIED:20251206T002054Z
UID:10003531-1765011600-1765015200@bodencoonrapids.com
SUMMARY:Life skills/Grooming/Dressing/Room pick up
DESCRIPTION:
URL:https://bodencoonrapids.com/event-calendar/life-skills-grooming-dressing-room-pick-up-75/
CATEGORIES:Memory Care
END:VEVENT
BEGIN:VEVENT
DTSTART;TZID=America/Chicago:20251206T100000
DTEND;TZID=America/Chicago:20251206T110000
DTSTAMP:20260423T000604
CREATED:20251107T152042Z
LAST-MODIFIED:20251206T005037Z
UID:10003491-1765015200-1765018800@bodencoonrapids.com
SUMMARY:Walking Challenge
DESCRIPTION:
URL:https://bodencoonrapids.com/event-calendar/walking-challenge-43/
LOCATION:Front Lobby
CATEGORIES:Assisted Living
END:VEVENT
BEGIN:VEVENT
DTSTART;TZID=America/Chicago:20251206T110000
DTEND;TZID=America/Chicago:20251206T120000
DTSTAMP:20260423T000604
CREATED:20251107T152042Z
LAST-MODIFIED:20251206T005037Z
UID:10003492-1765018800-1765022400@bodencoonrapids.com
SUMMARY:Book Club
DESCRIPTION:
URL:https://bodencoonrapids.com/event-calendar/book-club-15/
LOCATION:Activities Room
CATEGORIES:Assisted Living
END:VEVENT
BEGIN:VEVENT
DTSTART;TZID=America/Chicago:20251206T110000
DTEND;TZID=America/Chicago:20251206T120000
DTSTAMP:20260423T000604
CREATED:20251109T165048Z
LAST-MODIFIED:20251206T002054Z
UID:10003532-1765018800-1765022400@bodencoonrapids.com
SUMMARY:Exercise/Group/1:1
DESCRIPTION:
URL:https://bodencoonrapids.com/event-calendar/exercise-group-11-95/
CATEGORIES:Memory Care
END:VEVENT
BEGIN:VEVENT
DTSTART;TZID=America/Chicago:20251206T120000
DTEND;TZID=America/Chicago:20251206T130000
DTSTAMP:20260423T000604
CREATED:20251109T165048Z
LAST-MODIFIED:20251206T002054Z
UID:10003533-1765022400-1765026000@bodencoonrapids.com
SUMMARY:Lunch
DESCRIPTION:
URL:https://bodencoonrapids.com/event-calendar/lunch-189/
CATEGORIES:Memory Care
END:VEVENT
BEGIN:VEVENT
DTSTART;TZID=America/Chicago:20251206T130000
DTEND;TZID=America/Chicago:20251206T140000
DTSTAMP:20260423T000604
CREATED:20251107T152042Z
LAST-MODIFIED:20251201T005035Z
UID:10003493-1765026000-1765029600@bodencoonrapids.com
SUMMARY:Chair yoga
DESCRIPTION:
URL:https://bodencoonrapids.com/event-calendar/chair-yoga-6/
CATEGORIES:Assisted Living
END:VEVENT
BEGIN:VEVENT
DTSTART;TZID=America/Chicago:20251206T130000
DTEND;TZID=America/Chicago:20251206T150000
DTSTAMP:20260423T000604
CREATED:20251110T165059Z
LAST-MODIFIED:20251206T002054Z
UID:10003540-1765026000-1765033200@bodencoonrapids.com
SUMMARY:Rest with favorite show/Music choice/1'1 Games
DESCRIPTION:
URL:https://bodencoonrapids.com/event-calendar/rest-with-favorite-show-music-choice-11-games-95/
CATEGORIES:Memory Care
END:VEVENT
BEGIN:VEVENT
DTSTART;TZID=America/Chicago:20251206T140000
DTEND;TZID=America/Chicago:20251206T160000
DTSTAMP:20260423T000604
CREATED:20251110T165059Z
LAST-MODIFIED:20251206T002054Z
UID:10003539-1765029600-1765036800@bodencoonrapids.com
SUMMARY:Snack and Social hour/Trivia
DESCRIPTION:
URL:https://bodencoonrapids.com/event-calendar/snack-and-social-hour-trivia-209/
CATEGORIES:Memory Care
END:VEVENT
BEGIN:VEVENT
DTSTART;TZID=America/Chicago:20251206T150000
DTEND;TZID=America/Chicago:20251206T180000
DTSTAMP:20260423T000604
CREATED:20251109T165048Z
LAST-MODIFIED:20251206T002053Z
UID:10003534-1765033200-1765044000@bodencoonrapids.com
SUMMARY:Games and puzzles/Stem/Group/1:1
DESCRIPTION:
URL:https://bodencoonrapids.com/event-calendar/games-and-puzzles-stem-group-11-49/
CATEGORIES:Memory Care
END:VEVENT
BEGIN:VEVENT
DTSTART;TZID=America/Chicago:20251206T170000
DTEND;TZID=America/Chicago:20251206T180000
DTSTAMP:20260423T000604
CREATED:20251110T165059Z
LAST-MODIFIED:20251206T002054Z
UID:10003541-1765040400-1765044000@bodencoonrapids.com
SUMMARY:Dinner
DESCRIPTION:
URL:https://bodencoonrapids.com/event-calendar/dinner-189/
CATEGORIES:Memory Care
END:VEVENT
BEGIN:VEVENT
DTSTART;TZID=America/Chicago:20251206T173000
DTEND;TZID=America/Chicago:20251206T183000
DTSTAMP:20260423T000604
CREATED:20251110T165059Z
LAST-MODIFIED:20251207T002132Z
UID:10003542-1765042200-1765045800@bodencoonrapids.com
SUMMARY:Walk or Wheel /Group
DESCRIPTION:
URL:https://bodencoonrapids.com/event-calendar/walk-or-wheel-group-209/
CATEGORIES:Memory Care
END:VEVENT
BEGIN:VEVENT
DTSTART;TZID=America/Chicago:20251206T190000
DTEND;TZID=America/Chicago:20251206T200000
DTSTAMP:20260423T000604
CREATED:20251110T165059Z
LAST-MODIFIED:20251207T002132Z
UID:10003544-1765047600-1765051200@bodencoonrapids.com
SUMMARY:Evening Stretching/Massage/TV/Games/Relax
DESCRIPTION:
URL:https://bodencoonrapids.com/event-calendar/evening-stretching-massage-tv-games-relax-49/
CATEGORIES:Memory Care
END:VEVENT
END:VCALENDAR