BEGIN:VCALENDAR
VERSION:2.0
PRODID:-//Boden Coon Rapids - ECPv6.11.2.1//NONSGML v1.0//EN
CALSCALE:GREGORIAN
METHOD:PUBLISH
X-WR-CALNAME:Boden Coon Rapids
X-ORIGINAL-URL:https://bodencoonrapids.com
X-WR-CALDESC:Events for Boden Coon Rapids
REFRESH-INTERVAL;VALUE=DURATION:PT1H
X-Robots-Tag:noindex
X-PUBLISHED-TTL:PT1H
BEGIN:VTIMEZONE
TZID:America/Chicago
BEGIN:DAYLIGHT
TZOFFSETFROM:-0600
TZOFFSETTO:-0500
TZNAME:CDT
DTSTART:20250309T080000
END:DAYLIGHT
BEGIN:STANDARD
TZOFFSETFROM:-0500
TZOFFSETTO:-0600
TZNAME:CST
DTSTART:20251102T070000
END:STANDARD
BEGIN:DAYLIGHT
TZOFFSETFROM:-0600
TZOFFSETTO:-0500
TZNAME:CDT
DTSTART:20260308T080000
END:DAYLIGHT
BEGIN:STANDARD
TZOFFSETFROM:-0500
TZOFFSETTO:-0600
TZNAME:CST
DTSTART:20261101T070000
END:STANDARD
END:VTIMEZONE
BEGIN:VEVENT
DTSTART;TZID=America/Chicago:20251213T100000
DTEND;TZID=America/Chicago:20260228T110000
DTSTAMP:20260423T000609
CREATED:20251202T002057Z
LAST-MODIFIED:20251208T002052Z
UID:10003851-1765620000-1772276400@bodencoonrapids.com
SUMMARY:Coloring Club
DESCRIPTION:
URL:https://bodencoonrapids.com/event-calendar/coloring-club/
CATEGORIES:Memory Care
END:VEVENT
BEGIN:VEVENT
DTSTART;VALUE=DATE:20251215
DTEND;VALUE=DATE:20251216
DTSTAMP:20260423T000609
CREATED:20251115T155044Z
LAST-MODIFIED:20251214T010539Z
UID:10003612-1765756800-1765843199@bodencoonrapids.com
SUMMARY:Always Available Activities/Located in labeled cabinets
DESCRIPTION:
URL:https://bodencoonrapids.com/event-calendar/always-available-activities-located-in-labeled-cabinets-129/
LOCATION:Activities Room
CATEGORIES:Assisted Living
END:VEVENT
BEGIN:VEVENT
DTSTART;VALUE=DATE:20251215
DTEND;VALUE=DATE:20251216
DTSTAMP:20260423T000609
CREATED:20251118T172047Z
LAST-MODIFIED:20251214T002045Z
UID:10003662-1765756800-1765843199@bodencoonrapids.com
SUMMARY:Always available activities
DESCRIPTION:
URL:https://bodencoonrapids.com/event-calendar/always-available-activities-232/
CATEGORIES:Memory Care
END:VEVENT
BEGIN:VEVENT
DTSTART;TZID=America/Chicago:20251215T080000
DTEND;TZID=America/Chicago:20251215T090000
DTSTAMP:20260423T000609
CREATED:20251118T172047Z
LAST-MODIFIED:20251215T003552Z
UID:10003664-1765785600-1765789200@bodencoonrapids.com
SUMMARY:Breakfast
DESCRIPTION:
URL:https://bodencoonrapids.com/event-calendar/breakfast-219/
CATEGORIES:Memory Care
END:VEVENT
BEGIN:VEVENT
DTSTART;TZID=America/Chicago:20251215T083000
DTEND;TZID=America/Chicago:20251215T093000
DTSTAMP:20260423T000609
CREATED:20251115T155044Z
LAST-MODIFIED:20251215T010626Z
UID:10003613-1765787400-1765791000@bodencoonrapids.com
SUMMARY:Guided Meditation
DESCRIPTION:
URL:https://bodencoonrapids.com/event-calendar/guided-meditation-97/
LOCATION:Living Room
CATEGORIES:Assisted Living
END:VEVENT
BEGIN:VEVENT
DTSTART;TZID=America/Chicago:20251215T090000
DTEND;TZID=America/Chicago:20251215T100000
DTSTAMP:20260423T000609
CREATED:20251118T172047Z
LAST-MODIFIED:20251215T003552Z
UID:10003665-1765789200-1765792800@bodencoonrapids.com
SUMMARY:Life skills/Grooming/Dressing/Room pick up
DESCRIPTION:
URL:https://bodencoonrapids.com/event-calendar/life-skills-grooming-dressing-room-pick-up-84/
CATEGORIES:Memory Care
END:VEVENT
BEGIN:VEVENT
DTSTART;TZID=America/Chicago:20251215T103000
DTEND;TZID=America/Chicago:20251215T113000
DTSTAMP:20260423T000609
CREATED:20251116T155057Z
LAST-MODIFIED:20251215T010626Z
UID:10003625-1765794600-1765798200@bodencoonrapids.com
SUMMARY:Exercise Class/Hosted by Community Life
DESCRIPTION:
URL:https://bodencoonrapids.com/event-calendar/exercise-class-hosted-by-community-life-99/
LOCATION:Living Room
CATEGORIES:Assisted Living
END:VEVENT
BEGIN:VEVENT
DTSTART;TZID=America/Chicago:20251215T110000
DTEND;TZID=America/Chicago:20251215T120000
DTSTAMP:20260423T000609
CREATED:20251118T172047Z
LAST-MODIFIED:20251215T003552Z
UID:10003666-1765796400-1765800000@bodencoonrapids.com
SUMMARY:Exercise/Group/1:1
DESCRIPTION:
URL:https://bodencoonrapids.com/event-calendar/exercise-group-11-104/
CATEGORIES:Memory Care
END:VEVENT
BEGIN:VEVENT
DTSTART;TZID=America/Chicago:20251215T120000
DTEND;TZID=America/Chicago:20251215T130000
DTSTAMP:20260423T000609
CREATED:20251118T172047Z
LAST-MODIFIED:20251215T003552Z
UID:10003667-1765800000-1765803600@bodencoonrapids.com
SUMMARY:Lunch
DESCRIPTION:
URL:https://bodencoonrapids.com/event-calendar/lunch-198/
CATEGORIES:Memory Care
END:VEVENT
BEGIN:VEVENT
DTSTART;TZID=America/Chicago:20251215T130000
DTEND;TZID=America/Chicago:20251215T150000
DTSTAMP:20260423T000609
CREATED:20251119T172046Z
LAST-MODIFIED:20251215T003552Z
UID:10003675-1765803600-1765810800@bodencoonrapids.com
SUMMARY:Rest with favorite show/Music choice/1'1 Games
DESCRIPTION:
URL:https://bodencoonrapids.com/event-calendar/rest-with-favorite-show-music-choice-11-games-104/
CATEGORIES:Memory Care
END:VEVENT
BEGIN:VEVENT
DTSTART;TZID=America/Chicago:20251215T133000
DTEND;TZID=America/Chicago:20251215T143000
DTSTAMP:20260423T000609
CREATED:20251202T005222Z
LAST-MODIFIED:20251215T010626Z
UID:10003871-1765805400-1765809000@bodencoonrapids.com
SUMMARY:Live Music
DESCRIPTION:
URL:https://bodencoonrapids.com/event-calendar/live-music-8/
CATEGORIES:Assisted Living
END:VEVENT
BEGIN:VEVENT
DTSTART;TZID=America/Chicago:20251215T140000
DTEND;TZID=America/Chicago:20251215T160000
DTSTAMP:20260423T000609
CREATED:20251119T172046Z
LAST-MODIFIED:20251215T003552Z
UID:10003674-1765807200-1765814400@bodencoonrapids.com
SUMMARY:Snack and Social hour/Trivia
DESCRIPTION:
URL:https://bodencoonrapids.com/event-calendar/snack-and-social-hour-trivia-218/
CATEGORIES:Memory Care
END:VEVENT
BEGIN:VEVENT
DTSTART;TZID=America/Chicago:20251215T150000
DTEND;TZID=America/Chicago:20251215T180000
DTSTAMP:20260423T000609
CREATED:20251118T172047Z
LAST-MODIFIED:20251215T003552Z
UID:10003668-1765810800-1765821600@bodencoonrapids.com
SUMMARY:Games and puzzles/Stem/Group/1:1
DESCRIPTION:
URL:https://bodencoonrapids.com/event-calendar/games-and-puzzles-stem-group-11-58/
CATEGORIES:Memory Care
END:VEVENT
BEGIN:VEVENT
DTSTART;TZID=America/Chicago:20251215T170000
DTEND;TZID=America/Chicago:20251215T180000
DTSTAMP:20260423T000609
CREATED:20251119T172046Z
LAST-MODIFIED:20251215T003553Z
UID:10003676-1765818000-1765821600@bodencoonrapids.com
SUMMARY:Dinner
DESCRIPTION:
URL:https://bodencoonrapids.com/event-calendar/dinner-198/
CATEGORIES:Memory Care
END:VEVENT
BEGIN:VEVENT
DTSTART;TZID=America/Chicago:20251215T173000
DTEND;TZID=America/Chicago:20251215T183000
DTSTAMP:20260423T000609
CREATED:20251119T172046Z
LAST-MODIFIED:20251215T003552Z
UID:10003677-1765819800-1765823400@bodencoonrapids.com
SUMMARY:Walk or Wheel /Group
DESCRIPTION:
URL:https://bodencoonrapids.com/event-calendar/walk-or-wheel-group-218/
CATEGORIES:Memory Care
END:VEVENT
BEGIN:VEVENT
DTSTART;TZID=America/Chicago:20251215T190000
DTEND;TZID=America/Chicago:20251215T200000
DTSTAMP:20260423T000609
CREATED:20251119T172046Z
LAST-MODIFIED:20251216T003536Z
UID:10003679-1765825200-1765828800@bodencoonrapids.com
SUMMARY:Evening Stretching/Massage/TV/Games/Relax
DESCRIPTION:
URL:https://bodencoonrapids.com/event-calendar/evening-stretching-massage-tv-games-relax-58/
CATEGORIES:Memory Care
END:VEVENT
END:VCALENDAR