BEGIN:VCALENDAR
VERSION:2.0
PRODID:-//Boden Coon Rapids - ECPv6.11.2.1//NONSGML v1.0//EN
CALSCALE:GREGORIAN
METHOD:PUBLISH
X-WR-CALNAME:Boden Coon Rapids
X-ORIGINAL-URL:https://bodencoonrapids.com
X-WR-CALDESC:Events for Boden Coon Rapids
REFRESH-INTERVAL;VALUE=DURATION:PT1H
X-Robots-Tag:noindex
X-PUBLISHED-TTL:PT1H
BEGIN:VTIMEZONE
TZID:America/Chicago
BEGIN:DAYLIGHT
TZOFFSETFROM:-0600
TZOFFSETTO:-0500
TZNAME:CDT
DTSTART:20250309T080000
END:DAYLIGHT
BEGIN:STANDARD
TZOFFSETFROM:-0500
TZOFFSETTO:-0600
TZNAME:CST
DTSTART:20251102T070000
END:STANDARD
BEGIN:DAYLIGHT
TZOFFSETFROM:-0600
TZOFFSETTO:-0500
TZNAME:CDT
DTSTART:20260308T080000
END:DAYLIGHT
BEGIN:STANDARD
TZOFFSETFROM:-0500
TZOFFSETTO:-0600
TZNAME:CST
DTSTART:20261101T070000
END:STANDARD
END:VTIMEZONE
BEGIN:VEVENT
DTSTART;TZID=America/Chicago:20251213T100000
DTEND;TZID=America/Chicago:20260228T110000
DTSTAMP:20260424T080246
CREATED:20251202T002057Z
LAST-MODIFIED:20251208T002052Z
UID:10003851-1765620000-1772276400@bodencoonrapids.com
SUMMARY:Coloring Club
DESCRIPTION:
URL:https://bodencoonrapids.com/event-calendar/coloring-club/
CATEGORIES:Memory Care
END:VEVENT
BEGIN:VEVENT
DTSTART;VALUE=DATE:20260202
DTEND;VALUE=DATE:20260203
DTSTAMP:20260424T080246
CREATED:20260113T012058Z
LAST-MODIFIED:20260201T022047Z
UID:10004719-1769990400-1770076799@bodencoonrapids.com
SUMMARY:Always available activities
DESCRIPTION:
URL:https://bodencoonrapids.com/event-calendar/always-available-activities-281/
CATEGORIES:Memory Care
END:VEVENT
BEGIN:VEVENT
DTSTART;TZID=America/Chicago:20260202T080000
DTEND;TZID=America/Chicago:20260202T090000
DTSTAMP:20260424T080246
CREATED:20260113T012058Z
LAST-MODIFIED:20260202T022037Z
UID:10004723-1770019200-1770022800@bodencoonrapids.com
SUMMARY:Breakfast
DESCRIPTION:
URL:https://bodencoonrapids.com/event-calendar/breakfast-268/
CATEGORIES:Memory Care
END:VEVENT
BEGIN:VEVENT
DTSTART;TZID=America/Chicago:20260202T090000
DTEND;TZID=America/Chicago:20260202T100000
DTSTAMP:20260424T080246
CREATED:20260113T012058Z
LAST-MODIFIED:20260202T022037Z
UID:10004724-1770022800-1770026400@bodencoonrapids.com
SUMMARY:News Flash/Linked Senior
DESCRIPTION:
URL:https://bodencoonrapids.com/event-calendar/news-flash-34/
CATEGORIES:Memory Care
END:VEVENT
BEGIN:VEVENT
DTSTART;TZID=America/Chicago:20260202T110000
DTEND;TZID=America/Chicago:20260202T120000
DTSTAMP:20260424T080246
CREATED:20260114T012047Z
LAST-MODIFIED:20260202T022037Z
UID:10004729-1770030000-1770033600@bodencoonrapids.com
SUMMARY:Exercise/Weights/Activity Binder
DESCRIPTION:
URL:https://bodencoonrapids.com/event-calendar/exercise-weights-5/
CATEGORIES:Memory Care
END:VEVENT
BEGIN:VEVENT
DTSTART;TZID=America/Chicago:20260202T113000
DTEND;TZID=America/Chicago:20260202T123000
DTSTAMP:20260424T080246
CREATED:20260114T012047Z
LAST-MODIFIED:20260202T022037Z
UID:10004730-1770031800-1770035400@bodencoonrapids.com
SUMMARY:Oshibori
DESCRIPTION:
URL:https://bodencoonrapids.com/event-calendar/oshibori-74/
CATEGORIES:Memory Care
END:VEVENT
BEGIN:VEVENT
DTSTART;TZID=America/Chicago:20260202T120000
DTEND;TZID=America/Chicago:20260202T130000
DTSTAMP:20260424T080246
CREATED:20260114T012047Z
LAST-MODIFIED:20260202T022037Z
UID:10004731-1770033600-1770037200@bodencoonrapids.com
SUMMARY:Lunch
DESCRIPTION:
URL:https://bodencoonrapids.com/event-calendar/lunch-247/
CATEGORIES:Memory Care
END:VEVENT
BEGIN:VEVENT
DTSTART;TZID=America/Chicago:20260202T140000
DTEND;TZID=America/Chicago:20260202T160000
DTSTAMP:20260424T080246
CREATED:20260114T012047Z
LAST-MODIFIED:20260202T022037Z
UID:10004732-1770040800-1770048000@bodencoonrapids.com
SUMMARY:Snack and Social hour
DESCRIPTION:
URL:https://bodencoonrapids.com/event-calendar/snack-and-social-hour-7/
CATEGORIES:Memory Care
END:VEVENT
BEGIN:VEVENT
DTSTART;TZID=America/Chicago:20260202T150000
DTEND;TZID=America/Chicago:20260202T160000
DTSTAMP:20260424T080246
CREATED:20260114T012047Z
LAST-MODIFIED:20260202T022037Z
UID:10004733-1770044400-1770048000@bodencoonrapids.com
SUMMARY:Crafting with Cathy
DESCRIPTION:
URL:https://bodencoonrapids.com/event-calendar/crafting-with-cathy-7/
CATEGORIES:Memory Care
END:VEVENT
BEGIN:VEVENT
DTSTART;TZID=America/Chicago:20260202T163000
DTEND;TZID=America/Chicago:20260202T173000
DTSTAMP:20260424T080246
CREATED:20260114T012047Z
LAST-MODIFIED:20260202T022037Z
UID:10004734-1770049800-1770053400@bodencoonrapids.com
SUMMARY:Oshibori
DESCRIPTION:
URL:https://bodencoonrapids.com/event-calendar/oshibori-75/
CATEGORIES:Memory Care
END:VEVENT
BEGIN:VEVENT
DTSTART;TZID=America/Chicago:20260202T170000
DTEND;TZID=America/Chicago:20260202T180000
DTSTAMP:20260424T080246
CREATED:20260114T012047Z
LAST-MODIFIED:20260202T022037Z
UID:10004735-1770051600-1770055200@bodencoonrapids.com
SUMMARY:Dinner
DESCRIPTION:
URL:https://bodencoonrapids.com/event-calendar/dinner-247/
CATEGORIES:Memory Care
END:VEVENT
BEGIN:VEVENT
DTSTART;TZID=America/Chicago:20260202T173000
DTEND;TZID=America/Chicago:20260202T183000
DTSTAMP:20260424T080246
CREATED:20260114T012047Z
LAST-MODIFIED:20260202T022037Z
UID:10004736-1770053400-1770057000@bodencoonrapids.com
SUMMARY:Trivia
DESCRIPTION:
URL:https://bodencoonrapids.com/event-calendar/trivia-20/
CATEGORIES:Memory Care
END:VEVENT
BEGIN:VEVENT
DTSTART;TZID=America/Chicago:20260202T190000
DTEND;TZID=America/Chicago:20260202T200000
DTSTAMP:20260424T080246
CREATED:20260114T012047Z
LAST-MODIFIED:20260202T022037Z
UID:10004738-1770058800-1770062400@bodencoonrapids.com
SUMMARY:Evening Stretching/Activity Binder
DESCRIPTION:
URL:https://bodencoonrapids.com/event-calendar/evening-stretching-massag-30/
CATEGORIES:Memory Care
END:VEVENT
BEGIN:VEVENT
DTSTART;TZID=America/Chicago:20260202T193000
DTEND;TZID=America/Chicago:20260202T203000
DTSTAMP:20260424T080246
CREATED:20260114T012048Z
LAST-MODIFIED:20260203T022050Z
UID:10004739-1770060600-1770064200@bodencoonrapids.com
SUMMARY:Sing a long/Books
DESCRIPTION:
URL:https://bodencoonrapids.com/event-calendar/sing-a-long-16/
LOCATION:Living Room
CATEGORIES:Memory Care
END:VEVENT
BEGIN:VEVENT
DTSTART;TZID=America/Chicago:20260202T200000
DTEND;TZID=America/Chicago:20260202T210000
DTSTAMP:20260424T080246
CREATED:20260114T012048Z
LAST-MODIFIED:20260203T022050Z
UID:10004740-1770062400-1770066000@bodencoonrapids.com
SUMMARY:Snack
DESCRIPTION:
URL:https://bodencoonrapids.com/event-calendar/snack-24/
CATEGORIES:Memory Care
END:VEVENT
END:VCALENDAR