BEGIN:VCALENDAR
VERSION:2.0
PRODID:-//Boden Coon Rapids - ECPv6.11.2.1//NONSGML v1.0//EN
CALSCALE:GREGORIAN
METHOD:PUBLISH
X-WR-CALNAME:Boden Coon Rapids
X-ORIGINAL-URL:https://bodencoonrapids.com
X-WR-CALDESC:Events for Boden Coon Rapids
REFRESH-INTERVAL;VALUE=DURATION:PT1H
X-Robots-Tag:noindex
X-PUBLISHED-TTL:PT1H
BEGIN:VTIMEZONE
TZID:America/Chicago
BEGIN:DAYLIGHT
TZOFFSETFROM:-0600
TZOFFSETTO:-0500
TZNAME:CDT
DTSTART:20260308T080000
END:DAYLIGHT
BEGIN:STANDARD
TZOFFSETFROM:-0500
TZOFFSETTO:-0600
TZNAME:CST
DTSTART:20261101T070000
END:STANDARD
END:VTIMEZONE
BEGIN:VEVENT
DTSTART;VALUE=DATE:20260308
DTEND;VALUE=DATE:20260309
DTSTAMP:20260422T170115
CREATED:20260216T040610Z
LAST-MODIFIED:20260307T055150Z
UID:10005432-1772928000-1773014399@bodencoonrapids.com
SUMMARY:Always available activities
DESCRIPTION:
URL:https://bodencoonrapids.com/event-calendar/always-available-activities-315/
CATEGORIES:Memory Care
END:VEVENT
BEGIN:VEVENT
DTSTART;TZID=America/Chicago:20260308T080000
DTEND;TZID=America/Chicago:20260308T090000
DTSTAMP:20260422T170115
CREATED:20260216T040611Z
LAST-MODIFIED:20260308T055048Z
UID:10005436-1772956800-1772960400@bodencoonrapids.com
SUMMARY:Breakfast
DESCRIPTION:
URL:https://bodencoonrapids.com/event-calendar/breakfast-302/
CATEGORIES:Memory Care
END:VEVENT
BEGIN:VEVENT
DTSTART;TZID=America/Chicago:20260308T090000
DTEND;TZID=America/Chicago:20260308T100000
DTSTAMP:20260422T170115
CREATED:20260216T040611Z
LAST-MODIFIED:20260308T055048Z
UID:10005437-1772960400-1772964000@bodencoonrapids.com
SUMMARY:News Flash/Linked Senior
DESCRIPTION:
URL:https://bodencoonrapids.com/event-calendar/news-flash-linked-senior-31/
CATEGORIES:Memory Care
END:VEVENT
BEGIN:VEVENT
DTSTART;TZID=America/Chicago:20260308T100000
DTEND;TZID=America/Chicago:20260308T110000
DTSTAMP:20260422T170115
CREATED:20260219T042046Z
LAST-MODIFIED:20260308T055048Z
UID:10005485-1772964000-1772967600@bodencoonrapids.com
SUMMARY:Eagle brook church virtual
DESCRIPTION:
URL:https://bodencoonrapids.com/event-calendar/eagle-brook-church-virtual-11/
CATEGORIES:Memory Care
END:VEVENT
BEGIN:VEVENT
DTSTART;TZID=America/Chicago:20260308T110000
DTEND;TZID=America/Chicago:20260308T120000
DTSTAMP:20260422T170115
CREATED:20260216T040611Z
LAST-MODIFIED:20260308T055048Z
UID:10005438-1772967600-1772971200@bodencoonrapids.com
SUMMARY:Chair Exercises/Linked Senior
DESCRIPTION:
URL:https://bodencoonrapids.com/event-calendar/chair-exercises-linked-senior-6/
CATEGORIES:Memory Care
END:VEVENT
BEGIN:VEVENT
DTSTART;TZID=America/Chicago:20260308T113000
DTEND;TZID=America/Chicago:20260308T123000
DTSTAMP:20260422T170115
CREATED:20260216T040611Z
LAST-MODIFIED:20260308T055048Z
UID:10005439-1772969400-1772973000@bodencoonrapids.com
SUMMARY:Oshibori
DESCRIPTION:
URL:https://bodencoonrapids.com/event-calendar/oshibori-142/
CATEGORIES:Memory Care
END:VEVENT
BEGIN:VEVENT
DTSTART;TZID=America/Chicago:20260308T120000
DTEND;TZID=America/Chicago:20260308T130000
DTSTAMP:20260422T170115
CREATED:20260217T040644Z
LAST-MODIFIED:20260308T055048Z
UID:10005444-1772971200-1772974800@bodencoonrapids.com
SUMMARY:Lunch
DESCRIPTION:
URL:https://bodencoonrapids.com/event-calendar/lunch-281/
CATEGORIES:Memory Care
END:VEVENT
BEGIN:VEVENT
DTSTART;TZID=America/Chicago:20260308T140000
DTEND;TZID=America/Chicago:20260308T160000
DTSTAMP:20260422T170115
CREATED:20260217T040644Z
LAST-MODIFIED:20260308T055048Z
UID:10005445-1772978400-1772985600@bodencoonrapids.com
SUMMARY:Snack and Social hour
DESCRIPTION:
URL:https://bodencoonrapids.com/event-calendar/snack-and-social-hour-41/
CATEGORIES:Memory Care
END:VEVENT
BEGIN:VEVENT
DTSTART;TZID=America/Chicago:20260308T150000
DTEND;TZID=America/Chicago:20260308T160000
DTSTAMP:20260422T170115
CREATED:20260217T040644Z
LAST-MODIFIED:20260308T055048Z
UID:10005446-1772982000-1772985600@bodencoonrapids.com
SUMMARY:Bingo/Activity Bin
DESCRIPTION:
URL:https://bodencoonrapids.com/event-calendar/bingo-activity-bin-10/
LOCATION:Dining Room
CATEGORIES:Memory Care
END:VEVENT
BEGIN:VEVENT
DTSTART;TZID=America/Chicago:20260308T163000
DTEND;TZID=America/Chicago:20260308T173000
DTSTAMP:20260422T170115
CREATED:20260217T040644Z
LAST-MODIFIED:20260308T055048Z
UID:10005447-1772987400-1772991000@bodencoonrapids.com
SUMMARY:Oshibori
DESCRIPTION:
URL:https://bodencoonrapids.com/event-calendar/oshibori-143/
CATEGORIES:Memory Care
END:VEVENT
BEGIN:VEVENT
DTSTART;TZID=America/Chicago:20260308T170000
DTEND;TZID=America/Chicago:20260308T180000
DTSTAMP:20260422T170115
CREATED:20260217T040644Z
LAST-MODIFIED:20260308T055048Z
UID:10005448-1772989200-1772992800@bodencoonrapids.com
SUMMARY:Dinner
DESCRIPTION:
URL:https://bodencoonrapids.com/event-calendar/dinner-281/
CATEGORIES:Memory Care
END:VEVENT
BEGIN:VEVENT
DTSTART;TZID=America/Chicago:20260308T180000
DTEND;TZID=America/Chicago:20260308T190000
DTSTAMP:20260422T170115
CREATED:20260217T040644Z
LAST-MODIFIED:20260308T055100Z
UID:10005452-1772992800-1772996400@bodencoonrapids.com
SUMMARY:Visual Trivia/Linked Senior
DESCRIPTION:
URL:https://bodencoonrapids.com/event-calendar/visual-trivia-linked-senior-3/
CATEGORIES:Memory Care
END:VEVENT
BEGIN:VEVENT
DTSTART;TZID=America/Chicago:20260308T190000
DTEND;TZID=America/Chicago:20260308T200000
DTSTAMP:20260422T170115
CREATED:20260217T040644Z
LAST-MODIFIED:20260308T055100Z
UID:10005451-1772996400-1773000000@bodencoonrapids.com
SUMMARY:Evening Stretching/Activity Binder
DESCRIPTION:
URL:https://bodencoonrapids.com/event-calendar/evening-stretching-activity-binder-32/
CATEGORIES:Memory Care
END:VEVENT
BEGIN:VEVENT
DTSTART;TZID=America/Chicago:20260308T193000
DTEND;TZID=America/Chicago:20260308T203000
DTSTAMP:20260422T170115
CREATED:20260217T040645Z
LAST-MODIFIED:20260308T055100Z
UID:10005453-1772998200-1773001800@bodencoonrapids.com
SUMMARY:Coloring/Activity Bin
DESCRIPTION:
URL:https://bodencoonrapids.com/event-calendar/coloring-activity-bin-10/
LOCATION:Dining Room
CATEGORIES:Memory Care
END:VEVENT
BEGIN:VEVENT
DTSTART;TZID=America/Chicago:20260308T200000
DTEND;TZID=America/Chicago:20260308T210000
DTSTAMP:20260422T170115
CREATED:20260217T040644Z
LAST-MODIFIED:20260308T055100Z
UID:10005450-1773000000-1773003600@bodencoonrapids.com
SUMMARY:Snack
DESCRIPTION:
URL:https://bodencoonrapids.com/event-calendar/snack-58/
CATEGORIES:Memory Care
END:VEVENT
END:VCALENDAR