BEGIN:VCALENDAR
VERSION:2.0
PRODID:-//Boden Coon Rapids - ECPv6.11.2.1//NONSGML v1.0//EN
CALSCALE:GREGORIAN
METHOD:PUBLISH
X-WR-CALNAME:Boden Coon Rapids
X-ORIGINAL-URL:https://bodencoonrapids.com
X-WR-CALDESC:Events for Boden Coon Rapids
REFRESH-INTERVAL;VALUE=DURATION:PT1H
X-Robots-Tag:noindex
X-PUBLISHED-TTL:PT1H
BEGIN:VTIMEZONE
TZID:America/Chicago
BEGIN:DAYLIGHT
TZOFFSETFROM:-0600
TZOFFSETTO:-0500
TZNAME:CDT
DTSTART:20260308T080000
END:DAYLIGHT
BEGIN:STANDARD
TZOFFSETFROM:-0500
TZOFFSETTO:-0600
TZNAME:CST
DTSTART:20261101T070000
END:STANDARD
END:VTIMEZONE
BEGIN:VEVENT
DTSTART;VALUE=DATE:20260314
DTEND;VALUE=DATE:20260315
DTSTAMP:20260422T170140
CREATED:20260222T045052Z
LAST-MODIFIED:20260313T060550Z
UID:10005552-1773446400-1773532799@bodencoonrapids.com
SUMMARY:Always available activities
DESCRIPTION:
URL:https://bodencoonrapids.com/event-calendar/always-available-activities-321/
CATEGORIES:Memory Care
END:VEVENT
BEGIN:VEVENT
DTSTART;TZID=America/Chicago:20260314T080000
DTEND;TZID=America/Chicago:20260314T090000
DTSTAMP:20260422T170140
CREATED:20260223T045046Z
LAST-MODIFIED:20260314T062134Z
UID:10005559-1773475200-1773478800@bodencoonrapids.com
SUMMARY:Breakfast
DESCRIPTION:
URL:https://bodencoonrapids.com/event-calendar/breakfast-308/
CATEGORIES:Memory Care
END:VEVENT
BEGIN:VEVENT
DTSTART;TZID=America/Chicago:20260314T090000
DTEND;TZID=America/Chicago:20260314T100000
DTSTAMP:20260422T170140
CREATED:20260223T045046Z
LAST-MODIFIED:20260314T062135Z
UID:10005560-1773478800-1773482400@bodencoonrapids.com
SUMMARY:News Flash/Linked Senior
DESCRIPTION:
URL:https://bodencoonrapids.com/event-calendar/news-flash-linked-senior-37/
CATEGORIES:Memory Care
END:VEVENT
BEGIN:VEVENT
DTSTART;TZID=America/Chicago:20260314T103000
DTEND;TZID=America/Chicago:20260314T113000
DTSTAMP:20260422T170140
CREATED:20260223T045047Z
LAST-MODIFIED:20260314T062135Z
UID:10005563-1773484200-1773487800@bodencoonrapids.com
SUMMARY:Chair yoga/Linked Senior
DESCRIPTION:
URL:https://bodencoonrapids.com/event-calendar/chair-yoga-linked-senior-4/
CATEGORIES:Memory Care
END:VEVENT
BEGIN:VEVENT
DTSTART;TZID=America/Chicago:20260314T113000
DTEND;TZID=America/Chicago:20260314T123000
DTSTAMP:20260422T170140
CREATED:20260223T045047Z
LAST-MODIFIED:20260314T062135Z
UID:10005562-1773487800-1773491400@bodencoonrapids.com
SUMMARY:Oshibori
DESCRIPTION:
URL:https://bodencoonrapids.com/event-calendar/oshibori-154/
CATEGORIES:Memory Care
END:VEVENT
BEGIN:VEVENT
DTSTART;TZID=America/Chicago:20260314T120000
DTEND;TZID=America/Chicago:20260314T130000
DTSTAMP:20260422T170140
CREATED:20260223T045046Z
LAST-MODIFIED:20260314T062135Z
UID:10005561-1773489600-1773493200@bodencoonrapids.com
SUMMARY:Lunch
DESCRIPTION:
URL:https://bodencoonrapids.com/event-calendar/lunch-287/
CATEGORIES:Memory Care
END:VEVENT
BEGIN:VEVENT
DTSTART;TZID=America/Chicago:20260314T130000
DTEND;TZID=America/Chicago:20260314T140000
DTSTAMP:20260422T170140
CREATED:20260223T045047Z
LAST-MODIFIED:20260314T062135Z
UID:10005564-1773493200-1773496800@bodencoonrapids.com
SUMMARY:Bowling
DESCRIPTION:
URL:https://bodencoonrapids.com/event-calendar/bowling-11/
CATEGORIES:Memory Care
END:VEVENT
BEGIN:VEVENT
DTSTART;TZID=America/Chicago:20260314T140000
DTEND;TZID=America/Chicago:20260314T160000
DTSTAMP:20260422T170140
CREATED:20260223T045047Z
LAST-MODIFIED:20260314T062135Z
UID:10005565-1773496800-1773504000@bodencoonrapids.com
SUMMARY:Snack and Social hour
DESCRIPTION:
URL:https://bodencoonrapids.com/event-calendar/snack-and-social-hour-47/
CATEGORIES:Memory Care
END:VEVENT
BEGIN:VEVENT
DTSTART;TZID=America/Chicago:20260314T150000
DTEND;TZID=America/Chicago:20260314T160000
DTSTAMP:20260422T170140
CREATED:20260223T045047Z
LAST-MODIFIED:20260314T062135Z
UID:10005566-1773500400-1773504000@bodencoonrapids.com
SUMMARY:Fresh baked PIE!
DESCRIPTION:
URL:https://bodencoonrapids.com/event-calendar/fresh-baked-pie-9/
CATEGORIES:Memory Care
END:VEVENT
BEGIN:VEVENT
DTSTART;TZID=America/Chicago:20260314T163000
DTEND;TZID=America/Chicago:20260314T173000
DTSTAMP:20260422T170140
CREATED:20260223T045047Z
LAST-MODIFIED:20260314T062135Z
UID:10005567-1773505800-1773509400@bodencoonrapids.com
SUMMARY:Oshibori
DESCRIPTION:
URL:https://bodencoonrapids.com/event-calendar/oshibori-155/
CATEGORIES:Memory Care
END:VEVENT
BEGIN:VEVENT
DTSTART;TZID=America/Chicago:20260314T170000
DTEND;TZID=America/Chicago:20260314T180000
DTSTAMP:20260422T170140
CREATED:20260223T045047Z
LAST-MODIFIED:20260314T062135Z
UID:10005568-1773507600-1773511200@bodencoonrapids.com
SUMMARY:Dinner
DESCRIPTION:
URL:https://bodencoonrapids.com/event-calendar/dinner-287/
CATEGORIES:Memory Care
END:VEVENT
BEGIN:VEVENT
DTSTART;TZID=America/Chicago:20260314T190000
DTEND;TZID=America/Chicago:20260314T200000
DTSTAMP:20260422T170140
CREATED:20260223T045047Z
LAST-MODIFIED:20260314T062135Z
UID:10005569-1773514800-1773518400@bodencoonrapids.com
SUMMARY:Evening Stretching/Activity Binder
DESCRIPTION:
URL:https://bodencoonrapids.com/event-calendar/evening-stretching-activity-binder-38/
CATEGORIES:Memory Care
END:VEVENT
BEGIN:VEVENT
DTSTART;TZID=America/Chicago:20260314T193000
DTEND;TZID=America/Chicago:20260314T203000
DTSTAMP:20260422T170140
CREATED:20260223T045047Z
LAST-MODIFIED:20260314T062135Z
UID:10005571-1773516600-1773520200@bodencoonrapids.com
SUMMARY:Coloring/Activity Bin
DESCRIPTION:
URL:https://bodencoonrapids.com/event-calendar/coloring-activity-bin-11/
LOCATION:Dining Room
CATEGORIES:Memory Care
END:VEVENT
BEGIN:VEVENT
DTSTART;TZID=America/Chicago:20260314T200000
DTEND;TZID=America/Chicago:20260314T210000
DTSTAMP:20260422T170140
CREATED:20260223T045047Z
LAST-MODIFIED:20260314T062135Z
UID:10005572-1773518400-1773522000@bodencoonrapids.com
SUMMARY:Snack
DESCRIPTION:
URL:https://bodencoonrapids.com/event-calendar/snack-64/
CATEGORIES:Memory Care
END:VEVENT
END:VCALENDAR