BEGIN:VCALENDAR
VERSION:2.0
PRODID:-//Boden Coon Rapids - ECPv6.11.2.1//NONSGML v1.0//EN
CALSCALE:GREGORIAN
METHOD:PUBLISH
X-ORIGINAL-URL:https://bodencoonrapids.com
X-WR-CALDESC:Events for Boden Coon Rapids
REFRESH-INTERVAL;VALUE=DURATION:PT1H
X-Robots-Tag:noindex
X-PUBLISHED-TTL:PT1H
BEGIN:VTIMEZONE
TZID:America/Chicago
BEGIN:DAYLIGHT
TZOFFSETFROM:-0600
TZOFFSETTO:-0500
TZNAME:CDT
DTSTART:20260308T080000
END:DAYLIGHT
BEGIN:STANDARD
TZOFFSETFROM:-0500
TZOFFSETTO:-0600
TZNAME:CST
DTSTART:20261101T070000
END:STANDARD
END:VTIMEZONE
BEGIN:VEVENT
DTSTART;VALUE=DATE:20260319
DTEND;VALUE=DATE:20260320
DTSTAMP:20260422T165551
CREATED:20260227T052050Z
LAST-MODIFIED:20260318T062048Z
UID:10005647-1773878400-1773964799@bodencoonrapids.com
SUMMARY:Always available activities
DESCRIPTION:
URL:https://bodencoonrapids.com/event-calendar/always-available-activities-326/
CATEGORIES:Memory Care
END:VEVENT
BEGIN:VEVENT
DTSTART;TZID=America/Chicago:20260319T080000
DTEND;TZID=America/Chicago:20260319T090000
DTSTAMP:20260422T165551
CREATED:20260227T052050Z
LAST-MODIFIED:20260319T062035Z
UID:10005650-1773907200-1773910800@bodencoonrapids.com
SUMMARY:Breakfast
DESCRIPTION:
URL:https://bodencoonrapids.com/event-calendar/breakfast-313/
CATEGORIES:Memory Care
END:VEVENT
BEGIN:VEVENT
DTSTART;TZID=America/Chicago:20260319T090000
DTEND;TZID=America/Chicago:20260319T100000
DTSTAMP:20260422T165551
CREATED:20260227T052050Z
LAST-MODIFIED:20260319T062035Z
UID:10005649-1773910800-1773914400@bodencoonrapids.com
SUMMARY:News Flash/Linked Senior
DESCRIPTION:
URL:https://bodencoonrapids.com/event-calendar/news-flash-linked-senior-42/
CATEGORIES:Memory Care
END:VEVENT
BEGIN:VEVENT
DTSTART;TZID=America/Chicago:20260319T110000
DTEND;TZID=America/Chicago:20260319T120000
DTSTAMP:20260422T165551
CREATED:20260227T052050Z
LAST-MODIFIED:20260319T062035Z
UID:10005651-1773918000-1773921600@bodencoonrapids.com
SUMMARY:Exercise Class
DESCRIPTION:
URL:https://bodencoonrapids.com/event-calendar/exercise-class-11/
CATEGORIES:Memory Care
END:VEVENT
BEGIN:VEVENT
DTSTART;TZID=America/Chicago:20260319T113000
DTEND;TZID=America/Chicago:20260319T123000
DTSTAMP:20260422T165551
CREATED:20260228T052048Z
LAST-MODIFIED:20260319T062035Z
UID:10005683-1773919800-1773923400@bodencoonrapids.com
SUMMARY:Oshibori
DESCRIPTION:
URL:https://bodencoonrapids.com/event-calendar/oshibori-164/
CATEGORIES:Memory Care
END:VEVENT
BEGIN:VEVENT
DTSTART;TZID=America/Chicago:20260319T120000
DTEND;TZID=America/Chicago:20260319T130000
DTSTAMP:20260422T165551
CREATED:20260228T052048Z
LAST-MODIFIED:20260319T062035Z
UID:10005682-1773921600-1773925200@bodencoonrapids.com
SUMMARY:Lunch
DESCRIPTION:
URL:https://bodencoonrapids.com/event-calendar/lunch-292/
CATEGORIES:Memory Care
END:VEVENT
BEGIN:VEVENT
DTSTART;TZID=America/Chicago:20260319T130000
DTEND;TZID=America/Chicago:20260319T140000
DTSTAMP:20260422T165551
CREATED:20260228T052048Z
LAST-MODIFIED:20260319T062035Z
UID:10005684-1773925200-1773928800@bodencoonrapids.com
SUMMARY:Stick Man Word Games/Linked Senior
DESCRIPTION:
URL:https://bodencoonrapids.com/event-calendar/stick-man-word-games-linked-senior-4/
CATEGORIES:Memory Care
END:VEVENT
BEGIN:VEVENT
DTSTART;TZID=America/Chicago:20260319T133000
DTEND;TZID=America/Chicago:20260319T143000
DTSTAMP:20260422T165551
CREATED:20260228T052048Z
LAST-MODIFIED:20260319T062035Z
UID:10005685-1773927000-1773930600@bodencoonrapids.com
SUMMARY:Jokin around/Linked Senior
DESCRIPTION:
URL:https://bodencoonrapids.com/event-calendar/jokin-around-linked-senior-7/
CATEGORIES:Memory Care
END:VEVENT
BEGIN:VEVENT
DTSTART;TZID=America/Chicago:20260319T140000
DTEND;TZID=America/Chicago:20260319T160000
DTSTAMP:20260422T165551
CREATED:20260228T052048Z
LAST-MODIFIED:20260319T062035Z
UID:10005686-1773928800-1773936000@bodencoonrapids.com
SUMMARY:Snack and Social hour
DESCRIPTION:
URL:https://bodencoonrapids.com/event-calendar/snack-and-social-hour-52/
CATEGORIES:Memory Care
END:VEVENT
BEGIN:VEVENT
DTSTART;TZID=America/Chicago:20260319T153000
DTEND;TZID=America/Chicago:20260319T163000
DTSTAMP:20260422T165551
CREATED:20260228T052048Z
LAST-MODIFIED:20260319T062035Z
UID:10005687-1773934200-1773937800@bodencoonrapids.com
SUMMARY:Thirsty Thursday
DESCRIPTION:
URL:https://bodencoonrapids.com/event-calendar/thirsty-thursday-34/
CATEGORIES:Memory Care
END:VEVENT
BEGIN:VEVENT
DTSTART;TZID=America/Chicago:20260319T163000
DTEND;TZID=America/Chicago:20260319T173000
DTSTAMP:20260422T165551
CREATED:20260228T052048Z
LAST-MODIFIED:20260319T062046Z
UID:10005688-1773937800-1773941400@bodencoonrapids.com
SUMMARY:Oshibori
DESCRIPTION:
URL:https://bodencoonrapids.com/event-calendar/oshibori-165/
CATEGORIES:Memory Care
END:VEVENT
BEGIN:VEVENT
DTSTART;TZID=America/Chicago:20260319T170000
DTEND;TZID=America/Chicago:20260319T180000
DTSTAMP:20260422T165551
CREATED:20260228T052048Z
LAST-MODIFIED:20260319T062046Z
UID:10005689-1773939600-1773943200@bodencoonrapids.com
SUMMARY:Dinner
DESCRIPTION:
URL:https://bodencoonrapids.com/event-calendar/dinner-292/
CATEGORIES:Memory Care
END:VEVENT
BEGIN:VEVENT
DTSTART;TZID=America/Chicago:20260319T173000
DTEND;TZID=America/Chicago:20260319T183000
DTSTAMP:20260422T165551
CREATED:20260228T052048Z
LAST-MODIFIED:20260319T062046Z
UID:10005690-1773941400-1773945000@bodencoonrapids.com
SUMMARY:Balloon toss game
DESCRIPTION:
URL:https://bodencoonrapids.com/event-calendar/balloon-toss-game-6/
CATEGORIES:Memory Care
END:VEVENT
BEGIN:VEVENT
DTSTART;TZID=America/Chicago:20260319T180000
DTEND;TZID=America/Chicago:20260319T190000
DTSTAMP:20260422T165551
CREATED:20260228T052048Z
LAST-MODIFIED:20260319T062035Z
UID:10005691-1773943200-1773946800@bodencoonrapids.com
SUMMARY:Wheel of Fortune/Linked Senior
DESCRIPTION:
URL:https://bodencoonrapids.com/event-calendar/wheel-of-fortune-linked-senior-7/
CATEGORIES:Memory Care
END:VEVENT
BEGIN:VEVENT
DTSTART;TZID=America/Chicago:20260319T190000
DTEND;TZID=America/Chicago:20260319T200000
DTSTAMP:20260422T165551
CREATED:20260228T052048Z
LAST-MODIFIED:20260319T062046Z
UID:10005692-1773946800-1773950400@bodencoonrapids.com
SUMMARY:Evening Stretching/Activity Binder
DESCRIPTION:
URL:https://bodencoonrapids.com/event-calendar/evening-stretching-activity-binder-43/
CATEGORIES:Memory Care
END:VEVENT
END:VCALENDAR