BEGIN:VCALENDAR
VERSION:2.0
PRODID:-//Boden Coon Rapids - ECPv6.11.2.1//NONSGML v1.0//EN
CALSCALE:GREGORIAN
METHOD:PUBLISH
X-WR-CALNAME:Boden Coon Rapids
X-ORIGINAL-URL:https://bodencoonrapids.com
X-WR-CALDESC:Events for Boden Coon Rapids
REFRESH-INTERVAL;VALUE=DURATION:PT1H
X-Robots-Tag:noindex
X-PUBLISHED-TTL:PT1H
BEGIN:VTIMEZONE
TZID:America/Chicago
BEGIN:DAYLIGHT
TZOFFSETFROM:-0600
TZOFFSETTO:-0500
TZNAME:CDT
DTSTART:20260308T080000
END:DAYLIGHT
BEGIN:STANDARD
TZOFFSETFROM:-0500
TZOFFSETTO:-0600
TZNAME:CST
DTSTART:20261101T070000
END:STANDARD
END:VTIMEZONE
BEGIN:VEVENT
DTSTART;VALUE=DATE:20260321
DTEND;VALUE=DATE:20260322
DTSTAMP:20260422T170237
CREATED:20260301T053546Z
LAST-MODIFIED:20260320T063603Z
UID:10005709-1774051200-1774137599@bodencoonrapids.com
SUMMARY:Always available activities
DESCRIPTION:
URL:https://bodencoonrapids.com/event-calendar/always-available-activities-328/
CATEGORIES:Memory Care
END:VEVENT
BEGIN:VEVENT
DTSTART;TZID=America/Chicago:20260321T080000
DTEND;TZID=America/Chicago:20260321T090000
DTSTAMP:20260422T170237
CREATED:20260301T053546Z
LAST-MODIFIED:20260321T063634Z
UID:10005711-1774080000-1774083600@bodencoonrapids.com
SUMMARY:Breakfast
DESCRIPTION:
URL:https://bodencoonrapids.com/event-calendar/breakfast-315/
CATEGORIES:Memory Care
END:VEVENT
BEGIN:VEVENT
DTSTART;TZID=America/Chicago:20260321T090000
DTEND;TZID=America/Chicago:20260321T100000
DTSTAMP:20260422T170237
CREATED:20260301T053546Z
LAST-MODIFIED:20260321T063634Z
UID:10005712-1774083600-1774087200@bodencoonrapids.com
SUMMARY:News Flash/Linked Senior
DESCRIPTION:
URL:https://bodencoonrapids.com/event-calendar/news-flash-linked-senior-44/
CATEGORIES:Memory Care
END:VEVENT
BEGIN:VEVENT
DTSTART;TZID=America/Chicago:20260321T103000
DTEND;TZID=America/Chicago:20260321T113000
DTSTAMP:20260422T170237
CREATED:20260302T053548Z
LAST-MODIFIED:20260321T063634Z
UID:10005717-1774089000-1774092600@bodencoonrapids.com
SUMMARY:Chair yoga/Linked Senior
DESCRIPTION:
URL:https://bodencoonrapids.com/event-calendar/chair-yoga-linked-senior-5/
CATEGORIES:Memory Care
END:VEVENT
BEGIN:VEVENT
DTSTART;TZID=America/Chicago:20260321T113000
DTEND;TZID=America/Chicago:20260321T123000
DTSTAMP:20260422T170237
CREATED:20260302T053548Z
LAST-MODIFIED:20260321T063634Z
UID:10005716-1774092600-1774096200@bodencoonrapids.com
SUMMARY:Oshibori
DESCRIPTION:
URL:https://bodencoonrapids.com/event-calendar/oshibori-168/
CATEGORIES:Memory Care
END:VEVENT
BEGIN:VEVENT
DTSTART;TZID=America/Chicago:20260321T120000
DTEND;TZID=America/Chicago:20260321T130000
DTSTAMP:20260422T170237
CREATED:20260302T053548Z
LAST-MODIFIED:20260321T063634Z
UID:10005715-1774094400-1774098000@bodencoonrapids.com
SUMMARY:Lunch
DESCRIPTION:
URL:https://bodencoonrapids.com/event-calendar/lunch-294/
CATEGORIES:Memory Care
END:VEVENT
BEGIN:VEVENT
DTSTART;TZID=America/Chicago:20260321T140000
DTEND;TZID=America/Chicago:20260321T160000
DTSTAMP:20260422T170237
CREATED:20260302T053548Z
LAST-MODIFIED:20260321T063634Z
UID:10005718-1774101600-1774108800@bodencoonrapids.com
SUMMARY:Snack and Social hour
DESCRIPTION:
URL:https://bodencoonrapids.com/event-calendar/snack-and-social-hour-54/
CATEGORIES:Memory Care
END:VEVENT
BEGIN:VEVENT
DTSTART;TZID=America/Chicago:20260321T150000
DTEND;TZID=America/Chicago:20260321T160000
DTSTAMP:20260422T170237
CREATED:20260302T053548Z
LAST-MODIFIED:20260319T062035Z
UID:10005719-1774105200-1774108800@bodencoonrapids.com
SUMMARY:Fresh baked PIE!
DESCRIPTION:
URL:https://bodencoonrapids.com/event-calendar/fresh-baked-pie-10/
CATEGORIES:Memory Care
END:VEVENT
BEGIN:VEVENT
DTSTART;TZID=America/Chicago:20260321T163000
DTEND;TZID=America/Chicago:20260321T173000
DTSTAMP:20260422T170237
CREATED:20260302T053548Z
LAST-MODIFIED:20260321T063634Z
UID:10005720-1774110600-1774114200@bodencoonrapids.com
SUMMARY:Oshibori
DESCRIPTION:
URL:https://bodencoonrapids.com/event-calendar/oshibori-169/
CATEGORIES:Memory Care
END:VEVENT
BEGIN:VEVENT
DTSTART;TZID=America/Chicago:20260321T170000
DTEND;TZID=America/Chicago:20260321T180000
DTSTAMP:20260422T170237
CREATED:20260302T053548Z
LAST-MODIFIED:20260321T063634Z
UID:10005721-1774112400-1774116000@bodencoonrapids.com
SUMMARY:Dinner
DESCRIPTION:
URL:https://bodencoonrapids.com/event-calendar/dinner-294/
CATEGORIES:Memory Care
END:VEVENT
BEGIN:VEVENT
DTSTART;TZID=America/Chicago:20260321T190000
DTEND;TZID=America/Chicago:20260321T200000
DTSTAMP:20260422T170237
CREATED:20260302T053549Z
LAST-MODIFIED:20260321T063634Z
UID:10005722-1774119600-1774123200@bodencoonrapids.com
SUMMARY:Evening Stretching/Activity Binder
DESCRIPTION:
URL:https://bodencoonrapids.com/event-calendar/evening-stretching-activity-binder-45/
CATEGORIES:Memory Care
END:VEVENT
BEGIN:VEVENT
DTSTART;TZID=America/Chicago:20260321T193000
DTEND;TZID=America/Chicago:20260321T203000
DTSTAMP:20260422T170237
CREATED:20260302T053549Z
LAST-MODIFIED:20260321T063635Z
UID:10005724-1774121400-1774125000@bodencoonrapids.com
SUMMARY:Coloring/Activity Bin
DESCRIPTION:
URL:https://bodencoonrapids.com/event-calendar/coloring-activity-bin-13/
LOCATION:Dining Room
CATEGORIES:Memory Care
END:VEVENT
END:VCALENDAR