BEGIN:VCALENDAR
VERSION:2.0
PRODID:-//Boden Coon Rapids - ECPv6.11.2.1//NONSGML v1.0//EN
CALSCALE:GREGORIAN
METHOD:PUBLISH
X-WR-CALNAME:Boden Coon Rapids
X-ORIGINAL-URL:https://bodencoonrapids.com
X-WR-CALDESC:Events for Boden Coon Rapids
REFRESH-INTERVAL;VALUE=DURATION:PT1H
X-Robots-Tag:noindex
X-PUBLISHED-TTL:PT1H
BEGIN:VTIMEZONE
TZID:America/Chicago
BEGIN:DAYLIGHT
TZOFFSETFROM:-0600
TZOFFSETTO:-0500
TZNAME:CDT
DTSTART:20260308T080000
END:DAYLIGHT
BEGIN:STANDARD
TZOFFSETFROM:-0500
TZOFFSETTO:-0600
TZNAME:CST
DTSTART:20261101T070000
END:STANDARD
END:VTIMEZONE
BEGIN:VEVENT
DTSTART;VALUE=DATE:20260510
DTEND;VALUE=DATE:20260511
DTSTAMP:20260422T164811
CREATED:20260417T083547Z
LAST-MODIFIED:20260422T083548Z
UID:10006516-1778371200-1778457599@bodencoonrapids.com
SUMMARY:Always available activities
DESCRIPTION:
URL:https://bodencoonrapids.com/event-calendar/always-available-activities-378/
CATEGORIES:Memory Care
END:VEVENT
BEGIN:VEVENT
DTSTART;TZID=America/Chicago:20260510T080000
DTEND;TZID=America/Chicago:20260510T090000
DTSTAMP:20260422T164811
CREATED:20260417T083547Z
LAST-MODIFIED:20260422T083548Z
UID:10006518-1778400000-1778403600@bodencoonrapids.com
SUMMARY:Breakfast
DESCRIPTION:
URL:https://bodencoonrapids.com/event-calendar/breakfast-365/
CATEGORIES:Memory Care
END:VEVENT
BEGIN:VEVENT
DTSTART;TZID=America/Chicago:20260510T090000
DTEND;TZID=America/Chicago:20260510T100000
DTSTAMP:20260422T164811
CREATED:20260417T083547Z
LAST-MODIFIED:20260422T083548Z
UID:10006519-1778403600-1778407200@bodencoonrapids.com
SUMMARY:News Flash/Linked Senior
DESCRIPTION:
URL:https://bodencoonrapids.com/event-calendar/news-flash-linked-senior-94/
CATEGORIES:Memory Care
END:VEVENT
BEGIN:VEVENT
DTSTART;TZID=America/Chicago:20260510T100000
DTEND;TZID=America/Chicago:20260510T110000
DTSTAMP:20260422T164811
CREATED:20260417T083547Z
LAST-MODIFIED:20260422T083548Z
UID:10006520-1778407200-1778410800@bodencoonrapids.com
SUMMARY:Eagle brook church virtual
DESCRIPTION:
URL:https://bodencoonrapids.com/event-calendar/eagle-brook-church-virtual-20/
CATEGORIES:Memory Care
END:VEVENT
BEGIN:VEVENT
DTSTART;TZID=America/Chicago:20260510T113000
DTEND;TZID=America/Chicago:20260510T123000
DTSTAMP:20260422T164811
CREATED:20260417T083548Z
LAST-MODIFIED:20260422T083548Z
UID:10006521-1778412600-1778416200@bodencoonrapids.com
SUMMARY:Oshibori
DESCRIPTION:
URL:https://bodencoonrapids.com/event-calendar/oshibori-268/
CATEGORIES:Memory Care
END:VEVENT
BEGIN:VEVENT
DTSTART;TZID=America/Chicago:20260510T120000
DTEND;TZID=America/Chicago:20260510T130000
DTSTAMP:20260422T164811
CREATED:20260417T083548Z
LAST-MODIFIED:20260422T083548Z
UID:10006522-1778414400-1778418000@bodencoonrapids.com
SUMMARY:Lunch
DESCRIPTION:
URL:https://bodencoonrapids.com/event-calendar/lunch-344/
CATEGORIES:Memory Care
END:VEVENT
BEGIN:VEVENT
DTSTART;TZID=America/Chicago:20260510T140000
DTEND;TZID=America/Chicago:20260510T160000
DTSTAMP:20260422T164811
CREATED:20260417T083548Z
LAST-MODIFIED:20260422T083548Z
UID:10006523-1778421600-1778428800@bodencoonrapids.com
SUMMARY:Snack and Social hour
DESCRIPTION:
URL:https://bodencoonrapids.com/event-calendar/snack-and-social-hour-104/
CATEGORIES:Memory Care
END:VEVENT
BEGIN:VEVENT
DTSTART;TZID=America/Chicago:20260510T150000
DTEND;TZID=America/Chicago:20260510T160000
DTSTAMP:20260422T164811
CREATED:20260418T083549Z
LAST-MODIFIED:20260422T083548Z
UID:10006526-1778425200-1778428800@bodencoonrapids.com
SUMMARY:Bingo/Activity Bin
DESCRIPTION:
URL:https://bodencoonrapids.com/event-calendar/bingo-activity-bin-28/
LOCATION:Dining Room
CATEGORIES:Memory Care
END:VEVENT
BEGIN:VEVENT
DTSTART;TZID=America/Chicago:20260510T163000
DTEND;TZID=America/Chicago:20260510T173000
DTSTAMP:20260422T164811
CREATED:20260418T083549Z
LAST-MODIFIED:20260422T083548Z
UID:10006527-1778430600-1778434200@bodencoonrapids.com
SUMMARY:Oshibori
DESCRIPTION:
URL:https://bodencoonrapids.com/event-calendar/oshibori-269/
CATEGORIES:Memory Care
END:VEVENT
BEGIN:VEVENT
DTSTART;TZID=America/Chicago:20260510T170000
DTEND;TZID=America/Chicago:20260510T180000
DTSTAMP:20260422T164811
CREATED:20260418T083549Z
LAST-MODIFIED:20260422T083548Z
UID:10006528-1778432400-1778436000@bodencoonrapids.com
SUMMARY:Dinner
DESCRIPTION:
URL:https://bodencoonrapids.com/event-calendar/dinner-344/
CATEGORIES:Memory Care
END:VEVENT
BEGIN:VEVENT
DTSTART;TZID=America/Chicago:20260510T190000
DTEND;TZID=America/Chicago:20260510T200000
DTSTAMP:20260422T164811
CREATED:20260418T083549Z
LAST-MODIFIED:20260422T083548Z
UID:10006529-1778439600-1778443200@bodencoonrapids.com
SUMMARY:Evening Stretching/Activity Binder
DESCRIPTION:
URL:https://bodencoonrapids.com/event-calendar/evening-stretching-activity-binder-95/
CATEGORIES:Memory Care
END:VEVENT
BEGIN:VEVENT
DTSTART;TZID=America/Chicago:20260510T193000
DTEND;TZID=America/Chicago:20260510T203000
DTSTAMP:20260422T164811
CREATED:20260418T083549Z
LAST-MODIFIED:20260422T083548Z
UID:10006531-1778441400-1778445000@bodencoonrapids.com
SUMMARY:Coloring/Activity Bin
DESCRIPTION:
URL:https://bodencoonrapids.com/event-calendar/coloring-activity-bin-28/
LOCATION:Dining Room
CATEGORIES:Memory Care
END:VEVENT
END:VCALENDAR