BEGIN:VCALENDAR
VERSION:2.0
PRODID:-//Boden Coon Rapids - ECPv6.11.2.1//NONSGML v1.0//EN
CALSCALE:GREGORIAN
METHOD:PUBLISH
X-WR-CALNAME:Boden Coon Rapids
X-ORIGINAL-URL:https://bodencoonrapids.com
X-WR-CALDESC:Events for Boden Coon Rapids
REFRESH-INTERVAL;VALUE=DURATION:PT1H
X-Robots-Tag:noindex
X-PUBLISHED-TTL:PT1H
BEGIN:VTIMEZONE
TZID:America/Chicago
BEGIN:DAYLIGHT
TZOFFSETFROM:-0600
TZOFFSETTO:-0500
TZNAME:CDT
DTSTART:20260308T080000
END:DAYLIGHT
BEGIN:STANDARD
TZOFFSETFROM:-0500
TZOFFSETTO:-0600
TZNAME:CST
DTSTART:20261101T070000
END:STANDARD
END:VTIMEZONE
BEGIN:VEVENT
DTSTART;VALUE=DATE:20260511
DTEND;VALUE=DATE:20260512
DTSTAMP:20260422T164858
CREATED:20260418T083549Z
LAST-MODIFIED:20260422T083548Z
UID:10006530-1778457600-1778543999@bodencoonrapids.com
SUMMARY:Always available activities
DESCRIPTION:
URL:https://bodencoonrapids.com/event-calendar/always-available-activities-379/
CATEGORIES:Memory Care
END:VEVENT
BEGIN:VEVENT
DTSTART;TZID=America/Chicago:20260511T080000
DTEND;TZID=America/Chicago:20260511T090000
DTSTAMP:20260422T164858
CREATED:20260418T083550Z
LAST-MODIFIED:20260422T083548Z
UID:10006532-1778486400-1778490000@bodencoonrapids.com
SUMMARY:Breakfast
DESCRIPTION:
URL:https://bodencoonrapids.com/event-calendar/breakfast-366/
CATEGORIES:Memory Care
END:VEVENT
BEGIN:VEVENT
DTSTART;TZID=America/Chicago:20260511T090000
DTEND;TZID=America/Chicago:20260511T100000
DTSTAMP:20260422T164858
CREATED:20260418T083550Z
LAST-MODIFIED:20260422T083548Z
UID:10006533-1778490000-1778493600@bodencoonrapids.com
SUMMARY:News Flash/Linked Senior
DESCRIPTION:
URL:https://bodencoonrapids.com/event-calendar/news-flash-linked-senior-95/
CATEGORIES:Memory Care
END:VEVENT
BEGIN:VEVENT
DTSTART;TZID=America/Chicago:20260511T110000
DTEND;TZID=America/Chicago:20260511T120000
DTSTAMP:20260422T164858
CREATED:20260418T083550Z
LAST-MODIFIED:20260422T083548Z
UID:10006536-1778497200-1778500800@bodencoonrapids.com
SUMMARY:Exercise/Weights/Activity Binder
DESCRIPTION:
URL:https://bodencoonrapids.com/event-calendar/exercise-weights-activity-binder-14/
CATEGORIES:Memory Care
END:VEVENT
BEGIN:VEVENT
DTSTART;TZID=America/Chicago:20260511T113000
DTEND;TZID=America/Chicago:20260511T123000
DTSTAMP:20260422T164858
CREATED:20260418T083550Z
LAST-MODIFIED:20260422T083548Z
UID:10006535-1778499000-1778502600@bodencoonrapids.com
SUMMARY:Oshibori
DESCRIPTION:
URL:https://bodencoonrapids.com/event-calendar/oshibori-270/
CATEGORIES:Memory Care
END:VEVENT
BEGIN:VEVENT
DTSTART;TZID=America/Chicago:20260511T120000
DTEND;TZID=America/Chicago:20260511T130000
DTSTAMP:20260422T164858
CREATED:20260418T083550Z
LAST-MODIFIED:20260422T083549Z
UID:10006534-1778500800-1778504400@bodencoonrapids.com
SUMMARY:Lunch
DESCRIPTION:
URL:https://bodencoonrapids.com/event-calendar/lunch-345/
CATEGORIES:Memory Care
END:VEVENT
BEGIN:VEVENT
DTSTART;TZID=America/Chicago:20260511T140000
DTEND;TZID=America/Chicago:20260511T160000
DTSTAMP:20260422T164858
CREATED:20260418T083550Z
LAST-MODIFIED:20260422T083549Z
UID:10006537-1778508000-1778515200@bodencoonrapids.com
SUMMARY:Snack and Social hour
DESCRIPTION:
URL:https://bodencoonrapids.com/event-calendar/snack-and-social-hour-105/
CATEGORIES:Memory Care
END:VEVENT
BEGIN:VEVENT
DTSTART;TZID=America/Chicago:20260511T163000
DTEND;TZID=America/Chicago:20260511T173000
DTSTAMP:20260422T164858
CREATED:20260418T083550Z
LAST-MODIFIED:20260422T083549Z
UID:10006538-1778517000-1778520600@bodencoonrapids.com
SUMMARY:Oshibori
DESCRIPTION:
URL:https://bodencoonrapids.com/event-calendar/oshibori-271/
CATEGORIES:Memory Care
END:VEVENT
BEGIN:VEVENT
DTSTART;TZID=America/Chicago:20260511T170000
DTEND;TZID=America/Chicago:20260511T180000
DTSTAMP:20260422T164858
CREATED:20260419T083549Z
LAST-MODIFIED:20260422T083549Z
UID:10006542-1778518800-1778522400@bodencoonrapids.com
SUMMARY:Dinner
DESCRIPTION:
URL:https://bodencoonrapids.com/event-calendar/dinner-345/
CATEGORIES:Memory Care
END:VEVENT
BEGIN:VEVENT
DTSTART;TZID=America/Chicago:20260511T190000
DTEND;TZID=America/Chicago:20260511T200000
DTSTAMP:20260422T164858
CREATED:20260419T083549Z
LAST-MODIFIED:20260422T083549Z
UID:10006543-1778526000-1778529600@bodencoonrapids.com
SUMMARY:Evening Stretching/Activity Binder
DESCRIPTION:
URL:https://bodencoonrapids.com/event-calendar/evening-stretching-activity-binder-96/
CATEGORIES:Memory Care
END:VEVENT
BEGIN:VEVENT
DTSTART;TZID=America/Chicago:20260511T193000
DTEND;TZID=America/Chicago:20260511T203000
DTSTAMP:20260422T164858
CREATED:20260419T083549Z
LAST-MODIFIED:20260422T083549Z
UID:10006545-1778527800-1778531400@bodencoonrapids.com
SUMMARY:Sing a long/Books
DESCRIPTION:
URL:https://bodencoonrapids.com/event-calendar/sing-a-long-books-41/
LOCATION:Living Room
CATEGORIES:Memory Care
END:VEVENT
END:VCALENDAR