BEGIN:VCALENDAR
VERSION:2.0
PRODID:-//Boden Coon Rapids - ECPv6.11.2.1//NONSGML v1.0//EN
CALSCALE:GREGORIAN
METHOD:PUBLISH
X-WR-CALNAME:Boden Coon Rapids
X-ORIGINAL-URL:https://bodencoonrapids.com
X-WR-CALDESC:Events for Boden Coon Rapids
REFRESH-INTERVAL;VALUE=DURATION:PT1H
X-Robots-Tag:noindex
X-PUBLISHED-TTL:PT1H
BEGIN:VTIMEZONE
TZID:America/Chicago
BEGIN:DAYLIGHT
TZOFFSETFROM:-0600
TZOFFSETTO:-0500
TZNAME:CDT
DTSTART:20260308T080000
END:DAYLIGHT
BEGIN:STANDARD
TZOFFSETFROM:-0500
TZOFFSETTO:-0600
TZNAME:CST
DTSTART:20261101T070000
END:STANDARD
END:VTIMEZONE
BEGIN:VEVENT
DTSTART;VALUE=DATE:20260512
DTEND;VALUE=DATE:20260513
DTSTAMP:20260422T164809
CREATED:20260419T083549Z
LAST-MODIFIED:20260422T083549Z
UID:10006544-1778544000-1778630399@bodencoonrapids.com
SUMMARY:Always available activities
DESCRIPTION:
URL:https://bodencoonrapids.com/event-calendar/always-available-activities-380/
CATEGORIES:Memory Care
END:VEVENT
BEGIN:VEVENT
DTSTART;TZID=America/Chicago:20260512T080000
DTEND;TZID=America/Chicago:20260512T090000
DTSTAMP:20260422T164809
CREATED:20260419T083549Z
LAST-MODIFIED:20260422T083549Z
UID:10006546-1778572800-1778576400@bodencoonrapids.com
SUMMARY:Breakfast
DESCRIPTION:
URL:https://bodencoonrapids.com/event-calendar/breakfast-367/
CATEGORIES:Memory Care
END:VEVENT
BEGIN:VEVENT
DTSTART;TZID=America/Chicago:20260512T090000
DTEND;TZID=America/Chicago:20260512T100000
DTSTAMP:20260422T164809
CREATED:20260419T083549Z
LAST-MODIFIED:20260422T083549Z
UID:10006547-1778576400-1778580000@bodencoonrapids.com
SUMMARY:News Flash/Linked Senior
DESCRIPTION:
URL:https://bodencoonrapids.com/event-calendar/news-flash-linked-senior-96/
CATEGORIES:Memory Care
END:VEVENT
BEGIN:VEVENT
DTSTART;TZID=America/Chicago:20260512T103000
DTEND;TZID=America/Chicago:20260512T113000
DTSTAMP:20260422T164809
CREATED:20260419T083550Z
LAST-MODIFIED:20260422T083549Z
UID:10006551-1778581800-1778585400@bodencoonrapids.com
SUMMARY:Pastor Bruce
DESCRIPTION:
URL:https://bodencoonrapids.com/event-calendar/pastor-bruce-19/
CATEGORIES:Memory Care
END:VEVENT
BEGIN:VEVENT
DTSTART;TZID=America/Chicago:20260512T110000
DTEND;TZID=America/Chicago:20260512T120000
DTSTAMP:20260422T164809
CREATED:20260419T083549Z
LAST-MODIFIED:20260422T083549Z
UID:10006550-1778583600-1778587200@bodencoonrapids.com
SUMMARY:Stretching/Activity Binder
DESCRIPTION:
URL:https://bodencoonrapids.com/event-calendar/stretching-activity-binder-14/
CATEGORIES:Memory Care
END:VEVENT
BEGIN:VEVENT
DTSTART;TZID=America/Chicago:20260512T113000
DTEND;TZID=America/Chicago:20260512T123000
DTSTAMP:20260422T164809
CREATED:20260419T083549Z
LAST-MODIFIED:20260422T083549Z
UID:10006549-1778585400-1778589000@bodencoonrapids.com
SUMMARY:Oshibori
DESCRIPTION:
URL:https://bodencoonrapids.com/event-calendar/oshibori-272/
CATEGORIES:Memory Care
END:VEVENT
BEGIN:VEVENT
DTSTART;TZID=America/Chicago:20260512T120000
DTEND;TZID=America/Chicago:20260512T130000
DTSTAMP:20260422T164809
CREATED:20260419T083549Z
LAST-MODIFIED:20260422T083549Z
UID:10006548-1778587200-1778590800@bodencoonrapids.com
SUMMARY:Lunch
DESCRIPTION:
URL:https://bodencoonrapids.com/event-calendar/lunch-346/
CATEGORIES:Memory Care
END:VEVENT
BEGIN:VEVENT
DTSTART;TZID=America/Chicago:20260512T140000
DTEND;TZID=America/Chicago:20260512T160000
DTSTAMP:20260422T164809
CREATED:20260419T083550Z
LAST-MODIFIED:20260422T083549Z
UID:10006552-1778594400-1778601600@bodencoonrapids.com
SUMMARY:Snack and Social hour
DESCRIPTION:
URL:https://bodencoonrapids.com/event-calendar/snack-and-social-hour-106/
CATEGORIES:Memory Care
END:VEVENT
BEGIN:VEVENT
DTSTART;TZID=America/Chicago:20260512T163000
DTEND;TZID=America/Chicago:20260512T173000
DTSTAMP:20260422T164809
CREATED:20260420T083546Z
LAST-MODIFIED:20260422T083549Z
UID:10006555-1778603400-1778607000@bodencoonrapids.com
SUMMARY:Oshibori
DESCRIPTION:
URL:https://bodencoonrapids.com/event-calendar/oshibori-273/
CATEGORIES:Memory Care
END:VEVENT
BEGIN:VEVENT
DTSTART;TZID=America/Chicago:20260512T170000
DTEND;TZID=America/Chicago:20260512T180000
DTSTAMP:20260422T164809
CREATED:20260420T083546Z
LAST-MODIFIED:20260422T083549Z
UID:10006556-1778605200-1778608800@bodencoonrapids.com
SUMMARY:Dinner
DESCRIPTION:
URL:https://bodencoonrapids.com/event-calendar/dinner-346/
CATEGORIES:Memory Care
END:VEVENT
BEGIN:VEVENT
DTSTART;TZID=America/Chicago:20260512T173000
DTEND;TZID=America/Chicago:20260512T183000
DTSTAMP:20260422T164809
CREATED:20260420T083547Z
LAST-MODIFIED:20260422T083549Z
UID:10006557-1778607000-1778610600@bodencoonrapids.com
SUMMARY:Balloon toss game
DESCRIPTION:
URL:https://bodencoonrapids.com/event-calendar/balloon-toss-game-21/
CATEGORIES:Memory Care
END:VEVENT
BEGIN:VEVENT
DTSTART;TZID=America/Chicago:20260512T190000
DTEND;TZID=America/Chicago:20260512T200000
DTSTAMP:20260422T164809
CREATED:20260420T083547Z
LAST-MODIFIED:20260422T083549Z
UID:10006558-1778612400-1778616000@bodencoonrapids.com
SUMMARY:Evening Stretching/Activity Binder
DESCRIPTION:
URL:https://bodencoonrapids.com/event-calendar/evening-stretching-activity-binder-97/
CATEGORIES:Memory Care
END:VEVENT
END:VCALENDAR