BEGIN:VCALENDAR
VERSION:2.0
PRODID:-//Boden Coon Rapids - ECPv6.11.2.1//NONSGML v1.0//EN
CALSCALE:GREGORIAN
METHOD:PUBLISH
X-ORIGINAL-URL:https://bodencoonrapids.com
X-WR-CALDESC:Events for Boden Coon Rapids
REFRESH-INTERVAL;VALUE=DURATION:PT1H
X-Robots-Tag:noindex
X-PUBLISHED-TTL:PT1H
BEGIN:VTIMEZONE
TZID:America/Chicago
BEGIN:DAYLIGHT
TZOFFSETFROM:-0600
TZOFFSETTO:-0500
TZNAME:CDT
DTSTART:20260308T080000
END:DAYLIGHT
BEGIN:STANDARD
TZOFFSETFROM:-0500
TZOFFSETTO:-0600
TZNAME:CST
DTSTART:20261101T070000
END:STANDARD
END:VTIMEZONE
BEGIN:VEVENT
DTSTART;TZID=America/Chicago:20260415T120000
DTEND;TZID=America/Chicago:20260415T130000
DTSTAMP:20260423T053123
CREATED:20260324T070550Z
LAST-MODIFIED:20260415T083543Z
UID:10006105-1776254400-1776258000@bodencoonrapids.com
SUMMARY:Lunch
DESCRIPTION:
URL:https://bodencoonrapids.com/event-calendar/lunch-319/
CATEGORIES:Memory Care
END:VEVENT
BEGIN:VEVENT
DTSTART;TZID=America/Chicago:20260415T113000
DTEND;TZID=America/Chicago:20260415T123000
DTSTAMP:20260423T053123
CREATED:20260324T070550Z
LAST-MODIFIED:20260415T083543Z
UID:10006107-1776252600-1776256200@bodencoonrapids.com
SUMMARY:Oshibori
DESCRIPTION:
URL:https://bodencoonrapids.com/event-calendar/oshibori-218/
CATEGORIES:Memory Care
END:VEVENT
BEGIN:VEVENT
DTSTART;TZID=America/Chicago:20260415T110000
DTEND;TZID=America/Chicago:20260415T120000
DTSTAMP:20260423T053123
CREATED:20260324T070550Z
LAST-MODIFIED:20260415T083543Z
UID:10006106-1776250800-1776254400@bodencoonrapids.com
SUMMARY:Havin a ball exercise
DESCRIPTION:
URL:https://bodencoonrapids.com/event-calendar/havin-a-ball-exercise-16/
CATEGORIES:Memory Care
END:VEVENT
BEGIN:VEVENT
DTSTART;TZID=America/Chicago:20260415T100000
DTEND;TZID=America/Chicago:20260415T110000
DTSTAMP:20260423T053123
CREATED:20260324T070550Z
LAST-MODIFIED:20260415T083543Z
UID:10006104-1776247200-1776250800@bodencoonrapids.com
SUMMARY:Daily Bread reading
DESCRIPTION:
URL:https://bodencoonrapids.com/event-calendar/daily-bread-reading-15/
CATEGORIES:Memory Care
END:VEVENT
BEGIN:VEVENT
DTSTART;TZID=America/Chicago:20260415T090000
DTEND;TZID=America/Chicago:20260415T100000
DTSTAMP:20260423T053123
CREATED:20260324T070550Z
LAST-MODIFIED:20260415T083543Z
UID:10006103-1776243600-1776247200@bodencoonrapids.com
SUMMARY:News Flash/Linked Senior
DESCRIPTION:
URL:https://bodencoonrapids.com/event-calendar/news-flash-linked-senior-69/
CATEGORIES:Memory Care
END:VEVENT
BEGIN:VEVENT
DTSTART;TZID=America/Chicago:20260415T080000
DTEND;TZID=America/Chicago:20260415T090000
DTSTAMP:20260423T053123
CREATED:20260324T070550Z
LAST-MODIFIED:20260415T083543Z
UID:10006102-1776240000-1776243600@bodencoonrapids.com
SUMMARY:Breakfast
DESCRIPTION:
URL:https://bodencoonrapids.com/event-calendar/breakfast-340/
CATEGORIES:Memory Care
END:VEVENT
BEGIN:VEVENT
DTSTART;VALUE=DATE:20260415
DTEND;VALUE=DATE:20260416
DTSTAMP:20260423T053123
CREATED:20260324T070550Z
LAST-MODIFIED:20260414T082049Z
UID:10006101-1776211200-1776297599@bodencoonrapids.com
SUMMARY:Always available activities
DESCRIPTION:
URL:https://bodencoonrapids.com/event-calendar/always-available-activities-353/
CATEGORIES:Memory Care
END:VEVENT
BEGIN:VEVENT
DTSTART;TZID=America/Chicago:20260414T190000
DTEND;TZID=America/Chicago:20260414T200000
DTSTAMP:20260423T053123
CREATED:20260324T070549Z
LAST-MODIFIED:20260414T082049Z
UID:10006100-1776193200-1776196800@bodencoonrapids.com
SUMMARY:Evening Stretching/Activity Binder
DESCRIPTION:
URL:https://bodencoonrapids.com/event-calendar/evening-stretching-activity-binder-69/
CATEGORIES:Memory Care
END:VEVENT
BEGIN:VEVENT
DTSTART;TZID=America/Chicago:20260414T173000
DTEND;TZID=America/Chicago:20260414T183000
DTSTAMP:20260423T053123
CREATED:20260324T070549Z
LAST-MODIFIED:20260414T082049Z
UID:10006099-1776187800-1776191400@bodencoonrapids.com
SUMMARY:Balloon toss game
DESCRIPTION:
URL:https://bodencoonrapids.com/event-calendar/balloon-toss-game-13/
CATEGORIES:Memory Care
END:VEVENT
BEGIN:VEVENT
DTSTART;TZID=America/Chicago:20260414T170000
DTEND;TZID=America/Chicago:20260414T180000
DTSTAMP:20260423T053123
CREATED:20260323T065151Z
LAST-MODIFIED:20260414T082037Z
UID:10006095-1776186000-1776189600@bodencoonrapids.com
SUMMARY:Dinner
DESCRIPTION:
URL:https://bodencoonrapids.com/event-calendar/dinner-318/
CATEGORIES:Memory Care
END:VEVENT
BEGIN:VEVENT
DTSTART;TZID=America/Chicago:20260414T163000
DTEND;TZID=America/Chicago:20260414T173000
DTSTAMP:20260423T053123
CREATED:20260323T065151Z
LAST-MODIFIED:20260414T082037Z
UID:10006094-1776184200-1776187800@bodencoonrapids.com
SUMMARY:Oshibori
DESCRIPTION:
URL:https://bodencoonrapids.com/event-calendar/oshibori-217/
CATEGORIES:Memory Care
END:VEVENT
BEGIN:VEVENT
DTSTART;TZID=America/Chicago:20260414T140000
DTEND;TZID=America/Chicago:20260414T160000
DTSTAMP:20260423T053123
CREATED:20260323T065151Z
LAST-MODIFIED:20260414T082037Z
UID:10006093-1776175200-1776182400@bodencoonrapids.com
SUMMARY:Snack and Social hour
DESCRIPTION:
URL:https://bodencoonrapids.com/event-calendar/snack-and-social-hour-78/
CATEGORIES:Memory Care
END:VEVENT
BEGIN:VEVENT
DTSTART;TZID=America/Chicago:20260414T130000
DTEND;TZID=America/Chicago:20260414T140000
DTSTAMP:20260423T053123
CREATED:20260401T080644Z
LAST-MODIFIED:20260414T082037Z
UID:10006258-1776171600-1776175200@bodencoonrapids.com
SUMMARY:Bean Bag Wall (Gardening Club!)
DESCRIPTION:
URL:https://bodencoonrapids.com/event-calendar/bean-bag-wall-gardening-club/
CATEGORIES:Memory Care
END:VEVENT
BEGIN:VEVENT
DTSTART;TZID=America/Chicago:20260414T120000
DTEND;TZID=America/Chicago:20260414T130000
DTSTAMP:20260423T053123
CREATED:20260323T065151Z
LAST-MODIFIED:20260414T082037Z
UID:10006089-1776168000-1776171600@bodencoonrapids.com
SUMMARY:Lunch
DESCRIPTION:
URL:https://bodencoonrapids.com/event-calendar/lunch-318/
CATEGORIES:Memory Care
END:VEVENT
BEGIN:VEVENT
DTSTART;TZID=America/Chicago:20260414T113000
DTEND;TZID=America/Chicago:20260414T123000
DTSTAMP:20260423T053123
CREATED:20260323T065151Z
LAST-MODIFIED:20260414T082037Z
UID:10006090-1776166200-1776169800@bodencoonrapids.com
SUMMARY:Oshibori
DESCRIPTION:
URL:https://bodencoonrapids.com/event-calendar/oshibori-216/
CATEGORIES:Memory Care
END:VEVENT
BEGIN:VEVENT
DTSTART;TZID=America/Chicago:20260414T110000
DTEND;TZID=America/Chicago:20260414T120000
DTSTAMP:20260423T053123
CREATED:20260323T065151Z
LAST-MODIFIED:20260414T082037Z
UID:10006091-1776164400-1776168000@bodencoonrapids.com
SUMMARY:Stretching/Activity Binder
DESCRIPTION:
URL:https://bodencoonrapids.com/event-calendar/stretching-activity-binder-10/
CATEGORIES:Memory Care
END:VEVENT
BEGIN:VEVENT
DTSTART;TZID=America/Chicago:20260414T103000
DTEND;TZID=America/Chicago:20260414T113000
DTSTAMP:20260423T053123
CREATED:20260323T065151Z
LAST-MODIFIED:20260414T082037Z
UID:10006092-1776162600-1776166200@bodencoonrapids.com
SUMMARY:Pastor Bruce
DESCRIPTION:
URL:https://bodencoonrapids.com/event-calendar/pastor-bruce-15/
CATEGORIES:Memory Care
END:VEVENT
BEGIN:VEVENT
DTSTART;TZID=America/Chicago:20260414T090000
DTEND;TZID=America/Chicago:20260414T100000
DTSTAMP:20260423T053123
CREATED:20260323T065150Z
LAST-MODIFIED:20260414T082036Z
UID:10006088-1776157200-1776160800@bodencoonrapids.com
SUMMARY:News Flash/Linked Senior
DESCRIPTION:
URL:https://bodencoonrapids.com/event-calendar/news-flash-linked-senior-68/
CATEGORIES:Memory Care
END:VEVENT
BEGIN:VEVENT
DTSTART;TZID=America/Chicago:20260414T080000
DTEND;TZID=America/Chicago:20260414T090000
DTSTAMP:20260423T053123
CREATED:20260323T065150Z
LAST-MODIFIED:20260414T082036Z
UID:10006087-1776153600-1776157200@bodencoonrapids.com
SUMMARY:Breakfast
DESCRIPTION:
URL:https://bodencoonrapids.com/event-calendar/breakfast-339/
CATEGORIES:Memory Care
END:VEVENT
BEGIN:VEVENT
DTSTART;VALUE=DATE:20260414
DTEND;VALUE=DATE:20260415
DTSTAMP:20260423T053123
CREATED:20260323T065150Z
LAST-MODIFIED:20260413T080535Z
UID:10006085-1776124800-1776211199@bodencoonrapids.com
SUMMARY:Always available activities
DESCRIPTION:
URL:https://bodencoonrapids.com/event-calendar/always-available-activities-352/
CATEGORIES:Memory Care
END:VEVENT
BEGIN:VEVENT
DTSTART;TZID=America/Chicago:20260413T193000
DTEND;TZID=America/Chicago:20260413T203000
DTSTAMP:20260423T053123
CREATED:20260323T065150Z
LAST-MODIFIED:20260413T080535Z
UID:10006086-1776108600-1776112200@bodencoonrapids.com
SUMMARY:Sing a long/Books
DESCRIPTION:
URL:https://bodencoonrapids.com/event-calendar/sing-a-long-books-29/
LOCATION:Living Room
CATEGORIES:Memory Care
END:VEVENT
BEGIN:VEVENT
DTSTART;TZID=America/Chicago:20260413T190000
DTEND;TZID=America/Chicago:20260413T200000
DTSTAMP:20260423T053123
CREATED:20260323T065150Z
LAST-MODIFIED:20260413T080535Z
UID:10006084-1776106800-1776110400@bodencoonrapids.com
SUMMARY:Evening Stretching/Activity Binder
DESCRIPTION:
URL:https://bodencoonrapids.com/event-calendar/evening-stretching-activity-binder-68/
CATEGORIES:Memory Care
END:VEVENT
BEGIN:VEVENT
DTSTART;TZID=America/Chicago:20260413T173000
DTEND;TZID=America/Chicago:20260413T183000
DTSTAMP:20260423T053123
CREATED:20260323T065150Z
LAST-MODIFIED:20260413T080537Z
UID:10006083-1776101400-1776105000@bodencoonrapids.com
SUMMARY:Trivia
DESCRIPTION:
URL:https://bodencoonrapids.com/event-calendar/trivia-40/
CATEGORIES:Memory Care
END:VEVENT
BEGIN:VEVENT
DTSTART;TZID=America/Chicago:20260413T170000
DTEND;TZID=America/Chicago:20260413T180000
DTSTAMP:20260423T053123
CREATED:20260323T065150Z
LAST-MODIFIED:20260413T080537Z
UID:10006082-1776099600-1776103200@bodencoonrapids.com
SUMMARY:Dinner
DESCRIPTION:
URL:https://bodencoonrapids.com/event-calendar/dinner-317/
CATEGORIES:Memory Care
END:VEVENT
BEGIN:VEVENT
DTSTART;TZID=America/Chicago:20260413T163000
DTEND;TZID=America/Chicago:20260413T173000
DTSTAMP:20260423T053123
CREATED:20260322T063655Z
LAST-MODIFIED:20260413T080537Z
UID:10006079-1776097800-1776101400@bodencoonrapids.com
SUMMARY:Oshibori
DESCRIPTION:
URL:https://bodencoonrapids.com/event-calendar/oshibori-215/
CATEGORIES:Memory Care
END:VEVENT
BEGIN:VEVENT
DTSTART;TZID=America/Chicago:20260413T140000
DTEND;TZID=America/Chicago:20260413T160000
DTSTAMP:20260423T053123
CREATED:20260322T063655Z
LAST-MODIFIED:20260413T080537Z
UID:10006078-1776088800-1776096000@bodencoonrapids.com
SUMMARY:Snack and Social hour
DESCRIPTION:
URL:https://bodencoonrapids.com/event-calendar/snack-and-social-hour-77/
CATEGORIES:Memory Care
END:VEVENT
BEGIN:VEVENT
DTSTART;TZID=America/Chicago:20260413T130000
DTEND;TZID=America/Chicago:20260413T140000
DTSTAMP:20260423T053123
CREATED:20260401T080644Z
LAST-MODIFIED:20260413T080537Z
UID:10006257-1776085200-1776088800@bodencoonrapids.com
SUMMARY:Fun with BUBBLES
DESCRIPTION:
URL:https://bodencoonrapids.com/event-calendar/fun-with-bubbles/
CATEGORIES:Memory Care
END:VEVENT
BEGIN:VEVENT
DTSTART;TZID=America/Chicago:20260413T120000
DTEND;TZID=America/Chicago:20260413T130000
DTSTAMP:20260423T053123
CREATED:20260322T063654Z
LAST-MODIFIED:20260413T080537Z
UID:10006075-1776081600-1776085200@bodencoonrapids.com
SUMMARY:Lunch
DESCRIPTION:
URL:https://bodencoonrapids.com/event-calendar/lunch-317/
CATEGORIES:Memory Care
END:VEVENT
BEGIN:VEVENT
DTSTART;TZID=America/Chicago:20260413T113000
DTEND;TZID=America/Chicago:20260413T123000
DTSTAMP:20260423T053123
CREATED:20260322T063654Z
LAST-MODIFIED:20260413T080537Z
UID:10006077-1776079800-1776083400@bodencoonrapids.com
SUMMARY:Oshibori
DESCRIPTION:
URL:https://bodencoonrapids.com/event-calendar/oshibori-214/
CATEGORIES:Memory Care
END:VEVENT
BEGIN:VEVENT
DTSTART;TZID=America/Chicago:20260413T110000
DTEND;TZID=America/Chicago:20260413T120000
DTSTAMP:20260423T053123
CREATED:20260322T063654Z
LAST-MODIFIED:20260413T080537Z
UID:10006076-1776078000-1776081600@bodencoonrapids.com
SUMMARY:Exercise/Weights/Activity Binder
DESCRIPTION:
URL:https://bodencoonrapids.com/event-calendar/exercise-weights-activity-binder-10/
CATEGORIES:Memory Care
END:VEVENT
END:VCALENDAR