BEGIN:VCALENDAR
VERSION:2.0
PRODID:-//Boden Coon Rapids - ECPv6.11.2.1//NONSGML v1.0//EN
CALSCALE:GREGORIAN
METHOD:PUBLISH
X-ORIGINAL-URL:https://bodencoonrapids.com
X-WR-CALDESC:Events for Boden Coon Rapids
REFRESH-INTERVAL;VALUE=DURATION:PT1H
X-Robots-Tag:noindex
X-PUBLISHED-TTL:PT1H
BEGIN:VTIMEZONE
TZID:America/Chicago
BEGIN:DAYLIGHT
TZOFFSETFROM:-0600
TZOFFSETTO:-0500
TZNAME:CDT
DTSTART:20260308T080000
END:DAYLIGHT
BEGIN:STANDARD
TZOFFSETFROM:-0500
TZOFFSETTO:-0600
TZNAME:CST
DTSTART:20261101T070000
END:STANDARD
END:VTIMEZONE
BEGIN:VEVENT
DTSTART;TZID=America/Chicago:20260327T173000
DTEND;TZID=America/Chicago:20260327T183000
DTSTAMP:20260424T191441
CREATED:20260308T055100Z
LAST-MODIFIED:20260327T072039Z
UID:10005823-1774632600-1774636200@bodencoonrapids.com
SUMMARY:Trivia
DESCRIPTION:
URL:https://bodencoonrapids.com/event-calendar/trivia-35/
CATEGORIES:Memory Care
END:VEVENT
BEGIN:VEVENT
DTSTART;TZID=America/Chicago:20260327T170000
DTEND;TZID=America/Chicago:20260327T180000
DTSTAMP:20260424T191441
CREATED:20260308T055100Z
LAST-MODIFIED:20260327T072051Z
UID:10005822-1774630800-1774634400@bodencoonrapids.com
SUMMARY:Dinner
DESCRIPTION:
URL:https://bodencoonrapids.com/event-calendar/dinner-300/
CATEGORIES:Memory Care
END:VEVENT
BEGIN:VEVENT
DTSTART;TZID=America/Chicago:20260327T163000
DTEND;TZID=America/Chicago:20260327T173000
DTSTAMP:20260424T191441
CREATED:20260307T055150Z
LAST-MODIFIED:20260327T072051Z
UID:10005819-1774629000-1774632600@bodencoonrapids.com
SUMMARY:Oshibori
DESCRIPTION:
URL:https://bodencoonrapids.com/event-calendar/oshibori-181/
CATEGORIES:Memory Care
END:VEVENT
BEGIN:VEVENT
DTSTART;TZID=America/Chicago:20260327T150000
DTEND;TZID=America/Chicago:20260327T160000
DTSTAMP:20260424T191441
CREATED:20260307T055150Z
LAST-MODIFIED:20260327T072039Z
UID:10005818-1774623600-1774627200@bodencoonrapids.com
SUMMARY:GOLF!
DESCRIPTION:
URL:https://bodencoonrapids.com/event-calendar/golf-5/
CATEGORIES:Memory Care
END:VEVENT
BEGIN:VEVENT
DTSTART;TZID=America/Chicago:20260327T140000
DTEND;TZID=America/Chicago:20260327T160000
DTSTAMP:20260424T191441
CREATED:20260307T055150Z
LAST-MODIFIED:20260327T072039Z
UID:10005817-1774620000-1774627200@bodencoonrapids.com
SUMMARY:Snack and Social hour
DESCRIPTION:
URL:https://bodencoonrapids.com/event-calendar/snack-and-social-hour-60/
CATEGORIES:Memory Care
END:VEVENT
BEGIN:VEVENT
DTSTART;TZID=America/Chicago:20260327T130000
DTEND;TZID=America/Chicago:20260327T140000
DTSTAMP:20260424T191441
CREATED:20260307T055150Z
LAST-MODIFIED:20260327T072039Z
UID:10005815-1774616400-1774620000@bodencoonrapids.com
SUMMARY:Bingo/Activity Bin
DESCRIPTION:
URL:https://bodencoonrapids.com/event-calendar/bingo-activity-bin-15/
LOCATION:Dining Room
CATEGORIES:Memory Care
END:VEVENT
BEGIN:VEVENT
DTSTART;TZID=America/Chicago:20260327T130000
DTEND;TZID=America/Chicago:20260327T140000
DTSTAMP:20260424T191441
CREATED:20260307T055150Z
LAST-MODIFIED:20260327T072039Z
UID:10005816-1774616400-1774620000@bodencoonrapids.com
SUMMARY:Live Music
DESCRIPTION:
URL:https://bodencoonrapids.com/event-calendar/live-music-10/
CATEGORIES:Memory Care
END:VEVENT
BEGIN:VEVENT
DTSTART;TZID=America/Chicago:20260327T120000
DTEND;TZID=America/Chicago:20260327T130000
DTSTAMP:20260424T191441
CREATED:20260307T055150Z
LAST-MODIFIED:20260327T072039Z
UID:10005814-1774612800-1774616400@bodencoonrapids.com
SUMMARY:Lunch
DESCRIPTION:
URL:https://bodencoonrapids.com/event-calendar/lunch-300/
CATEGORIES:Memory Care
END:VEVENT
BEGIN:VEVENT
DTSTART;TZID=America/Chicago:20260327T113000
DTEND;TZID=America/Chicago:20260327T123000
DTSTAMP:20260424T191441
CREATED:20260307T055149Z
LAST-MODIFIED:20260327T072039Z
UID:10005813-1774611000-1774614600@bodencoonrapids.com
SUMMARY:Oshibori
DESCRIPTION:
URL:https://bodencoonrapids.com/event-calendar/oshibori-180/
CATEGORIES:Memory Care
END:VEVENT
BEGIN:VEVENT
DTSTART;TZID=America/Chicago:20260327T103000
DTEND;TZID=America/Chicago:20260327T113000
DTSTAMP:20260424T191441
CREATED:20260307T055149Z
LAST-MODIFIED:20260327T072039Z
UID:10005812-1774607400-1774611000@bodencoonrapids.com
SUMMARY:Pastor Russell
DESCRIPTION:
URL:https://bodencoonrapids.com/event-calendar/pastor-russell-20/
CATEGORIES:Memory Care
END:VEVENT
BEGIN:VEVENT
DTSTART;TZID=America/Chicago:20260327T090000
DTEND;TZID=America/Chicago:20260327T100000
DTSTAMP:20260424T191441
CREATED:20260307T055149Z
LAST-MODIFIED:20260327T072039Z
UID:10005811-1774602000-1774605600@bodencoonrapids.com
SUMMARY:News Flash/Linked Senior
DESCRIPTION:
URL:https://bodencoonrapids.com/event-calendar/news-flash-linked-senior-50/
CATEGORIES:Memory Care
END:VEVENT
BEGIN:VEVENT
DTSTART;TZID=America/Chicago:20260327T080000
DTEND;TZID=America/Chicago:20260327T090000
DTSTAMP:20260424T191441
CREATED:20260307T055149Z
LAST-MODIFIED:20260327T072039Z
UID:10005810-1774598400-1774602000@bodencoonrapids.com
SUMMARY:Breakfast
DESCRIPTION:
URL:https://bodencoonrapids.com/event-calendar/breakfast-321/
CATEGORIES:Memory Care
END:VEVENT
BEGIN:VEVENT
DTSTART;VALUE=DATE:20260327
DTEND;VALUE=DATE:20260328
DTSTAMP:20260424T191441
CREATED:20260307T055149Z
LAST-MODIFIED:20260326T072100Z
UID:10005809-1774569600-1774655999@bodencoonrapids.com
SUMMARY:Always available activities
DESCRIPTION:
URL:https://bodencoonrapids.com/event-calendar/always-available-activities-334/
CATEGORIES:Memory Care
END:VEVENT
BEGIN:VEVENT
DTSTART;TZID=America/Chicago:20260326T190000
DTEND;TZID=America/Chicago:20260326T200000
DTSTAMP:20260424T191441
CREATED:20260307T055149Z
LAST-MODIFIED:20260326T072100Z
UID:10005808-1774551600-1774555200@bodencoonrapids.com
SUMMARY:Evening Stretching/Activity Binder
DESCRIPTION:
URL:https://bodencoonrapids.com/event-calendar/evening-stretching-activity-binder-50/
CATEGORIES:Memory Care
END:VEVENT
BEGIN:VEVENT
DTSTART;TZID=America/Chicago:20260326T180000
DTEND;TZID=America/Chicago:20260326T190000
DTSTAMP:20260424T191441
CREATED:20260307T055149Z
LAST-MODIFIED:20260326T072100Z
UID:10005807-1774548000-1774551600@bodencoonrapids.com
SUMMARY:Wheel of Fortune/Linked Senior
DESCRIPTION:
URL:https://bodencoonrapids.com/event-calendar/wheel-of-fortune-linked-senior-8/
CATEGORIES:Memory Care
END:VEVENT
BEGIN:VEVENT
DTSTART;TZID=America/Chicago:20260326T173000
DTEND;TZID=America/Chicago:20260326T183000
DTSTAMP:20260424T191441
CREATED:20260307T055149Z
LAST-MODIFIED:20260326T072100Z
UID:10005806-1774546200-1774549800@bodencoonrapids.com
SUMMARY:Balloon toss game
DESCRIPTION:
URL:https://bodencoonrapids.com/event-calendar/balloon-toss-game-8/
CATEGORIES:Memory Care
END:VEVENT
BEGIN:VEVENT
DTSTART;TZID=America/Chicago:20260326T170000
DTEND;TZID=America/Chicago:20260326T180000
DTSTAMP:20260424T191441
CREATED:20260307T055149Z
LAST-MODIFIED:20260326T072100Z
UID:10005805-1774544400-1774548000@bodencoonrapids.com
SUMMARY:Dinner
DESCRIPTION:
URL:https://bodencoonrapids.com/event-calendar/dinner-299/
CATEGORIES:Memory Care
END:VEVENT
BEGIN:VEVENT
DTSTART;TZID=America/Chicago:20260326T163000
DTEND;TZID=America/Chicago:20260326T173000
DTSTAMP:20260424T191441
CREATED:20260306T055047Z
LAST-MODIFIED:20260326T072049Z
UID:10005801-1774542600-1774546200@bodencoonrapids.com
SUMMARY:Oshibori
DESCRIPTION:
URL:https://bodencoonrapids.com/event-calendar/oshibori-179/
CATEGORIES:Memory Care
END:VEVENT
BEGIN:VEVENT
DTSTART;TZID=America/Chicago:20260326T153000
DTEND;TZID=America/Chicago:20260326T163000
DTSTAMP:20260424T191441
CREATED:20260306T055047Z
LAST-MODIFIED:20260326T072049Z
UID:10005800-1774539000-1774542600@bodencoonrapids.com
SUMMARY:Thirsty Thursday
DESCRIPTION:
URL:https://bodencoonrapids.com/event-calendar/thirsty-thursday-36/
CATEGORIES:Memory Care
END:VEVENT
BEGIN:VEVENT
DTSTART;TZID=America/Chicago:20260326T140000
DTEND;TZID=America/Chicago:20260326T160000
DTSTAMP:20260424T191441
CREATED:20260306T055047Z
LAST-MODIFIED:20260326T072049Z
UID:10005799-1774533600-1774540800@bodencoonrapids.com
SUMMARY:Snack and Social hour
DESCRIPTION:
URL:https://bodencoonrapids.com/event-calendar/snack-and-social-hour-59/
CATEGORIES:Memory Care
END:VEVENT
BEGIN:VEVENT
DTSTART;TZID=America/Chicago:20260326T133000
DTEND;TZID=America/Chicago:20260326T143000
DTSTAMP:20260424T191441
CREATED:20260306T055047Z
LAST-MODIFIED:20260326T072049Z
UID:10005798-1774531800-1774535400@bodencoonrapids.com
SUMMARY:Jokin around/Linked Senior
DESCRIPTION:
URL:https://bodencoonrapids.com/event-calendar/jokin-around-linked-senior-8/
CATEGORIES:Memory Care
END:VEVENT
BEGIN:VEVENT
DTSTART;TZID=America/Chicago:20260326T130000
DTEND;TZID=America/Chicago:20260326T140000
DTSTAMP:20260424T191441
CREATED:20260306T055047Z
LAST-MODIFIED:20260326T072049Z
UID:10005797-1774530000-1774533600@bodencoonrapids.com
SUMMARY:Word Search/Linked Senior
DESCRIPTION:
URL:https://bodencoonrapids.com/event-calendar/word-search-linked-senior-4/
CATEGORIES:Memory Care
END:VEVENT
BEGIN:VEVENT
DTSTART;TZID=America/Chicago:20260326T120000
DTEND;TZID=America/Chicago:20260326T130000
DTSTAMP:20260424T191441
CREATED:20260306T055047Z
LAST-MODIFIED:20260326T072049Z
UID:10005794-1774526400-1774530000@bodencoonrapids.com
SUMMARY:Lunch
DESCRIPTION:
URL:https://bodencoonrapids.com/event-calendar/lunch-299/
CATEGORIES:Memory Care
END:VEVENT
BEGIN:VEVENT
DTSTART;TZID=America/Chicago:20260326T113000
DTEND;TZID=America/Chicago:20260326T123000
DTSTAMP:20260424T191441
CREATED:20260306T055047Z
LAST-MODIFIED:20260326T072049Z
UID:10005795-1774524600-1774528200@bodencoonrapids.com
SUMMARY:Oshibori
DESCRIPTION:
URL:https://bodencoonrapids.com/event-calendar/oshibori-178/
CATEGORIES:Memory Care
END:VEVENT
BEGIN:VEVENT
DTSTART;TZID=America/Chicago:20260326T110000
DTEND;TZID=America/Chicago:20260326T120000
DTSTAMP:20260424T191441
CREATED:20260306T055047Z
LAST-MODIFIED:20260326T072049Z
UID:10005796-1774522800-1774526400@bodencoonrapids.com
SUMMARY:Exercise Class
DESCRIPTION:
URL:https://bodencoonrapids.com/event-calendar/exercise-class-17/
CATEGORIES:Memory Care
END:VEVENT
BEGIN:VEVENT
DTSTART;TZID=America/Chicago:20260326T090000
DTEND;TZID=America/Chicago:20260326T100000
DTSTAMP:20260424T191441
CREATED:20260306T055047Z
LAST-MODIFIED:20260326T072049Z
UID:10005793-1774515600-1774519200@bodencoonrapids.com
SUMMARY:News Flash/Linked Senior
DESCRIPTION:
URL:https://bodencoonrapids.com/event-calendar/news-flash-linked-senior-49/
CATEGORIES:Memory Care
END:VEVENT
BEGIN:VEVENT
DTSTART;TZID=America/Chicago:20260326T080000
DTEND;TZID=America/Chicago:20260326T090000
DTSTAMP:20260424T191441
CREATED:20260306T055047Z
LAST-MODIFIED:20260326T072049Z
UID:10005792-1774512000-1774515600@bodencoonrapids.com
SUMMARY:Breakfast
DESCRIPTION:
URL:https://bodencoonrapids.com/event-calendar/breakfast-320/
CATEGORIES:Memory Care
END:VEVENT
BEGIN:VEVENT
DTSTART;VALUE=DATE:20260326
DTEND;VALUE=DATE:20260327
DTSTAMP:20260424T191441
CREATED:20260306T055047Z
LAST-MODIFIED:20260325T072038Z
UID:10005790-1774483200-1774569599@bodencoonrapids.com
SUMMARY:Always available activities
DESCRIPTION:
URL:https://bodencoonrapids.com/event-calendar/always-available-activities-333/
CATEGORIES:Memory Care
END:VEVENT
BEGIN:VEVENT
DTSTART;TZID=America/Chicago:20260325T193000
DTEND;TZID=America/Chicago:20260325T203000
DTSTAMP:20260424T191441
CREATED:20260306T055047Z
LAST-MODIFIED:20260325T072039Z
UID:10005791-1774467000-1774470600@bodencoonrapids.com
SUMMARY:Sing a long/Books
DESCRIPTION:
URL:https://bodencoonrapids.com/event-calendar/sing-a-long-books-21/
LOCATION:Living Room
CATEGORIES:Memory Care
END:VEVENT
BEGIN:VEVENT
DTSTART;TZID=America/Chicago:20260325T190000
DTEND;TZID=America/Chicago:20260325T200000
DTSTAMP:20260424T191441
CREATED:20260306T055047Z
LAST-MODIFIED:20260325T072039Z
UID:10005789-1774465200-1774468800@bodencoonrapids.com
SUMMARY:Evening Stretching/Activity Binder
DESCRIPTION:
URL:https://bodencoonrapids.com/event-calendar/evening-stretching-activity-binder-49/
CATEGORIES:Memory Care
END:VEVENT
END:VCALENDAR