BEGIN:VCALENDAR
VERSION:2.0
PRODID:-//Boden Coon Rapids - ECPv6.11.2.1//NONSGML v1.0//EN
CALSCALE:GREGORIAN
METHOD:PUBLISH
X-ORIGINAL-URL:https://bodencoonrapids.com
X-WR-CALDESC:Events for Boden Coon Rapids
REFRESH-INTERVAL;VALUE=DURATION:PT1H
X-Robots-Tag:noindex
X-PUBLISHED-TTL:PT1H
BEGIN:VTIMEZONE
TZID:America/Chicago
BEGIN:DAYLIGHT
TZOFFSETFROM:-0600
TZOFFSETTO:-0500
TZNAME:CDT
DTSTART:20260308T080000
END:DAYLIGHT
BEGIN:STANDARD
TZOFFSETFROM:-0500
TZOFFSETTO:-0600
TZNAME:CST
DTSTART:20261101T070000
END:STANDARD
END:VTIMEZONE
BEGIN:VEVENT
DTSTART;TZID=America/Chicago:20260314T193000
DTEND;TZID=America/Chicago:20260314T203000
DTSTAMP:20260425T213517
CREATED:20260223T045047Z
LAST-MODIFIED:20260314T062135Z
UID:10005571-1773516600-1773520200@bodencoonrapids.com
SUMMARY:Coloring/Activity Bin
DESCRIPTION:
URL:https://bodencoonrapids.com/event-calendar/coloring-activity-bin-11/
LOCATION:Dining Room
CATEGORIES:Memory Care
END:VEVENT
BEGIN:VEVENT
DTSTART;TZID=America/Chicago:20260314T190000
DTEND;TZID=America/Chicago:20260314T200000
DTSTAMP:20260425T213517
CREATED:20260223T045047Z
LAST-MODIFIED:20260314T062135Z
UID:10005569-1773514800-1773518400@bodencoonrapids.com
SUMMARY:Evening Stretching/Activity Binder
DESCRIPTION:
URL:https://bodencoonrapids.com/event-calendar/evening-stretching-activity-binder-38/
CATEGORIES:Memory Care
END:VEVENT
BEGIN:VEVENT
DTSTART;TZID=America/Chicago:20260314T170000
DTEND;TZID=America/Chicago:20260314T180000
DTSTAMP:20260425T213517
CREATED:20260223T045047Z
LAST-MODIFIED:20260314T062135Z
UID:10005568-1773507600-1773511200@bodencoonrapids.com
SUMMARY:Dinner
DESCRIPTION:
URL:https://bodencoonrapids.com/event-calendar/dinner-287/
CATEGORIES:Memory Care
END:VEVENT
BEGIN:VEVENT
DTSTART;TZID=America/Chicago:20260314T163000
DTEND;TZID=America/Chicago:20260314T173000
DTSTAMP:20260425T213517
CREATED:20260223T045047Z
LAST-MODIFIED:20260314T062135Z
UID:10005567-1773505800-1773509400@bodencoonrapids.com
SUMMARY:Oshibori
DESCRIPTION:
URL:https://bodencoonrapids.com/event-calendar/oshibori-155/
CATEGORIES:Memory Care
END:VEVENT
BEGIN:VEVENT
DTSTART;TZID=America/Chicago:20260314T150000
DTEND;TZID=America/Chicago:20260314T160000
DTSTAMP:20260425T213517
CREATED:20260223T045047Z
LAST-MODIFIED:20260314T062135Z
UID:10005566-1773500400-1773504000@bodencoonrapids.com
SUMMARY:Fresh baked PIE!
DESCRIPTION:
URL:https://bodencoonrapids.com/event-calendar/fresh-baked-pie-9/
CATEGORIES:Memory Care
END:VEVENT
BEGIN:VEVENT
DTSTART;TZID=America/Chicago:20260314T140000
DTEND;TZID=America/Chicago:20260314T160000
DTSTAMP:20260425T213517
CREATED:20260223T045047Z
LAST-MODIFIED:20260314T062135Z
UID:10005565-1773496800-1773504000@bodencoonrapids.com
SUMMARY:Snack and Social hour
DESCRIPTION:
URL:https://bodencoonrapids.com/event-calendar/snack-and-social-hour-47/
CATEGORIES:Memory Care
END:VEVENT
BEGIN:VEVENT
DTSTART;TZID=America/Chicago:20260314T130000
DTEND;TZID=America/Chicago:20260314T140000
DTSTAMP:20260425T213517
CREATED:20260223T045047Z
LAST-MODIFIED:20260314T062135Z
UID:10005564-1773493200-1773496800@bodencoonrapids.com
SUMMARY:Bowling
DESCRIPTION:
URL:https://bodencoonrapids.com/event-calendar/bowling-11/
CATEGORIES:Memory Care
END:VEVENT
BEGIN:VEVENT
DTSTART;TZID=America/Chicago:20260314T120000
DTEND;TZID=America/Chicago:20260314T130000
DTSTAMP:20260425T213517
CREATED:20260223T045046Z
LAST-MODIFIED:20260314T062135Z
UID:10005561-1773489600-1773493200@bodencoonrapids.com
SUMMARY:Lunch
DESCRIPTION:
URL:https://bodencoonrapids.com/event-calendar/lunch-287/
CATEGORIES:Memory Care
END:VEVENT
BEGIN:VEVENT
DTSTART;TZID=America/Chicago:20260314T113000
DTEND;TZID=America/Chicago:20260314T123000
DTSTAMP:20260425T213517
CREATED:20260223T045047Z
LAST-MODIFIED:20260314T062135Z
UID:10005562-1773487800-1773491400@bodencoonrapids.com
SUMMARY:Oshibori
DESCRIPTION:
URL:https://bodencoonrapids.com/event-calendar/oshibori-154/
CATEGORIES:Memory Care
END:VEVENT
BEGIN:VEVENT
DTSTART;TZID=America/Chicago:20260314T103000
DTEND;TZID=America/Chicago:20260314T113000
DTSTAMP:20260425T213517
CREATED:20260223T045047Z
LAST-MODIFIED:20260314T062135Z
UID:10005563-1773484200-1773487800@bodencoonrapids.com
SUMMARY:Chair yoga/Linked Senior
DESCRIPTION:
URL:https://bodencoonrapids.com/event-calendar/chair-yoga-linked-senior-4/
CATEGORIES:Memory Care
END:VEVENT
BEGIN:VEVENT
DTSTART;TZID=America/Chicago:20260314T090000
DTEND;TZID=America/Chicago:20260314T100000
DTSTAMP:20260425T213517
CREATED:20260223T045046Z
LAST-MODIFIED:20260314T062135Z
UID:10005560-1773478800-1773482400@bodencoonrapids.com
SUMMARY:News Flash/Linked Senior
DESCRIPTION:
URL:https://bodencoonrapids.com/event-calendar/news-flash-linked-senior-37/
CATEGORIES:Memory Care
END:VEVENT
BEGIN:VEVENT
DTSTART;TZID=America/Chicago:20260314T080000
DTEND;TZID=America/Chicago:20260314T090000
DTSTAMP:20260425T213517
CREATED:20260223T045046Z
LAST-MODIFIED:20260314T062134Z
UID:10005559-1773475200-1773478800@bodencoonrapids.com
SUMMARY:Breakfast
DESCRIPTION:
URL:https://bodencoonrapids.com/event-calendar/breakfast-308/
CATEGORIES:Memory Care
END:VEVENT
BEGIN:VEVENT
DTSTART;VALUE=DATE:20260314
DTEND;VALUE=DATE:20260315
DTSTAMP:20260425T213517
CREATED:20260222T045052Z
LAST-MODIFIED:20260313T060550Z
UID:10005552-1773446400-1773532799@bodencoonrapids.com
SUMMARY:Always available activities
DESCRIPTION:
URL:https://bodencoonrapids.com/event-calendar/always-available-activities-321/
CATEGORIES:Memory Care
END:VEVENT
BEGIN:VEVENT
DTSTART;TZID=America/Chicago:20260313T200000
DTEND;TZID=America/Chicago:20260313T210000
DTSTAMP:20260425T213517
CREATED:20260223T045046Z
LAST-MODIFIED:20260313T060552Z
UID:10005558-1773432000-1773435600@bodencoonrapids.com
SUMMARY:Snack
DESCRIPTION:
URL:https://bodencoonrapids.com/event-calendar/snack-63/
CATEGORIES:Memory Care
END:VEVENT
BEGIN:VEVENT
DTSTART;TZID=America/Chicago:20260313T193000
DTEND;TZID=America/Chicago:20260313T203000
DTSTAMP:20260425T213517
CREATED:20260222T045052Z
LAST-MODIFIED:20260313T060551Z
UID:10005553-1773430200-1773433800@bodencoonrapids.com
SUMMARY:Sing a long/Books
DESCRIPTION:
URL:https://bodencoonrapids.com/event-calendar/sing-a-long-books-16/
LOCATION:Living Room
CATEGORIES:Memory Care
END:VEVENT
BEGIN:VEVENT
DTSTART;TZID=America/Chicago:20260313T190000
DTEND;TZID=America/Chicago:20260313T200000
DTSTAMP:20260425T213517
CREATED:20260222T045052Z
LAST-MODIFIED:20260313T060552Z
UID:10005551-1773428400-1773432000@bodencoonrapids.com
SUMMARY:Evening Stretching/Activity Binder
DESCRIPTION:
URL:https://bodencoonrapids.com/event-calendar/evening-stretching-activity-binder-37/
CATEGORIES:Memory Care
END:VEVENT
BEGIN:VEVENT
DTSTART;TZID=America/Chicago:20260313T173000
DTEND;TZID=America/Chicago:20260313T183000
DTSTAMP:20260425T213517
CREATED:20260222T045052Z
LAST-MODIFIED:20260313T060550Z
UID:10005550-1773423000-1773426600@bodencoonrapids.com
SUMMARY:Trivia
DESCRIPTION:
URL:https://bodencoonrapids.com/event-calendar/trivia-31/
CATEGORIES:Memory Care
END:VEVENT
BEGIN:VEVENT
DTSTART;TZID=America/Chicago:20260313T170000
DTEND;TZID=America/Chicago:20260313T180000
DTSTAMP:20260425T213517
CREATED:20260222T045052Z
LAST-MODIFIED:20260313T060536Z
UID:10005549-1773421200-1773424800@bodencoonrapids.com
SUMMARY:Dinner
DESCRIPTION:
URL:https://bodencoonrapids.com/event-calendar/dinner-286/
CATEGORIES:Memory Care
END:VEVENT
BEGIN:VEVENT
DTSTART;TZID=America/Chicago:20260313T163000
DTEND;TZID=America/Chicago:20260313T173000
DTSTAMP:20260425T213517
CREATED:20260222T045052Z
LAST-MODIFIED:20260313T060536Z
UID:10005548-1773419400-1773423000@bodencoonrapids.com
SUMMARY:Oshibori
DESCRIPTION:
URL:https://bodencoonrapids.com/event-calendar/oshibori-153/
CATEGORIES:Memory Care
END:VEVENT
BEGIN:VEVENT
DTSTART;TZID=America/Chicago:20260313T150000
DTEND;TZID=America/Chicago:20260313T160000
DTSTAMP:20260425T213517
CREATED:20260222T045052Z
LAST-MODIFIED:20260313T060536Z
UID:10005547-1773414000-1773417600@bodencoonrapids.com
SUMMARY:GOLF!
DESCRIPTION:
URL:https://bodencoonrapids.com/event-calendar/golf-4/
CATEGORIES:Memory Care
END:VEVENT
BEGIN:VEVENT
DTSTART;TZID=America/Chicago:20260313T140000
DTEND;TZID=America/Chicago:20260313T160000
DTSTAMP:20260425T213517
CREATED:20260222T045051Z
LAST-MODIFIED:20260313T060536Z
UID:10005544-1773410400-1773417600@bodencoonrapids.com
SUMMARY:Snack and Social hour
DESCRIPTION:
URL:https://bodencoonrapids.com/event-calendar/snack-and-social-hour-46/
CATEGORIES:Memory Care
END:VEVENT
BEGIN:VEVENT
DTSTART;TZID=America/Chicago:20260313T130000
DTEND;TZID=America/Chicago:20260313T140000
DTSTAMP:20260425T213517
CREATED:20260222T045052Z
LAST-MODIFIED:20260313T060536Z
UID:10005545-1773406800-1773410400@bodencoonrapids.com
SUMMARY:Bingo/Activity Bin
DESCRIPTION:
URL:https://bodencoonrapids.com/event-calendar/bingo-activity-bin-11/
LOCATION:Dining Room
CATEGORIES:Memory Care
END:VEVENT
BEGIN:VEVENT
DTSTART;TZID=America/Chicago:20260313T120000
DTEND;TZID=America/Chicago:20260313T130000
DTSTAMP:20260425T213517
CREATED:20260222T045052Z
LAST-MODIFIED:20260313T060536Z
UID:10005546-1773403200-1773406800@bodencoonrapids.com
SUMMARY:Lunch
DESCRIPTION:
URL:https://bodencoonrapids.com/event-calendar/lunch-286/
CATEGORIES:Memory Care
END:VEVENT
BEGIN:VEVENT
DTSTART;TZID=America/Chicago:20260313T113000
DTEND;TZID=America/Chicago:20260313T123000
DTSTAMP:20260425T213517
CREATED:20260222T045051Z
LAST-MODIFIED:20260313T060536Z
UID:10005543-1773401400-1773405000@bodencoonrapids.com
SUMMARY:Oshibori
DESCRIPTION:
URL:https://bodencoonrapids.com/event-calendar/oshibori-152/
CATEGORIES:Memory Care
END:VEVENT
BEGIN:VEVENT
DTSTART;TZID=America/Chicago:20260313T103000
DTEND;TZID=America/Chicago:20260313T113000
DTSTAMP:20260425T213517
CREATED:20260222T045051Z
LAST-MODIFIED:20260313T060536Z
UID:10005542-1773397800-1773401400@bodencoonrapids.com
SUMMARY:Pastor Russell
DESCRIPTION:
URL:https://bodencoonrapids.com/event-calendar/pastor-russell-18/
CATEGORIES:Memory Care
END:VEVENT
BEGIN:VEVENT
DTSTART;TZID=America/Chicago:20260313T090000
DTEND;TZID=America/Chicago:20260313T100000
DTSTAMP:20260425T213517
CREATED:20260222T045051Z
LAST-MODIFIED:20260313T060536Z
UID:10005541-1773392400-1773396000@bodencoonrapids.com
SUMMARY:News Flash/Linked Senior
DESCRIPTION:
URL:https://bodencoonrapids.com/event-calendar/news-flash-linked-senior-36/
CATEGORIES:Memory Care
END:VEVENT
BEGIN:VEVENT
DTSTART;TZID=America/Chicago:20260313T080000
DTEND;TZID=America/Chicago:20260313T090000
DTSTAMP:20260425T213517
CREATED:20260221T043549Z
LAST-MODIFIED:20260313T060536Z
UID:10005534-1773388800-1773392400@bodencoonrapids.com
SUMMARY:Breakfast
DESCRIPTION:
URL:https://bodencoonrapids.com/event-calendar/breakfast-307/
CATEGORIES:Memory Care
END:VEVENT
BEGIN:VEVENT
DTSTART;VALUE=DATE:20260313
DTEND;VALUE=DATE:20260314
DTSTAMP:20260425T213517
CREATED:20260221T043549Z
LAST-MODIFIED:20260312T060547Z
UID:10005532-1773360000-1773446399@bodencoonrapids.com
SUMMARY:Always available activities
DESCRIPTION:
URL:https://bodencoonrapids.com/event-calendar/always-available-activities-320/
CATEGORIES:Memory Care
END:VEVENT
BEGIN:VEVENT
DTSTART;TZID=America/Chicago:20260312T200000
DTEND;TZID=America/Chicago:20260312T210000
DTSTAMP:20260425T213517
CREATED:20260221T043549Z
LAST-MODIFIED:20260312T060548Z
UID:10005533-1773345600-1773349200@bodencoonrapids.com
SUMMARY:Snack
DESCRIPTION:
URL:https://bodencoonrapids.com/event-calendar/snack-62/
CATEGORIES:Memory Care
END:VEVENT
BEGIN:VEVENT
DTSTART;TZID=America/Chicago:20260312T190000
DTEND;TZID=America/Chicago:20260312T200000
DTSTAMP:20260425T213517
CREATED:20260221T043549Z
LAST-MODIFIED:20260312T060547Z
UID:10005531-1773342000-1773345600@bodencoonrapids.com
SUMMARY:Evening Stretching/Activity Binder
DESCRIPTION:
URL:https://bodencoonrapids.com/event-calendar/evening-stretching-activity-binder-36/
CATEGORIES:Memory Care
END:VEVENT
END:VCALENDAR