BEGIN:VCALENDAR
VERSION:2.0
PRODID:-//Boden Coon Rapids - ECPv6.11.2.1//NONSGML v1.0//EN
CALSCALE:GREGORIAN
METHOD:PUBLISH
X-ORIGINAL-URL:https://bodencoonrapids.com
X-WR-CALDESC:Events for Boden Coon Rapids
REFRESH-INTERVAL;VALUE=DURATION:PT1H
X-Robots-Tag:noindex
X-PUBLISHED-TTL:PT1H
BEGIN:VTIMEZONE
TZID:America/Chicago
BEGIN:DAYLIGHT
TZOFFSETFROM:-0600
TZOFFSETTO:-0500
TZNAME:CDT
DTSTART:20260308T080000
END:DAYLIGHT
BEGIN:STANDARD
TZOFFSETFROM:-0500
TZOFFSETTO:-0600
TZNAME:CST
DTSTART:20261101T070000
END:STANDARD
END:VTIMEZONE
BEGIN:VEVENT
DTSTART;TZID=America/Chicago:20260514T110000
DTEND;TZID=America/Chicago:20260514T120000
DTSTAMP:20260423T034735
CREATED:20260415T055131Z
LAST-MODIFIED:20260423T063537Z
UID:10006475-1778756400-1778760000@bodencoonrapids.com
SUMMARY:Exercise Class
DESCRIPTION:
URL:https://bodencoonrapids.com/event-calendar/exercise-class-28/
CATEGORIES:Assisted Living
END:VEVENT
BEGIN:VEVENT
DTSTART;TZID=America/Chicago:20260514T110000
DTEND;TZID=America/Chicago:20260514T120000
DTSTAMP:20260423T034735
CREATED:20260421T083552Z
LAST-MODIFIED:20260423T083553Z
UID:10006579-1778756400-1778760000@bodencoonrapids.com
SUMMARY:Exercise Class
DESCRIPTION:
URL:https://bodencoonrapids.com/event-calendar/exercise-class-30/
CATEGORIES:Memory Care
END:VEVENT
BEGIN:VEVENT
DTSTART;TZID=America/Chicago:20260514T113000
DTEND;TZID=America/Chicago:20260514T123000
DTSTAMP:20260423T034735
CREATED:20260421T083552Z
LAST-MODIFIED:20260423T083553Z
UID:10006580-1778758200-1778761800@bodencoonrapids.com
SUMMARY:Oshibori
DESCRIPTION:
URL:https://bodencoonrapids.com/event-calendar/oshibori-276/
CATEGORIES:Memory Care
END:VEVENT
BEGIN:VEVENT
DTSTART;TZID=America/Chicago:20260514T120000
DTEND;TZID=America/Chicago:20260514T130000
DTSTAMP:20260423T034735
CREATED:20260421T083551Z
LAST-MODIFIED:20260423T083553Z
UID:10006578-1778760000-1778763600@bodencoonrapids.com
SUMMARY:Lunch
DESCRIPTION:
URL:https://bodencoonrapids.com/event-calendar/lunch-348/
CATEGORIES:Memory Care
END:VEVENT
BEGIN:VEVENT
DTSTART;TZID=America/Chicago:20260514T133000
DTEND;TZID=America/Chicago:20260514T143000
DTSTAMP:20260423T034735
CREATED:20260421T083552Z
LAST-MODIFIED:20260423T083553Z
UID:10006581-1778765400-1778769000@bodencoonrapids.com
SUMMARY:Jokin around/Linked Senior
DESCRIPTION:
URL:https://bodencoonrapids.com/event-calendar/jokin-around-linked-senior-15/
CATEGORIES:Memory Care
END:VEVENT
BEGIN:VEVENT
DTSTART;TZID=America/Chicago:20260514T140000
DTEND;TZID=America/Chicago:20260514T160000
DTSTAMP:20260423T034735
CREATED:20260422T083550Z
LAST-MODIFIED:20260423T083553Z
UID:10006585-1778767200-1778774400@bodencoonrapids.com
SUMMARY:Snack and Social hour
DESCRIPTION:
URL:https://bodencoonrapids.com/event-calendar/snack-and-social-hour-108/
CATEGORIES:Memory Care
END:VEVENT
BEGIN:VEVENT
DTSTART;TZID=America/Chicago:20260514T150000
DTEND;TZID=America/Chicago:20260514T160000
DTSTAMP:20260423T034735
CREATED:20260415T055131Z
LAST-MODIFIED:20260423T063537Z
UID:10006476-1778770800-1778774400@bodencoonrapids.com
SUMMARY:Thirsty Thursday
DESCRIPTION:
URL:https://bodencoonrapids.com/event-calendar/thirsty-thursday-47/
LOCATION:Outdoors
CATEGORIES:Assisted Living
END:VEVENT
BEGIN:VEVENT
DTSTART;TZID=America/Chicago:20260514T153000
DTEND;TZID=America/Chicago:20260514T163000
DTSTAMP:20260423T034735
CREATED:20260422T083550Z
LAST-MODIFIED:20260423T083553Z
UID:10006584-1778772600-1778776200@bodencoonrapids.com
SUMMARY:Thirsty Thursday
DESCRIPTION:
URL:https://bodencoonrapids.com/event-calendar/thirsty-thursday-50/
CATEGORIES:Memory Care
END:VEVENT
BEGIN:VEVENT
DTSTART;TZID=America/Chicago:20260514T163000
DTEND;TZID=America/Chicago:20260514T173000
DTSTAMP:20260423T034735
CREATED:20260422T083550Z
LAST-MODIFIED:20260423T083553Z
UID:10006586-1778776200-1778779800@bodencoonrapids.com
SUMMARY:Oshibori
DESCRIPTION:
URL:https://bodencoonrapids.com/event-calendar/oshibori-277/
CATEGORIES:Memory Care
END:VEVENT
BEGIN:VEVENT
DTSTART;TZID=America/Chicago:20260514T170000
DTEND;TZID=America/Chicago:20260514T180000
DTSTAMP:20260423T034735
CREATED:20260422T083550Z
LAST-MODIFIED:20260423T083553Z
UID:10006587-1778778000-1778781600@bodencoonrapids.com
SUMMARY:Dinner
DESCRIPTION:
URL:https://bodencoonrapids.com/event-calendar/dinner-348/
CATEGORIES:Memory Care
END:VEVENT
BEGIN:VEVENT
DTSTART;TZID=America/Chicago:20260514T173000
DTEND;TZID=America/Chicago:20260514T183000
DTSTAMP:20260423T034735
CREATED:20260422T083551Z
LAST-MODIFIED:20260423T083553Z
UID:10006588-1778779800-1778783400@bodencoonrapids.com
SUMMARY:Balloon toss game
DESCRIPTION:
URL:https://bodencoonrapids.com/event-calendar/balloon-toss-game-22/
CATEGORIES:Memory Care
END:VEVENT
BEGIN:VEVENT
DTSTART;TZID=America/Chicago:20260514T180000
DTEND;TZID=America/Chicago:20260514T190000
DTSTAMP:20260423T034735
CREATED:20260422T083551Z
LAST-MODIFIED:20260423T083554Z
UID:10006589-1778781600-1778785200@bodencoonrapids.com
SUMMARY:Wheel of Fortune/Linked Senior
DESCRIPTION:
URL:https://bodencoonrapids.com/event-calendar/wheel-of-fortune-linked-senior-15/
CATEGORIES:Memory Care
END:VEVENT
BEGIN:VEVENT
DTSTART;TZID=America/Chicago:20260514T190000
DTEND;TZID=America/Chicago:20260514T200000
DTSTAMP:20260423T034735
CREATED:20260422T083551Z
LAST-MODIFIED:20260423T083554Z
UID:10006590-1778785200-1778788800@bodencoonrapids.com
SUMMARY:Evening Stretching/Activity Binder
DESCRIPTION:
URL:https://bodencoonrapids.com/event-calendar/evening-stretching-activity-binder-99/
CATEGORIES:Memory Care
END:VEVENT
BEGIN:VEVENT
DTSTART;VALUE=DATE:20260515
DTEND;VALUE=DATE:20260516
DTSTAMP:20260423T034735
CREATED:20260422T083551Z
LAST-MODIFIED:20260423T083554Z
UID:10006591-1778803200-1778889599@bodencoonrapids.com
SUMMARY:Always available activities
DESCRIPTION:
URL:https://bodencoonrapids.com/event-calendar/always-available-activities-383/
CATEGORIES:Memory Care
END:VEVENT
BEGIN:VEVENT
DTSTART;TZID=America/Chicago:20260515T080000
DTEND;TZID=America/Chicago:20260515T090000
DTSTAMP:20260423T034735
CREATED:20260422T083551Z
LAST-MODIFIED:20260423T083554Z
UID:10006592-1778832000-1778835600@bodencoonrapids.com
SUMMARY:Breakfast
DESCRIPTION:
URL:https://bodencoonrapids.com/event-calendar/breakfast-370/
CATEGORIES:Memory Care
END:VEVENT
BEGIN:VEVENT
DTSTART;TZID=America/Chicago:20260515T090000
DTEND;TZID=America/Chicago:20260515T100000
DTSTAMP:20260423T034735
CREATED:20260422T083551Z
LAST-MODIFIED:20260423T083554Z
UID:10006593-1778835600-1778839200@bodencoonrapids.com
SUMMARY:News Flash/Linked Senior
DESCRIPTION:
URL:https://bodencoonrapids.com/event-calendar/news-flash-linked-senior-99/
CATEGORIES:Memory Care
END:VEVENT
BEGIN:VEVENT
DTSTART;TZID=America/Chicago:20260515T103000
DTEND;TZID=America/Chicago:20260515T113000
DTSTAMP:20260423T034735
CREATED:20260422T083551Z
LAST-MODIFIED:20260423T083554Z
UID:10006594-1778841000-1778844600@bodencoonrapids.com
SUMMARY:Pastor Russell
DESCRIPTION:
URL:https://bodencoonrapids.com/event-calendar/pastor-russell-27/
CATEGORIES:Memory Care
END:VEVENT
BEGIN:VEVENT
DTSTART;TZID=America/Chicago:20260515T110000
DTEND;TZID=America/Chicago:20260515T120000
DTSTAMP:20260423T034735
CREATED:20260416T060537Z
LAST-MODIFIED:20260423T063537Z
UID:10006490-1778842800-1778846400@bodencoonrapids.com
SUMMARY:Pastor Russell/Church Service
DESCRIPTION:
URL:https://bodencoonrapids.com/event-calendar/pastor-russell-church-service-45/
LOCATION:TV Room
CATEGORIES:Assisted Living
END:VEVENT
BEGIN:VEVENT
DTSTART;TZID=America/Chicago:20260515T113000
DTEND;TZID=America/Chicago:20260515T123000
DTSTAMP:20260423T034735
CREATED:20260422T083551Z
LAST-MODIFIED:20260423T083554Z
UID:10006597-1778844600-1778848200@bodencoonrapids.com
SUMMARY:Oshibori
DESCRIPTION:
URL:https://bodencoonrapids.com/event-calendar/oshibori-278/
CATEGORIES:Memory Care
END:VEVENT
BEGIN:VEVENT
DTSTART;TZID=America/Chicago:20260515T120000
DTEND;TZID=America/Chicago:20260515T130000
DTSTAMP:20260423T034735
CREATED:20260422T083551Z
LAST-MODIFIED:20260423T083554Z
UID:10006596-1778846400-1778850000@bodencoonrapids.com
SUMMARY:Lunch
DESCRIPTION:
URL:https://bodencoonrapids.com/event-calendar/lunch-349/
CATEGORIES:Memory Care
END:VEVENT
BEGIN:VEVENT
DTSTART;TZID=America/Chicago:20260515T130000
DTEND;TZID=America/Chicago:20260515T140000
DTSTAMP:20260423T034735
CREATED:20260422T083551Z
LAST-MODIFIED:20260423T083554Z
UID:10006595-1778850000-1778853600@bodencoonrapids.com
SUMMARY:Bingo/Activity Bin
DESCRIPTION:
URL:https://bodencoonrapids.com/event-calendar/bingo-activity-bin-29/
LOCATION:Dining Room
CATEGORIES:Memory Care
END:VEVENT
BEGIN:VEVENT
DTSTART;TZID=America/Chicago:20260515T140000
DTEND;TZID=America/Chicago:20260515T160000
DTSTAMP:20260423T034735
CREATED:20260423T083554Z
LAST-MODIFIED:20260423T083554Z
UID:10006600-1778853600-1778860800@bodencoonrapids.com
SUMMARY:Snack and Social hour
DESCRIPTION:
URL:https://bodencoonrapids.com/event-calendar/snack-and-social-hour-109/
CATEGORIES:Memory Care
END:VEVENT
BEGIN:VEVENT
DTSTART;TZID=America/Chicago:20260515T143000
DTEND;TZID=America/Chicago:20260515T153000
DTSTAMP:20260423T034735
CREATED:20260416T060537Z
LAST-MODIFIED:20260423T063537Z
UID:10006491-1778855400-1778859000@bodencoonrapids.com
SUMMARY:Bingo/ Hosted by Community Life
DESCRIPTION:
URL:https://bodencoonrapids.com/event-calendar/bingo-hosted-by-community-life-123/
LOCATION:Dining Room
CATEGORIES:Assisted Living
END:VEVENT
BEGIN:VEVENT
DTSTART;TZID=America/Chicago:20260515T163000
DTEND;TZID=America/Chicago:20260515T173000
DTSTAMP:20260423T034735
CREATED:20260423T083554Z
LAST-MODIFIED:20260423T083554Z
UID:10006601-1778862600-1778866200@bodencoonrapids.com
SUMMARY:Oshibori
DESCRIPTION:
URL:https://bodencoonrapids.com/event-calendar/oshibori-279/
CATEGORIES:Memory Care
END:VEVENT
BEGIN:VEVENT
DTSTART;TZID=America/Chicago:20260515T170000
DTEND;TZID=America/Chicago:20260515T180000
DTSTAMP:20260423T034735
CREATED:20260423T083554Z
LAST-MODIFIED:20260423T083554Z
UID:10006602-1778864400-1778868000@bodencoonrapids.com
SUMMARY:Dinner
DESCRIPTION:
URL:https://bodencoonrapids.com/event-calendar/dinner-349/
CATEGORIES:Memory Care
END:VEVENT
BEGIN:VEVENT
DTSTART;TZID=America/Chicago:20260515T190000
DTEND;TZID=America/Chicago:20260515T200000
DTSTAMP:20260423T034735
CREATED:20260423T083554Z
LAST-MODIFIED:20260423T083554Z
UID:10006603-1778871600-1778875200@bodencoonrapids.com
SUMMARY:Evening Stretching/Activity Binder
DESCRIPTION:
URL:https://bodencoonrapids.com/event-calendar/evening-stretching-activity-binder-100/
CATEGORIES:Memory Care
END:VEVENT
BEGIN:VEVENT
DTSTART;TZID=America/Chicago:20260515T193000
DTEND;TZID=America/Chicago:20260515T203000
DTSTAMP:20260423T034735
CREATED:20260423T083554Z
LAST-MODIFIED:20260423T083554Z
UID:10006605-1778873400-1778877000@bodencoonrapids.com
SUMMARY:Sing a long/Books
DESCRIPTION:
URL:https://bodencoonrapids.com/event-calendar/sing-a-long-books-43/
LOCATION:Living Room
CATEGORIES:Memory Care
END:VEVENT
BEGIN:VEVENT
DTSTART;VALUE=DATE:20260516
DTEND;VALUE=DATE:20260517
DTSTAMP:20260423T034735
CREATED:20260423T083554Z
LAST-MODIFIED:20260423T083554Z
UID:10006604-1778889600-1778975999@bodencoonrapids.com
SUMMARY:Always available activities
DESCRIPTION:
URL:https://bodencoonrapids.com/event-calendar/always-available-activities-384/
CATEGORIES:Memory Care
END:VEVENT
BEGIN:VEVENT
DTSTART;TZID=America/Chicago:20260516T080000
DTEND;TZID=America/Chicago:20260516T090000
DTSTAMP:20260423T034735
CREATED:20260423T083555Z
LAST-MODIFIED:20260423T083555Z
UID:10006606-1778918400-1778922000@bodencoonrapids.com
SUMMARY:Breakfast
DESCRIPTION:
URL:https://bodencoonrapids.com/event-calendar/breakfast-371/
CATEGORIES:Memory Care
END:VEVENT
BEGIN:VEVENT
DTSTART;TZID=America/Chicago:20260516T090000
DTEND;TZID=America/Chicago:20260516T100000
DTSTAMP:20260423T034735
CREATED:20260417T060538Z
LAST-MODIFIED:20260423T063537Z
UID:10006506-1778922000-1778925600@bodencoonrapids.com
SUMMARY:Always Available Activities/Located in labeled cabinets
DESCRIPTION:
URL:https://bodencoonrapids.com/event-calendar/always-available-activities-located-in-labeled-cabinets-246/
LOCATION:Activities Room
CATEGORIES:Assisted Living
END:VEVENT
END:VCALENDAR