BEGIN:VCALENDAR
VERSION:2.0
PRODID:-//Boden Coon Rapids - ECPv6.11.2.1//NONSGML v1.0//EN
CALSCALE:GREGORIAN
METHOD:PUBLISH
X-ORIGINAL-URL:https://bodencoonrapids.com
X-WR-CALDESC:Events for Boden Coon Rapids
REFRESH-INTERVAL;VALUE=DURATION:PT1H
X-Robots-Tag:noindex
X-PUBLISHED-TTL:PT1H
BEGIN:VTIMEZONE
TZID:America/Chicago
BEGIN:DAYLIGHT
TZOFFSETFROM:-0600
TZOFFSETTO:-0500
TZNAME:CDT
DTSTART:20260308T080000
END:DAYLIGHT
BEGIN:STANDARD
TZOFFSETFROM:-0500
TZOFFSETTO:-0600
TZNAME:CST
DTSTART:20261101T070000
END:STANDARD
END:VTIMEZONE
BEGIN:VEVENT
DTSTART;TZID=America/Chicago:20260519T150000
DTEND;TZID=America/Chicago:20260519T160000
DTSTAMP:20260421T073057
CREATED:20260420T062037Z
LAST-MODIFIED:20260421T063538Z
UID:10006554-1779202800-1779206400@bodencoonrapids.com
SUMMARY:Board games or cards
DESCRIPTION:
URL:https://bodencoonrapids.com/event-calendar/board-games-or-cards-7/
CATEGORIES:Assisted Living
END:VEVENT
BEGIN:VEVENT
DTSTART;TZID=America/Chicago:20260520T110000
DTEND;TZID=America/Chicago:20260520T120000
DTSTAMP:20260421T073057
CREATED:20260421T063538Z
LAST-MODIFIED:20260421T063538Z
UID:10006567-1779274800-1779278400@bodencoonrapids.com
SUMMARY:Chair Yoga
DESCRIPTION:
URL:https://bodencoonrapids.com/event-calendar/chair-yoga-41/
CATEGORIES:Assisted Living
END:VEVENT
BEGIN:VEVENT
DTSTART;TZID=America/Chicago:20260520T143000
DTEND;TZID=America/Chicago:20260520T153000
DTSTAMP:20260421T073057
CREATED:20260421T063538Z
LAST-MODIFIED:20260421T063538Z
UID:10006568-1779287400-1779291000@bodencoonrapids.com
SUMMARY:Bingo/ Hosted by Community Life
DESCRIPTION:
URL:https://bodencoonrapids.com/event-calendar/bingo-hosted-by-community-life-124/
LOCATION:Dining Room
CATEGORIES:Assisted Living
END:VEVENT
END:VCALENDAR