BEGIN:VCALENDAR
VERSION:2.0
PRODID:-//Boden Coon Rapids - ECPv6.11.2.1//NONSGML v1.0//EN
CALSCALE:GREGORIAN
METHOD:PUBLISH
X-WR-CALNAME:Boden Coon Rapids
X-ORIGINAL-URL:https://bodencoonrapids.com
X-WR-CALDESC:Events for Boden Coon Rapids
REFRESH-INTERVAL;VALUE=DURATION:PT1H
X-Robots-Tag:noindex
X-PUBLISHED-TTL:PT1H
BEGIN:VTIMEZONE
TZID:America/Chicago
BEGIN:DAYLIGHT
TZOFFSETFROM:-0600
TZOFFSETTO:-0500
TZNAME:CDT
DTSTART:20260308T080000
END:DAYLIGHT
BEGIN:STANDARD
TZOFFSETFROM:-0500
TZOFFSETTO:-0600
TZNAME:CST
DTSTART:20261101T070000
END:STANDARD
END:VTIMEZONE
BEGIN:VEVENT
DTSTART;TZID=America/Chicago:20260517T090000
DTEND;TZID=America/Chicago:20260517T100000
DTSTAMP:20260420T114026
CREATED:20260418T062038Z
LAST-MODIFIED:20260420T062037Z
UID:10006524-1779008400-1779012000@bodencoonrapids.com
SUMMARY:Always Available Activities/Located in labeled cabinets
DESCRIPTION:
URL:https://bodencoonrapids.com/event-calendar/always-available-activities-located-in-labeled-cabinets-247/
LOCATION:Activities Room
CATEGORIES:Assisted Living
END:VEVENT
BEGIN:VEVENT
DTSTART;TZID=America/Chicago:20260517T110000
DTEND;TZID=America/Chicago:20260517T120000
DTSTAMP:20260420T114026
CREATED:20260418T062038Z
LAST-MODIFIED:20260420T062037Z
UID:10006525-1779015600-1779019200@bodencoonrapids.com
SUMMARY:Coloring Club
DESCRIPTION:
URL:https://bodencoonrapids.com/event-calendar/coloring-club-40/
CATEGORIES:Assisted Living
END:VEVENT
BEGIN:VEVENT
DTSTART;TZID=America/Chicago:20260518T090000
DTEND;TZID=America/Chicago:20260518T100000
DTSTAMP:20260420T114026
CREATED:20260419T062036Z
LAST-MODIFIED:20260420T062037Z
UID:10006539-1779094800-1779098400@bodencoonrapids.com
SUMMARY:Catholic communion
DESCRIPTION:
URL:https://bodencoonrapids.com/event-calendar/catholic-communion-45/
CATEGORIES:Assisted Living
END:VEVENT
BEGIN:VEVENT
DTSTART;TZID=America/Chicago:20260518T133000
DTEND;TZID=America/Chicago:20260518T143000
DTSTAMP:20260420T114026
CREATED:20260419T062036Z
LAST-MODIFIED:20260420T062037Z
UID:10006540-1779111000-1779114600@bodencoonrapids.com
SUMMARY:Chair Yoga
DESCRIPTION:
URL:https://bodencoonrapids.com/event-calendar/chair-yoga-40/
CATEGORIES:Assisted Living
END:VEVENT
BEGIN:VEVENT
DTSTART;TZID=America/Chicago:20260518T150000
DTEND;TZID=America/Chicago:20260518T160000
DTSTAMP:20260420T114026
CREATED:20260419T062036Z
LAST-MODIFIED:20260420T062037Z
UID:10006541-1779116400-1779120000@bodencoonrapids.com
SUMMARY:Women's Group
DESCRIPTION:
URL:https://bodencoonrapids.com/event-calendar/womens-group-15/
CATEGORIES:Assisted Living
END:VEVENT
BEGIN:VEVENT
DTSTART;TZID=America/Chicago:20260519T110000
DTEND;TZID=America/Chicago:20260519T120000
DTSTAMP:20260420T114026
CREATED:20260420T062037Z
LAST-MODIFIED:20260420T062037Z
UID:10006553-1779188400-1779192000@bodencoonrapids.com
SUMMARY:Devotions with Pastor Bruce
DESCRIPTION:
URL:https://bodencoonrapids.com/event-calendar/devotions-with-pastor-bruce-45/
LOCATION:Living Room
CATEGORIES:Assisted Living
END:VEVENT
BEGIN:VEVENT
DTSTART;TZID=America/Chicago:20260519T150000
DTEND;TZID=America/Chicago:20260519T160000
DTSTAMP:20260420T114026
CREATED:20260420T062037Z
LAST-MODIFIED:20260420T062037Z
UID:10006554-1779202800-1779206400@bodencoonrapids.com
SUMMARY:Board games or cards
DESCRIPTION:
URL:https://bodencoonrapids.com/event-calendar/board-games-or-cards-7/
CATEGORIES:Assisted Living
END:VEVENT
END:VCALENDAR