BEGIN:VCALENDAR
VERSION:2.0
PRODID:-//Boden Coon Rapids - ECPv6.11.2.1//NONSGML v1.0//EN
CALSCALE:GREGORIAN
METHOD:PUBLISH
X-WR-CALNAME:Boden Coon Rapids
X-ORIGINAL-URL:https://bodencoonrapids.com
X-WR-CALDESC:Events for Boden Coon Rapids
REFRESH-INTERVAL;VALUE=DURATION:PT1H
X-Robots-Tag:noindex
X-PUBLISHED-TTL:PT1H
BEGIN:VTIMEZONE
TZID:America/Chicago
BEGIN:DAYLIGHT
TZOFFSETFROM:-0600
TZOFFSETTO:-0500
TZNAME:CDT
DTSTART:20260308T080000
END:DAYLIGHT
BEGIN:STANDARD
TZOFFSETFROM:-0500
TZOFFSETTO:-0600
TZNAME:CST
DTSTART:20261101T070000
END:STANDARD
END:VTIMEZONE
BEGIN:VEVENT
DTSTART;TZID=America/Chicago:20260518T113000
DTEND;TZID=America/Chicago:20260518T123000
DTSTAMP:20260425T052514
CREATED:20260425T083549Z
LAST-MODIFIED:20260425T083549Z
UID:10006638-1779103800-1779107400@bodencoonrapids.com
SUMMARY:Oshibori
DESCRIPTION:
URL:https://bodencoonrapids.com/event-calendar/oshibori-284/
CATEGORIES:Memory Care
END:VEVENT
BEGIN:VEVENT
DTSTART;TZID=America/Chicago:20260518T120000
DTEND;TZID=America/Chicago:20260518T130000
DTSTAMP:20260425T052514
CREATED:20260425T083549Z
LAST-MODIFIED:20260425T083549Z
UID:10006639-1779105600-1779109200@bodencoonrapids.com
SUMMARY:Lunch
DESCRIPTION:
URL:https://bodencoonrapids.com/event-calendar/lunch-352/
CATEGORIES:Memory Care
END:VEVENT
BEGIN:VEVENT
DTSTART;TZID=America/Chicago:20260518T133000
DTEND;TZID=America/Chicago:20260518T143000
DTSTAMP:20260425T052514
CREATED:20260419T062036Z
LAST-MODIFIED:20260425T063544Z
UID:10006540-1779111000-1779114600@bodencoonrapids.com
SUMMARY:Chair Yoga
DESCRIPTION:
URL:https://bodencoonrapids.com/event-calendar/chair-yoga-40/
CATEGORIES:Assisted Living
END:VEVENT
BEGIN:VEVENT
DTSTART;TZID=America/Chicago:20260518T140000
DTEND;TZID=America/Chicago:20260518T160000
DTSTAMP:20260425T052514
CREATED:20260425T083549Z
LAST-MODIFIED:20260425T083549Z
UID:10006640-1779112800-1779120000@bodencoonrapids.com
SUMMARY:Snack and Social hour
DESCRIPTION:
URL:https://bodencoonrapids.com/event-calendar/snack-and-social-hour-112/
CATEGORIES:Memory Care
END:VEVENT
BEGIN:VEVENT
DTSTART;TZID=America/Chicago:20260518T150000
DTEND;TZID=America/Chicago:20260518T160000
DTSTAMP:20260425T052514
CREATED:20260419T062036Z
LAST-MODIFIED:20260425T063544Z
UID:10006541-1779116400-1779120000@bodencoonrapids.com
SUMMARY:Women's Group
DESCRIPTION:
URL:https://bodencoonrapids.com/event-calendar/womens-group-15/
CATEGORIES:Assisted Living
END:VEVENT
BEGIN:VEVENT
DTSTART;TZID=America/Chicago:20260518T163000
DTEND;TZID=America/Chicago:20260518T173000
DTSTAMP:20260425T052514
CREATED:20260425T083549Z
LAST-MODIFIED:20260425T083549Z
UID:10006641-1779121800-1779125400@bodencoonrapids.com
SUMMARY:Oshibori
DESCRIPTION:
URL:https://bodencoonrapids.com/event-calendar/oshibori-285/
CATEGORIES:Memory Care
END:VEVENT
BEGIN:VEVENT
DTSTART;TZID=America/Chicago:20260518T170000
DTEND;TZID=America/Chicago:20260518T180000
DTSTAMP:20260425T052514
CREATED:20260425T083549Z
LAST-MODIFIED:20260425T083549Z
UID:10006642-1779123600-1779127200@bodencoonrapids.com
SUMMARY:Dinner
DESCRIPTION:
URL:https://bodencoonrapids.com/event-calendar/dinner-352/
CATEGORIES:Memory Care
END:VEVENT
BEGIN:VEVENT
DTSTART;TZID=America/Chicago:20260518T190000
DTEND;TZID=America/Chicago:20260518T200000
DTSTAMP:20260425T052514
CREATED:20260425T083550Z
LAST-MODIFIED:20260425T083550Z
UID:10006643-1779130800-1779134400@bodencoonrapids.com
SUMMARY:Evening Stretching/Activity Binder
DESCRIPTION:
URL:https://bodencoonrapids.com/event-calendar/evening-stretching-activity-binder-103/
CATEGORIES:Memory Care
END:VEVENT
BEGIN:VEVENT
DTSTART;TZID=America/Chicago:20260518T193000
DTEND;TZID=America/Chicago:20260518T203000
DTSTAMP:20260425T052514
CREATED:20260425T083550Z
LAST-MODIFIED:20260425T083550Z
UID:10006645-1779132600-1779136200@bodencoonrapids.com
SUMMARY:Sing a long/Books
DESCRIPTION:
URL:https://bodencoonrapids.com/event-calendar/sing-a-long-books-44/
LOCATION:Living Room
CATEGORIES:Memory Care
END:VEVENT
BEGIN:VEVENT
DTSTART;VALUE=DATE:20260519
DTEND;VALUE=DATE:20260520
DTSTAMP:20260425T052514
CREATED:20260425T083550Z
LAST-MODIFIED:20260425T083550Z
UID:10006644-1779148800-1779235199@bodencoonrapids.com
SUMMARY:Always available activities
DESCRIPTION:
URL:https://bodencoonrapids.com/event-calendar/always-available-activities-387/
CATEGORIES:Memory Care
END:VEVENT
BEGIN:VEVENT
DTSTART;TZID=America/Chicago:20260519T080000
DTEND;TZID=America/Chicago:20260519T090000
DTSTAMP:20260425T052514
CREATED:20260425T083550Z
LAST-MODIFIED:20260425T083550Z
UID:10006646-1779177600-1779181200@bodencoonrapids.com
SUMMARY:Breakfast
DESCRIPTION:
URL:https://bodencoonrapids.com/event-calendar/breakfast-374/
CATEGORIES:Memory Care
END:VEVENT
BEGIN:VEVENT
DTSTART;TZID=America/Chicago:20260519T090000
DTEND;TZID=America/Chicago:20260519T100000
DTSTAMP:20260425T052514
CREATED:20260425T083550Z
LAST-MODIFIED:20260425T083550Z
UID:10006647-1779181200-1779184800@bodencoonrapids.com
SUMMARY:News Flash/Linked Senior
DESCRIPTION:
URL:https://bodencoonrapids.com/event-calendar/news-flash-linked-senior-103/
CATEGORIES:Memory Care
END:VEVENT
BEGIN:VEVENT
DTSTART;TZID=America/Chicago:20260519T110000
DTEND;TZID=America/Chicago:20260519T120000
DTSTAMP:20260425T052514
CREATED:20260420T062037Z
LAST-MODIFIED:20260425T063544Z
UID:10006553-1779188400-1779192000@bodencoonrapids.com
SUMMARY:Devotions with Pastor Bruce
DESCRIPTION:
URL:https://bodencoonrapids.com/event-calendar/devotions-with-pastor-bruce-45/
LOCATION:Living Room
CATEGORIES:Assisted Living
END:VEVENT
BEGIN:VEVENT
DTSTART;TZID=America/Chicago:20260519T150000
DTEND;TZID=America/Chicago:20260519T160000
DTSTAMP:20260425T052514
CREATED:20260420T062037Z
LAST-MODIFIED:20260425T063544Z
UID:10006554-1779202800-1779206400@bodencoonrapids.com
SUMMARY:Board games or cards
DESCRIPTION:
URL:https://bodencoonrapids.com/event-calendar/board-games-or-cards-7/
CATEGORIES:Assisted Living
END:VEVENT
BEGIN:VEVENT
DTSTART;TZID=America/Chicago:20260520T110000
DTEND;TZID=America/Chicago:20260520T120000
DTSTAMP:20260425T052514
CREATED:20260421T063538Z
LAST-MODIFIED:20260425T063544Z
UID:10006567-1779274800-1779278400@bodencoonrapids.com
SUMMARY:Chair Yoga
DESCRIPTION:
URL:https://bodencoonrapids.com/event-calendar/chair-yoga-41/
CATEGORIES:Assisted Living
END:VEVENT
BEGIN:VEVENT
DTSTART;TZID=America/Chicago:20260520T143000
DTEND;TZID=America/Chicago:20260520T153000
DTSTAMP:20260425T052514
CREATED:20260421T063538Z
LAST-MODIFIED:20260425T063544Z
UID:10006568-1779287400-1779291000@bodencoonrapids.com
SUMMARY:Bingo/ Hosted by Community Life
DESCRIPTION:
URL:https://bodencoonrapids.com/event-calendar/bingo-hosted-by-community-life-124/
LOCATION:Dining Room
CATEGORIES:Assisted Living
END:VEVENT
BEGIN:VEVENT
DTSTART;TZID=America/Chicago:20260521T110000
DTEND;TZID=America/Chicago:20260521T120000
DTSTAMP:20260425T052514
CREATED:20260422T063537Z
LAST-MODIFIED:20260425T063544Z
UID:10006582-1779361200-1779364800@bodencoonrapids.com
SUMMARY:Exercise Class
DESCRIPTION:
URL:https://bodencoonrapids.com/event-calendar/exercise-class-31/
CATEGORIES:Assisted Living
END:VEVENT
BEGIN:VEVENT
DTSTART;TZID=America/Chicago:20260521T150000
DTEND;TZID=America/Chicago:20260521T160000
DTSTAMP:20260425T052514
CREATED:20260422T063537Z
LAST-MODIFIED:20260425T063544Z
UID:10006583-1779375600-1779379200@bodencoonrapids.com
SUMMARY:Thirsty Thursday
DESCRIPTION:
URL:https://bodencoonrapids.com/event-calendar/thirsty-thursday-49/
LOCATION:Outdoors
CATEGORIES:Assisted Living
END:VEVENT
BEGIN:VEVENT
DTSTART;TZID=America/Chicago:20260522T110000
DTEND;TZID=America/Chicago:20260522T120000
DTSTAMP:20260425T052514
CREATED:20260423T063538Z
LAST-MODIFIED:20260425T063544Z
UID:10006598-1779447600-1779451200@bodencoonrapids.com
SUMMARY:Pastor Russell/Church Service
DESCRIPTION:
URL:https://bodencoonrapids.com/event-calendar/pastor-russell-church-service-46/
LOCATION:TV Room
CATEGORIES:Assisted Living
END:VEVENT
BEGIN:VEVENT
DTSTART;TZID=America/Chicago:20260522T143000
DTEND;TZID=America/Chicago:20260522T153000
DTSTAMP:20260425T052514
CREATED:20260423T063538Z
LAST-MODIFIED:20260425T063544Z
UID:10006599-1779460200-1779463800@bodencoonrapids.com
SUMMARY:Bingo/ Hosted by Community Life
DESCRIPTION:
URL:https://bodencoonrapids.com/event-calendar/bingo-hosted-by-community-life-125/
LOCATION:Dining Room
CATEGORIES:Assisted Living
END:VEVENT
BEGIN:VEVENT
DTSTART;TZID=America/Chicago:20260523T090000
DTEND;TZID=America/Chicago:20260523T100000
DTSTAMP:20260425T052514
CREATED:20260424T063559Z
LAST-MODIFIED:20260425T063544Z
UID:10006615-1779526800-1779530400@bodencoonrapids.com
SUMMARY:Always Available Activities/Located in labeled cabinets
DESCRIPTION:
URL:https://bodencoonrapids.com/event-calendar/always-available-activities-located-in-labeled-cabinets-248/
LOCATION:Activities Room
CATEGORIES:Assisted Living
END:VEVENT
BEGIN:VEVENT
DTSTART;TZID=America/Chicago:20260523T110000
DTEND;TZID=America/Chicago:20260523T120000
DTSTAMP:20260425T052514
CREATED:20260424T063559Z
LAST-MODIFIED:20260425T063544Z
UID:10006616-1779534000-1779537600@bodencoonrapids.com
SUMMARY:Coloring Club
DESCRIPTION:
URL:https://bodencoonrapids.com/event-calendar/coloring-club-41/
CATEGORIES:Assisted Living
END:VEVENT
BEGIN:VEVENT
DTSTART;TZID=America/Chicago:20260523T130000
DTEND;TZID=America/Chicago:20260523T140000
DTSTAMP:20260425T052514
CREATED:20260424T063559Z
LAST-MODIFIED:20260425T063544Z
UID:10006617-1779541200-1779544800@bodencoonrapids.com
SUMMARY:Wheel of Fortune
DESCRIPTION:
URL:https://bodencoonrapids.com/event-calendar/wheel-of-fortune-25/
CATEGORIES:Assisted Living
END:VEVENT
BEGIN:VEVENT
DTSTART;TZID=America/Chicago:20260523T150000
DTEND;TZID=America/Chicago:20260523T160000
DTSTAMP:20260425T052514
CREATED:20260424T063559Z
LAST-MODIFIED:20260425T063544Z
UID:10006618-1779548400-1779552000@bodencoonrapids.com
SUMMARY:Open-ended questions with Sydney
DESCRIPTION:
URL:https://bodencoonrapids.com/event-calendar/open-ended-questions-with-sydney-8/
CATEGORIES:Assisted Living
END:VEVENT
BEGIN:VEVENT
DTSTART;TZID=America/Chicago:20260524T090000
DTEND;TZID=America/Chicago:20260524T100000
DTSTAMP:20260425T052514
CREATED:20260425T063544Z
LAST-MODIFIED:20260425T063544Z
UID:10006633-1779613200-1779616800@bodencoonrapids.com
SUMMARY:Always Available Activities/Located in labeled cabinets
DESCRIPTION:
URL:https://bodencoonrapids.com/event-calendar/always-available-activities-located-in-labeled-cabinets-249/
LOCATION:Activities Room
CATEGORIES:Assisted Living
END:VEVENT
BEGIN:VEVENT
DTSTART;TZID=America/Chicago:20260524T110000
DTEND;TZID=America/Chicago:20260524T120000
DTSTAMP:20260425T052514
CREATED:20260425T063544Z
LAST-MODIFIED:20260425T063544Z
UID:10006634-1779620400-1779624000@bodencoonrapids.com
SUMMARY:Coloring Club
DESCRIPTION:
URL:https://bodencoonrapids.com/event-calendar/coloring-club-42/
CATEGORIES:Assisted Living
END:VEVENT
END:VCALENDAR