BEGIN:VCALENDAR
VERSION:2.0
PRODID:-//Boden Coon Rapids - ECPv6.11.2.1//NONSGML v1.0//EN
CALSCALE:GREGORIAN
METHOD:PUBLISH
X-WR-CALNAME:Boden Coon Rapids
X-ORIGINAL-URL:https://bodencoonrapids.com
X-WR-CALDESC:Events for Boden Coon Rapids
REFRESH-INTERVAL;VALUE=DURATION:PT1H
X-Robots-Tag:noindex
X-PUBLISHED-TTL:PT1H
BEGIN:VTIMEZONE
TZID:America/Chicago
BEGIN:DAYLIGHT
TZOFFSETFROM:-0600
TZOFFSETTO:-0500
TZNAME:CDT
DTSTART:20260308T080000
END:DAYLIGHT
BEGIN:STANDARD
TZOFFSETFROM:-0500
TZOFFSETTO:-0600
TZNAME:CST
DTSTART:20261101T070000
END:STANDARD
END:VTIMEZONE
BEGIN:VEVENT
DTSTART;TZID=America/Chicago:20260512T190000
DTEND;TZID=America/Chicago:20260512T200000
DTSTAMP:20260423T034515
CREATED:20260420T083547Z
LAST-MODIFIED:20260423T083552Z
UID:10006558-1778612400-1778616000@bodencoonrapids.com
SUMMARY:Evening Stretching/Activity Binder
DESCRIPTION:
URL:https://bodencoonrapids.com/event-calendar/evening-stretching-activity-binder-97/
CATEGORIES:Memory Care
END:VEVENT
BEGIN:VEVENT
DTSTART;VALUE=DATE:20260513
DTEND;VALUE=DATE:20260514
DTSTAMP:20260423T034515
CREATED:20260420T083547Z
LAST-MODIFIED:20260423T083552Z
UID:10006559-1778630400-1778716799@bodencoonrapids.com
SUMMARY:Always available activities
DESCRIPTION:
URL:https://bodencoonrapids.com/event-calendar/always-available-activities-381/
CATEGORIES:Memory Care
END:VEVENT
BEGIN:VEVENT
DTSTART;TZID=America/Chicago:20260513T080000
DTEND;TZID=America/Chicago:20260513T090000
DTSTAMP:20260423T034515
CREATED:20260420T083547Z
LAST-MODIFIED:20260423T083552Z
UID:10006560-1778659200-1778662800@bodencoonrapids.com
SUMMARY:Breakfast
DESCRIPTION:
URL:https://bodencoonrapids.com/event-calendar/breakfast-368/
CATEGORIES:Memory Care
END:VEVENT
BEGIN:VEVENT
DTSTART;TZID=America/Chicago:20260513T090000
DTEND;TZID=America/Chicago:20260513T100000
DTSTAMP:20260423T034515
CREATED:20260420T083547Z
LAST-MODIFIED:20260423T083552Z
UID:10006561-1778662800-1778666400@bodencoonrapids.com
SUMMARY:News Flash/Linked Senior
DESCRIPTION:
URL:https://bodencoonrapids.com/event-calendar/news-flash-linked-senior-97/
CATEGORIES:Memory Care
END:VEVENT
BEGIN:VEVENT
DTSTART;TZID=America/Chicago:20260513T100000
DTEND;TZID=America/Chicago:20260513T110000
DTSTAMP:20260423T034515
CREATED:20260420T083547Z
LAST-MODIFIED:20260423T083552Z
UID:10006564-1778666400-1778670000@bodencoonrapids.com
SUMMARY:Daily Bread reading
DESCRIPTION:
URL:https://bodencoonrapids.com/event-calendar/daily-bread-reading-19/
CATEGORIES:Memory Care
END:VEVENT
BEGIN:VEVENT
DTSTART;TZID=America/Chicago:20260513T110000
DTEND;TZID=America/Chicago:20260513T120000
DTSTAMP:20260423T034515
CREATED:20260414T055036Z
LAST-MODIFIED:20260423T063537Z
UID:10006460-1778670000-1778673600@bodencoonrapids.com
SUMMARY:Chair Yoga
DESCRIPTION:
URL:https://bodencoonrapids.com/event-calendar/chair-yoga-39/
CATEGORIES:Assisted Living
END:VEVENT
BEGIN:VEVENT
DTSTART;TZID=America/Chicago:20260513T110000
DTEND;TZID=America/Chicago:20260513T120000
DTSTAMP:20260423T034515
CREATED:20260420T083547Z
LAST-MODIFIED:20260423T083553Z
UID:10006563-1778670000-1778673600@bodencoonrapids.com
SUMMARY:Havin a ball exercise
DESCRIPTION:
URL:https://bodencoonrapids.com/event-calendar/havin-a-ball-exercise-20/
CATEGORIES:Memory Care
END:VEVENT
BEGIN:VEVENT
DTSTART;TZID=America/Chicago:20260513T113000
DTEND;TZID=America/Chicago:20260513T123000
DTSTAMP:20260423T034515
CREATED:20260420T083547Z
LAST-MODIFIED:20260423T083553Z
UID:10006565-1778671800-1778675400@bodencoonrapids.com
SUMMARY:Oshibori
DESCRIPTION:
URL:https://bodencoonrapids.com/event-calendar/oshibori-274/
CATEGORIES:Memory Care
END:VEVENT
BEGIN:VEVENT
DTSTART;TZID=America/Chicago:20260513T120000
DTEND;TZID=America/Chicago:20260513T130000
DTSTAMP:20260423T034515
CREATED:20260420T083547Z
LAST-MODIFIED:20260423T083553Z
UID:10006562-1778673600-1778677200@bodencoonrapids.com
SUMMARY:Lunch
DESCRIPTION:
URL:https://bodencoonrapids.com/event-calendar/lunch-347/
CATEGORIES:Memory Care
END:VEVENT
BEGIN:VEVENT
DTSTART;TZID=America/Chicago:20260513T133000
DTEND;TZID=America/Chicago:20260513T143000
DTSTAMP:20260423T034515
CREATED:20260420T083547Z
LAST-MODIFIED:20260423T083553Z
UID:10006566-1778679000-1778682600@bodencoonrapids.com
SUMMARY:Bingo and popcorn
DESCRIPTION:
URL:https://bodencoonrapids.com/event-calendar/bingo-and-popcorn-16/
CATEGORIES:Memory Care
END:VEVENT
BEGIN:VEVENT
DTSTART;TZID=America/Chicago:20260513T140000
DTEND;TZID=America/Chicago:20260513T160000
DTSTAMP:20260423T034515
CREATED:20260421T083551Z
LAST-MODIFIED:20260423T083553Z
UID:10006569-1778680800-1778688000@bodencoonrapids.com
SUMMARY:Snack and Social hour
DESCRIPTION:
URL:https://bodencoonrapids.com/event-calendar/snack-and-social-hour-107/
CATEGORIES:Memory Care
END:VEVENT
BEGIN:VEVENT
DTSTART;TZID=America/Chicago:20260513T143000
DTEND;TZID=America/Chicago:20260513T153000
DTSTAMP:20260423T034515
CREATED:20260414T055036Z
LAST-MODIFIED:20260423T063537Z
UID:10006461-1778682600-1778686200@bodencoonrapids.com
SUMMARY:Bingo/ Hosted by Community Life
DESCRIPTION:
URL:https://bodencoonrapids.com/event-calendar/bingo-hosted-by-community-life-122/
LOCATION:Dining Room
CATEGORIES:Assisted Living
END:VEVENT
BEGIN:VEVENT
DTSTART;TZID=America/Chicago:20260513T150000
DTEND;TZID=America/Chicago:20260513T160000
DTSTAMP:20260423T034515
CREATED:20260421T083551Z
LAST-MODIFIED:20260423T083553Z
UID:10006570-1778684400-1778688000@bodencoonrapids.com
SUMMARY:Noodle Games
DESCRIPTION:
URL:https://bodencoonrapids.com/event-calendar/noodle-games-15/
CATEGORIES:Memory Care
END:VEVENT
BEGIN:VEVENT
DTSTART;TZID=America/Chicago:20260513T163000
DTEND;TZID=America/Chicago:20260513T173000
DTSTAMP:20260423T034515
CREATED:20260421T083551Z
LAST-MODIFIED:20260423T083553Z
UID:10006571-1778689800-1778693400@bodencoonrapids.com
SUMMARY:Oshibori
DESCRIPTION:
URL:https://bodencoonrapids.com/event-calendar/oshibori-275/
CATEGORIES:Memory Care
END:VEVENT
BEGIN:VEVENT
DTSTART;TZID=America/Chicago:20260513T170000
DTEND;TZID=America/Chicago:20260513T180000
DTSTAMP:20260423T034515
CREATED:20260421T083551Z
LAST-MODIFIED:20260423T083553Z
UID:10006572-1778691600-1778695200@bodencoonrapids.com
SUMMARY:Dinner
DESCRIPTION:
URL:https://bodencoonrapids.com/event-calendar/dinner-347/
CATEGORIES:Memory Care
END:VEVENT
BEGIN:VEVENT
DTSTART;TZID=America/Chicago:20260513T190000
DTEND;TZID=America/Chicago:20260513T200000
DTSTAMP:20260423T034515
CREATED:20260421T083551Z
LAST-MODIFIED:20260423T083553Z
UID:10006573-1778698800-1778702400@bodencoonrapids.com
SUMMARY:Evening Stretching/Activity Binder
DESCRIPTION:
URL:https://bodencoonrapids.com/event-calendar/evening-stretching-activity-binder-98/
CATEGORIES:Memory Care
END:VEVENT
BEGIN:VEVENT
DTSTART;TZID=America/Chicago:20260513T193000
DTEND;TZID=America/Chicago:20260513T203000
DTSTAMP:20260423T034515
CREATED:20260421T083551Z
LAST-MODIFIED:20260423T083553Z
UID:10006575-1778700600-1778704200@bodencoonrapids.com
SUMMARY:Sing a long/Books
DESCRIPTION:
URL:https://bodencoonrapids.com/event-calendar/sing-a-long-books-42/
LOCATION:Living Room
CATEGORIES:Memory Care
END:VEVENT
BEGIN:VEVENT
DTSTART;VALUE=DATE:20260514
DTEND;VALUE=DATE:20260515
DTSTAMP:20260423T034515
CREATED:20260421T083551Z
LAST-MODIFIED:20260423T083553Z
UID:10006574-1778716800-1778803199@bodencoonrapids.com
SUMMARY:Always available activities
DESCRIPTION:
URL:https://bodencoonrapids.com/event-calendar/always-available-activities-382/
CATEGORIES:Memory Care
END:VEVENT
BEGIN:VEVENT
DTSTART;TZID=America/Chicago:20260514T080000
DTEND;TZID=America/Chicago:20260514T090000
DTSTAMP:20260423T034515
CREATED:20260421T083551Z
LAST-MODIFIED:20260423T083553Z
UID:10006576-1778745600-1778749200@bodencoonrapids.com
SUMMARY:Breakfast
DESCRIPTION:
URL:https://bodencoonrapids.com/event-calendar/breakfast-369/
CATEGORIES:Memory Care
END:VEVENT
BEGIN:VEVENT
DTSTART;TZID=America/Chicago:20260514T090000
DTEND;TZID=America/Chicago:20260514T100000
DTSTAMP:20260423T034515
CREATED:20260421T083551Z
LAST-MODIFIED:20260423T083553Z
UID:10006577-1778749200-1778752800@bodencoonrapids.com
SUMMARY:News Flash/Linked Senior
DESCRIPTION:
URL:https://bodencoonrapids.com/event-calendar/news-flash-linked-senior-98/
CATEGORIES:Memory Care
END:VEVENT
BEGIN:VEVENT
DTSTART;TZID=America/Chicago:20260514T110000
DTEND;TZID=America/Chicago:20260514T120000
DTSTAMP:20260423T034515
CREATED:20260415T055131Z
LAST-MODIFIED:20260423T063537Z
UID:10006475-1778756400-1778760000@bodencoonrapids.com
SUMMARY:Exercise Class
DESCRIPTION:
URL:https://bodencoonrapids.com/event-calendar/exercise-class-28/
CATEGORIES:Assisted Living
END:VEVENT
BEGIN:VEVENT
DTSTART;TZID=America/Chicago:20260514T110000
DTEND;TZID=America/Chicago:20260514T120000
DTSTAMP:20260423T034515
CREATED:20260421T083552Z
LAST-MODIFIED:20260423T083553Z
UID:10006579-1778756400-1778760000@bodencoonrapids.com
SUMMARY:Exercise Class
DESCRIPTION:
URL:https://bodencoonrapids.com/event-calendar/exercise-class-30/
CATEGORIES:Memory Care
END:VEVENT
BEGIN:VEVENT
DTSTART;TZID=America/Chicago:20260514T113000
DTEND;TZID=America/Chicago:20260514T123000
DTSTAMP:20260423T034515
CREATED:20260421T083552Z
LAST-MODIFIED:20260423T083553Z
UID:10006580-1778758200-1778761800@bodencoonrapids.com
SUMMARY:Oshibori
DESCRIPTION:
URL:https://bodencoonrapids.com/event-calendar/oshibori-276/
CATEGORIES:Memory Care
END:VEVENT
BEGIN:VEVENT
DTSTART;TZID=America/Chicago:20260514T120000
DTEND;TZID=America/Chicago:20260514T130000
DTSTAMP:20260423T034515
CREATED:20260421T083551Z
LAST-MODIFIED:20260423T083553Z
UID:10006578-1778760000-1778763600@bodencoonrapids.com
SUMMARY:Lunch
DESCRIPTION:
URL:https://bodencoonrapids.com/event-calendar/lunch-348/
CATEGORIES:Memory Care
END:VEVENT
BEGIN:VEVENT
DTSTART;TZID=America/Chicago:20260514T133000
DTEND;TZID=America/Chicago:20260514T143000
DTSTAMP:20260423T034515
CREATED:20260421T083552Z
LAST-MODIFIED:20260423T083553Z
UID:10006581-1778765400-1778769000@bodencoonrapids.com
SUMMARY:Jokin around/Linked Senior
DESCRIPTION:
URL:https://bodencoonrapids.com/event-calendar/jokin-around-linked-senior-15/
CATEGORIES:Memory Care
END:VEVENT
BEGIN:VEVENT
DTSTART;TZID=America/Chicago:20260514T140000
DTEND;TZID=America/Chicago:20260514T160000
DTSTAMP:20260423T034515
CREATED:20260422T083550Z
LAST-MODIFIED:20260423T083553Z
UID:10006585-1778767200-1778774400@bodencoonrapids.com
SUMMARY:Snack and Social hour
DESCRIPTION:
URL:https://bodencoonrapids.com/event-calendar/snack-and-social-hour-108/
CATEGORIES:Memory Care
END:VEVENT
BEGIN:VEVENT
DTSTART;TZID=America/Chicago:20260514T150000
DTEND;TZID=America/Chicago:20260514T160000
DTSTAMP:20260423T034515
CREATED:20260415T055131Z
LAST-MODIFIED:20260423T063537Z
UID:10006476-1778770800-1778774400@bodencoonrapids.com
SUMMARY:Thirsty Thursday
DESCRIPTION:
URL:https://bodencoonrapids.com/event-calendar/thirsty-thursday-47/
LOCATION:Outdoors
CATEGORIES:Assisted Living
END:VEVENT
BEGIN:VEVENT
DTSTART;TZID=America/Chicago:20260514T153000
DTEND;TZID=America/Chicago:20260514T163000
DTSTAMP:20260423T034515
CREATED:20260422T083550Z
LAST-MODIFIED:20260423T083553Z
UID:10006584-1778772600-1778776200@bodencoonrapids.com
SUMMARY:Thirsty Thursday
DESCRIPTION:
URL:https://bodencoonrapids.com/event-calendar/thirsty-thursday-50/
CATEGORIES:Memory Care
END:VEVENT
BEGIN:VEVENT
DTSTART;TZID=America/Chicago:20260514T163000
DTEND;TZID=America/Chicago:20260514T173000
DTSTAMP:20260423T034515
CREATED:20260422T083550Z
LAST-MODIFIED:20260423T083553Z
UID:10006586-1778776200-1778779800@bodencoonrapids.com
SUMMARY:Oshibori
DESCRIPTION:
URL:https://bodencoonrapids.com/event-calendar/oshibori-277/
CATEGORIES:Memory Care
END:VEVENT
BEGIN:VEVENT
DTSTART;TZID=America/Chicago:20260514T170000
DTEND;TZID=America/Chicago:20260514T180000
DTSTAMP:20260423T034515
CREATED:20260422T083550Z
LAST-MODIFIED:20260423T083553Z
UID:10006587-1778778000-1778781600@bodencoonrapids.com
SUMMARY:Dinner
DESCRIPTION:
URL:https://bodencoonrapids.com/event-calendar/dinner-348/
CATEGORIES:Memory Care
END:VEVENT
END:VCALENDAR