BEGIN:VCALENDAR
VERSION:2.0
PRODID:-//Boden Coon Rapids - ECPv6.11.2.1//NONSGML v1.0//EN
CALSCALE:GREGORIAN
METHOD:PUBLISH
X-WR-CALNAME:Boden Coon Rapids
X-ORIGINAL-URL:https://bodencoonrapids.com
X-WR-CALDESC:Events for Boden Coon Rapids
REFRESH-INTERVAL;VALUE=DURATION:PT1H
X-Robots-Tag:noindex
X-PUBLISHED-TTL:PT1H
BEGIN:VTIMEZONE
TZID:America/Chicago
BEGIN:DAYLIGHT
TZOFFSETFROM:-0600
TZOFFSETTO:-0500
TZNAME:CDT
DTSTART:20250309T080000
END:DAYLIGHT
BEGIN:STANDARD
TZOFFSETFROM:-0500
TZOFFSETTO:-0600
TZNAME:CST
DTSTART:20251102T070000
END:STANDARD
BEGIN:DAYLIGHT
TZOFFSETFROM:-0600
TZOFFSETTO:-0500
TZNAME:CDT
DTSTART:20260308T080000
END:DAYLIGHT
BEGIN:STANDARD
TZOFFSETFROM:-0500
TZOFFSETTO:-0600
TZNAME:CST
DTSTART:20261101T070000
END:STANDARD
END:VTIMEZONE
BEGIN:VEVENT
DTSTART;VALUE=DATE:20260104
DTEND;VALUE=DATE:20260105
DTSTAMP:20260423T074910
CREATED:20251206T005040Z
LAST-MODIFIED:20260103T015041Z
UID:10003945-1767484800-1767571199@bodencoonrapids.com
SUMMARY:Always Available Activities/Located in labeled cabinets
DESCRIPTION:
URL:https://bodencoonrapids.com/event-calendar/always-available-activities-located-in-labeled-cabinets-149/
LOCATION:Activities Room
CATEGORIES:Assisted Living
END:VEVENT
BEGIN:VEVENT
DTSTART;VALUE=DATE:20260103
DTEND;VALUE=DATE:20260104
DTSTAMP:20260423T074910
CREATED:20251205T005102Z
LAST-MODIFIED:20260102T015038Z
UID:10003931-1767398400-1767484799@bodencoonrapids.com
SUMMARY:Always Available Activities/Located in labeled cabinets
DESCRIPTION:
URL:https://bodencoonrapids.com/event-calendar/always-available-activities-located-in-labeled-cabinets-148/
LOCATION:Activities Room
CATEGORIES:Assisted Living
END:VEVENT
BEGIN:VEVENT
DTSTART;VALUE=DATE:20260102
DTEND;VALUE=DATE:20260103
DTSTAMP:20260423T074910
CREATED:20251204T005101Z
LAST-MODIFIED:20260101T015039Z
UID:10003916-1767312000-1767398399@bodencoonrapids.com
SUMMARY:Always Available Activities/Located in labeled cabinets
DESCRIPTION:
URL:https://bodencoonrapids.com/event-calendar/always-available-activities-located-in-labeled-cabinets-147/
LOCATION:Activities Room
CATEGORIES:Assisted Living
END:VEVENT
BEGIN:VEVENT
DTSTART;VALUE=DATE:20260101
DTEND;VALUE=DATE:20260102
DTSTAMP:20260423T074910
CREATED:20251203T005148Z
LAST-MODIFIED:20251231T013540Z
UID:10003904-1767225600-1767311999@bodencoonrapids.com
SUMMARY:Always Available Activities/Located in labeled cabinets
DESCRIPTION:
URL:https://bodencoonrapids.com/event-calendar/always-available-activities-located-in-labeled-cabinets-146/
LOCATION:Activities Room
CATEGORIES:Assisted Living
END:VEVENT
BEGIN:VEVENT
DTSTART;VALUE=DATE:20251231
DTEND;VALUE=DATE:20260101
DTSTAMP:20260423T074910
CREATED:20251202T005225Z
LAST-MODIFIED:20251230T013548Z
UID:10003886-1767139200-1767225599@bodencoonrapids.com
SUMMARY:Always Available Activities/Located in labeled cabinets
DESCRIPTION:
URL:https://bodencoonrapids.com/event-calendar/always-available-activities-located-in-labeled-cabinets-145/
LOCATION:Activities Room
CATEGORIES:Assisted Living
END:VEVENT
BEGIN:VEVENT
DTSTART;VALUE=DATE:20251230
DTEND;VALUE=DATE:20251231
DTSTAMP:20260423T074910
CREATED:20251201T005038Z
LAST-MODIFIED:20251229T013555Z
UID:10003847-1767052800-1767139199@bodencoonrapids.com
SUMMARY:Always Available Activities/Located in labeled cabinets
DESCRIPTION:
URL:https://bodencoonrapids.com/event-calendar/always-available-activities-located-in-labeled-cabinets-144/
LOCATION:Activities Room
CATEGORIES:Assisted Living
END:VEVENT
BEGIN:VEVENT
DTSTART;VALUE=DATE:20251229
DTEND;VALUE=DATE:20251230
DTSTAMP:20260423T074910
CREATED:20251130T000544Z
LAST-MODIFIED:20251228T013543Z
UID:10003822-1766966400-1767052799@bodencoonrapids.com
SUMMARY:Always Available Activities/Located in labeled cabinets
DESCRIPTION:
URL:https://bodencoonrapids.com/event-calendar/always-available-activities-located-in-labeled-cabinets-143/
LOCATION:Activities Room
CATEGORIES:Assisted Living
END:VEVENT
BEGIN:VEVENT
DTSTART;VALUE=DATE:20251228
DTEND;VALUE=DATE:20251229
DTSTAMP:20260423T074910
CREATED:20251128T155040Z
LAST-MODIFIED:20251227T013541Z
UID:10003803-1766880000-1766966399@bodencoonrapids.com
SUMMARY:Always Available Activities/Located in labeled cabinets
DESCRIPTION:
URL:https://bodencoonrapids.com/event-calendar/always-available-activities-located-in-labeled-cabinets-142/
LOCATION:Activities Room
CATEGORIES:Assisted Living
END:VEVENT
BEGIN:VEVENT
DTSTART;TZID=America/Chicago:20251227T110000
DTEND;TZID=America/Chicago:20251227T120000
DTSTAMP:20260423T074910
CREATED:20251128T155039Z
LAST-MODIFIED:20251201T005038Z
UID:10003802-1766833200-1766836800@bodencoonrapids.com
SUMMARY:Book Club
DESCRIPTION:
URL:https://bodencoonrapids.com/event-calendar/book-club-18/
LOCATION:Activities Room
CATEGORIES:Assisted Living
END:VEVENT
BEGIN:VEVENT
DTSTART;VALUE=DATE:20251227
DTEND;VALUE=DATE:20251228
DTSTAMP:20260423T074910
CREATED:20251127T155039Z
LAST-MODIFIED:20251226T013605Z
UID:10003789-1766793600-1766879999@bodencoonrapids.com
SUMMARY:Always Available Activities/Located in labeled cabinets
DESCRIPTION:
URL:https://bodencoonrapids.com/event-calendar/always-available-activities-located-in-labeled-cabinets-141/
LOCATION:Activities Room
CATEGORIES:Assisted Living
END:VEVENT
BEGIN:VEVENT
DTSTART;VALUE=DATE:20251226
DTEND;VALUE=DATE:20251227
DTSTAMP:20260423T074910
CREATED:20251126T155056Z
LAST-MODIFIED:20251225T013543Z
UID:10003774-1766707200-1766793599@bodencoonrapids.com
SUMMARY:Always Available Activities/Located in labeled cabinets
DESCRIPTION:
URL:https://bodencoonrapids.com/event-calendar/always-available-activities-located-in-labeled-cabinets-140/
LOCATION:Activities Room
CATEGORIES:Assisted Living
END:VEVENT
BEGIN:VEVENT
DTSTART;VALUE=DATE:20251225
DTEND;VALUE=DATE:20251226
DTSTAMP:20260423T074910
CREATED:20251125T155042Z
LAST-MODIFIED:20251224T013535Z
UID:10003758-1766620800-1766707199@bodencoonrapids.com
SUMMARY:Always Available Activities/Located in labeled cabinets
DESCRIPTION:
URL:https://bodencoonrapids.com/event-calendar/always-available-activities-located-in-labeled-cabinets-139/
LOCATION:Activities Room
CATEGORIES:Assisted Living
END:VEVENT
BEGIN:VEVENT
DTSTART;VALUE=DATE:20251224
DTEND;VALUE=DATE:20251225
DTSTAMP:20260423T074910
CREATED:20251124T155040Z
LAST-MODIFIED:20251223T013535Z
UID:10003743-1766534400-1766620799@bodencoonrapids.com
SUMMARY:Always Available Activities/Located in labeled cabinets
DESCRIPTION:
URL:https://bodencoonrapids.com/event-calendar/always-available-activities-located-in-labeled-cabinets-138/
LOCATION:Activities Room
CATEGORIES:Assisted Living
END:VEVENT
BEGIN:VEVENT
DTSTART;VALUE=DATE:20251223
DTEND;VALUE=DATE:20251224
DTSTAMP:20260423T074910
CREATED:20251123T155110Z
LAST-MODIFIED:20251222T013536Z
UID:10003728-1766448000-1766534399@bodencoonrapids.com
SUMMARY:Always Available Activities/Located in labeled cabinets
DESCRIPTION:
URL:https://bodencoonrapids.com/event-calendar/always-available-activities-located-in-labeled-cabinets-137/
LOCATION:Activities Room
CATEGORIES:Assisted Living
END:VEVENT
BEGIN:VEVENT
DTSTART;VALUE=DATE:20251222
DTEND;VALUE=DATE:20251223
DTSTAMP:20260423T074910
CREATED:20251122T155039Z
LAST-MODIFIED:20251221T012035Z
UID:10003714-1766361600-1766447999@bodencoonrapids.com
SUMMARY:Always Available Activities/Located in labeled cabinets
DESCRIPTION:
URL:https://bodencoonrapids.com/event-calendar/always-available-activities-located-in-labeled-cabinets-136/
LOCATION:Activities Room
CATEGORIES:Assisted Living
END:VEVENT
BEGIN:VEVENT
DTSTART;VALUE=DATE:20251221
DTEND;VALUE=DATE:20251222
DTSTAMP:20260423T074910
CREATED:20251121T155054Z
LAST-MODIFIED:20251220T012034Z
UID:10003701-1766275200-1766361599@bodencoonrapids.com
SUMMARY:Always Available Activities/Located in labeled cabinets
DESCRIPTION:
URL:https://bodencoonrapids.com/event-calendar/always-available-activities-located-in-labeled-cabinets-135/
LOCATION:Activities Room
CATEGORIES:Assisted Living
END:VEVENT
BEGIN:VEVENT
DTSTART;TZID=America/Chicago:20251220T110000
DTEND;TZID=America/Chicago:20251220T120000
DTSTAMP:20260423T074910
CREATED:20251121T155053Z
LAST-MODIFIED:20251201T005037Z
UID:10003700-1766228400-1766232000@bodencoonrapids.com
SUMMARY:Book Club
DESCRIPTION:
URL:https://bodencoonrapids.com/event-calendar/book-club-17/
LOCATION:Activities Room
CATEGORIES:Assisted Living
END:VEVENT
BEGIN:VEVENT
DTSTART;VALUE=DATE:20251220
DTEND;VALUE=DATE:20251221
DTSTAMP:20260423T074910
CREATED:20251120T155052Z
LAST-MODIFIED:20251219T012034Z
UID:10003687-1766188800-1766275199@bodencoonrapids.com
SUMMARY:Always Available Activities/Located in labeled cabinets
DESCRIPTION:
URL:https://bodencoonrapids.com/event-calendar/always-available-activities-located-in-labeled-cabinets-134/
LOCATION:Activities Room
CATEGORIES:Assisted Living
END:VEVENT
BEGIN:VEVENT
DTSTART;VALUE=DATE:20251219
DTEND;VALUE=DATE:20251220
DTSTAMP:20260423T074910
CREATED:20251119T155040Z
LAST-MODIFIED:20251218T012036Z
UID:10003672-1766102400-1766188799@bodencoonrapids.com
SUMMARY:Always Available Activities/Located in labeled cabinets
DESCRIPTION:
URL:https://bodencoonrapids.com/event-calendar/always-available-activities-located-in-labeled-cabinets-133/
LOCATION:Activities Room
CATEGORIES:Assisted Living
END:VEVENT
BEGIN:VEVENT
DTSTART;VALUE=DATE:20251218
DTEND;VALUE=DATE:20251219
DTSTAMP:20260423T074910
CREATED:20251118T155040Z
LAST-MODIFIED:20251217T012035Z
UID:10003656-1766016000-1766102399@bodencoonrapids.com
SUMMARY:Always Available Activities/Located in labeled cabinets
DESCRIPTION:
URL:https://bodencoonrapids.com/event-calendar/always-available-activities-located-in-labeled-cabinets-132/
LOCATION:Activities Room
CATEGORIES:Assisted Living
END:VEVENT
BEGIN:VEVENT
DTSTART;VALUE=DATE:20251217
DTEND;VALUE=DATE:20251218
DTSTAMP:20260423T074910
CREATED:20251117T155041Z
LAST-MODIFIED:20251216T012034Z
UID:10003641-1765929600-1766015999@bodencoonrapids.com
SUMMARY:Always Available Activities/Located in labeled cabinets
DESCRIPTION:
URL:https://bodencoonrapids.com/event-calendar/always-available-activities-located-in-labeled-cabinets-131/
LOCATION:Activities Room
CATEGORIES:Assisted Living
END:VEVENT
BEGIN:VEVENT
DTSTART;VALUE=DATE:20251216
DTEND;VALUE=DATE:20251217
DTSTAMP:20260423T074910
CREATED:20251116T155057Z
LAST-MODIFIED:20251215T010626Z
UID:10003626-1765843200-1765929599@bodencoonrapids.com
SUMMARY:Always Available Activities/Located in labeled cabinets
DESCRIPTION:
URL:https://bodencoonrapids.com/event-calendar/always-available-activities-located-in-labeled-cabinets-130/
LOCATION:Activities Room
CATEGORIES:Assisted Living
END:VEVENT
BEGIN:VEVENT
DTSTART;VALUE=DATE:20251215
DTEND;VALUE=DATE:20251216
DTSTAMP:20260423T074910
CREATED:20251115T155044Z
LAST-MODIFIED:20251214T010539Z
UID:10003612-1765756800-1765843199@bodencoonrapids.com
SUMMARY:Always Available Activities/Located in labeled cabinets
DESCRIPTION:
URL:https://bodencoonrapids.com/event-calendar/always-available-activities-located-in-labeled-cabinets-129/
LOCATION:Activities Room
CATEGORIES:Assisted Living
END:VEVENT
BEGIN:VEVENT
DTSTART;VALUE=DATE:20251214
DTEND;VALUE=DATE:20251215
DTSTAMP:20260423T074910
CREATED:20251114T155046Z
LAST-MODIFIED:20251213T005134Z
UID:10003598-1765670400-1765756799@bodencoonrapids.com
SUMMARY:Always Available Activities/Located in labeled cabinets
DESCRIPTION:
URL:https://bodencoonrapids.com/event-calendar/always-available-activities-located-in-labeled-cabinets-128/
LOCATION:Activities Room
CATEGORIES:Assisted Living
END:VEVENT
BEGIN:VEVENT
DTSTART;TZID=America/Chicago:20251213T110000
DTEND;TZID=America/Chicago:20251213T120000
DTSTAMP:20260423T074910
CREATED:20251114T155046Z
LAST-MODIFIED:20251201T005036Z
UID:10003597-1765623600-1765627200@bodencoonrapids.com
SUMMARY:Book Club
DESCRIPTION:
URL:https://bodencoonrapids.com/event-calendar/book-club-16/
LOCATION:Activities Room
CATEGORIES:Assisted Living
END:VEVENT
BEGIN:VEVENT
DTSTART;VALUE=DATE:20251213
DTEND;VALUE=DATE:20251214
DTSTAMP:20260423T074910
CREATED:20251113T153610Z
LAST-MODIFIED:20251212T005100Z
UID:10003584-1765584000-1765670399@bodencoonrapids.com
SUMMARY:Always Available Activities/Located in labeled cabinets
DESCRIPTION:
URL:https://bodencoonrapids.com/event-calendar/always-available-activities-located-in-labeled-cabinets-127/
LOCATION:Activities Room
CATEGORIES:Assisted Living
END:VEVENT
BEGIN:VEVENT
DTSTART;VALUE=DATE:20251212
DTEND;VALUE=DATE:20251213
DTSTAMP:20260423T074910
CREATED:20251112T153604Z
LAST-MODIFIED:20251211T005106Z
UID:10003569-1765497600-1765583999@bodencoonrapids.com
SUMMARY:Always Available Activities/Located in labeled cabinets
DESCRIPTION:
URL:https://bodencoonrapids.com/event-calendar/always-available-activities-located-in-labeled-cabinets-126/
LOCATION:Activities Room
CATEGORIES:Assisted Living
END:VEVENT
BEGIN:VEVENT
DTSTART;VALUE=DATE:20251211
DTEND;VALUE=DATE:20251212
DTSTAMP:20260423T074910
CREATED:20251111T152042Z
LAST-MODIFIED:20251210T005057Z
UID:10003553-1765411200-1765497599@bodencoonrapids.com
SUMMARY:Always Available Activities/Located in labeled cabinets
DESCRIPTION:
URL:https://bodencoonrapids.com/event-calendar/always-available-activities-located-in-labeled-cabinets-125/
LOCATION:Activities Room
CATEGORIES:Assisted Living
END:VEVENT
BEGIN:VEVENT
DTSTART;VALUE=DATE:20251210
DTEND;VALUE=DATE:20251211
DTSTAMP:20260423T074910
CREATED:20251110T152040Z
LAST-MODIFIED:20251209T005036Z
UID:10003537-1765324800-1765411199@bodencoonrapids.com
SUMMARY:Always Available Activities/Located in labeled cabinets
DESCRIPTION:
URL:https://bodencoonrapids.com/event-calendar/always-available-activities-located-in-labeled-cabinets-124/
LOCATION:Activities Room
CATEGORIES:Assisted Living
END:VEVENT
BEGIN:VEVENT
DTSTART;VALUE=DATE:20251209
DTEND;VALUE=DATE:20251210
DTSTAMP:20260423T074910
CREATED:20251109T152049Z
LAST-MODIFIED:20251208T005043Z
UID:10003522-1765238400-1765324799@bodencoonrapids.com
SUMMARY:Always Available Activities/Located in labeled cabinets
DESCRIPTION:
URL:https://bodencoonrapids.com/event-calendar/always-available-activities-located-in-labeled-cabinets-123/
LOCATION:Activities Room
CATEGORIES:Assisted Living
END:VEVENT
END:VCALENDAR