BEGIN:VCALENDAR
VERSION:2.0
PRODID:-//Boden Coon Rapids - ECPv6.11.2.1//NONSGML v1.0//EN
CALSCALE:GREGORIAN
METHOD:PUBLISH
X-WR-CALNAME:Boden Coon Rapids
X-ORIGINAL-URL:https://bodencoonrapids.com
X-WR-CALDESC:Events for Boden Coon Rapids
REFRESH-INTERVAL;VALUE=DURATION:PT1H
X-Robots-Tag:noindex
X-PUBLISHED-TTL:PT1H
BEGIN:VTIMEZONE
TZID:America/Chicago
BEGIN:DAYLIGHT
TZOFFSETFROM:-0600
TZOFFSETTO:-0500
TZNAME:CDT
DTSTART:20250309T080000
END:DAYLIGHT
BEGIN:STANDARD
TZOFFSETFROM:-0500
TZOFFSETTO:-0600
TZNAME:CST
DTSTART:20251102T070000
END:STANDARD
END:VTIMEZONE
BEGIN:VEVENT
DTSTART;VALUE=DATE:20250928
DTEND;VALUE=DATE:20250929
DTSTAMP:20260424T014223
CREATED:20250903T115046Z
LAST-MODIFIED:20250927T130537Z
UID:10002268-1759017600-1759103999@bodencoonrapids.com
SUMMARY:Always Available Activities/Located in labeled cabinets
DESCRIPTION:
URL:https://bodencoonrapids.com/event-calendar/always-available-activities-located-in-labeled-cabinets-51/
LOCATION:Activities Room
CATEGORIES:Assisted Living
END:VEVENT
BEGIN:VEVENT
DTSTART;VALUE=DATE:20250928
DTEND;VALUE=DATE:20250929
DTSTAMP:20260424T014223
CREATED:20250829T113538Z
LAST-MODIFIED:20250902T115045Z
UID:10002167-1759017600-1759103999@bodencoonrapids.com
SUMMARY:Always Available Activities/Located in labeled cabinets
DESCRIPTION:
URL:https://bodencoonrapids.com/event-calendar/always-available-activities-located-in-labeled-cabinets-26/
LOCATION:Activities Room
CATEGORIES:Assisted Living
END:VEVENT
BEGIN:VEVENT
DTSTART;TZID=America/Chicago:20250927T103000
DTEND;TZID=America/Chicago:20250927T113000
DTSTAMP:20260424T014223
CREATED:20250829T113538Z
LAST-MODIFIED:20250927T130537Z
UID:10002165-1758969000-1758972600@bodencoonrapids.com
SUMMARY:Book Club
DESCRIPTION:
URL:https://bodencoonrapids.com/event-calendar/book-club-5/
LOCATION:Activities Room
CATEGORIES:Assisted Living
END:VEVENT
BEGIN:VEVENT
DTSTART;VALUE=DATE:20250927
DTEND;VALUE=DATE:20250928
DTSTAMP:20260424T014223
CREATED:20250903T115046Z
LAST-MODIFIED:20250926T130537Z
UID:10002266-1758931200-1759017599@bodencoonrapids.com
SUMMARY:Always Available Activities/Located in labeled cabinets
DESCRIPTION:
URL:https://bodencoonrapids.com/event-calendar/always-available-activities-located-in-labeled-cabinets-50/
LOCATION:Activities Room
CATEGORIES:Assisted Living
END:VEVENT
BEGIN:VEVENT
DTSTART;VALUE=DATE:20250927
DTEND;VALUE=DATE:20250928
DTSTAMP:20260424T014223
CREATED:20250828T113539Z
LAST-MODIFIED:20250902T115045Z
UID:10002153-1758931200-1759017599@bodencoonrapids.com
SUMMARY:Always Available Activities/Located in labeled cabinets
DESCRIPTION:
URL:https://bodencoonrapids.com/event-calendar/always-available-activities-located-in-labeled-cabinets-25/
LOCATION:Activities Room
CATEGORIES:Assisted Living
END:VEVENT
BEGIN:VEVENT
DTSTART;VALUE=DATE:20250926
DTEND;VALUE=DATE:20250927
DTSTAMP:20260424T014223
CREATED:20250903T115045Z
LAST-MODIFIED:20250925T130542Z
UID:10002265-1758844800-1758931199@bodencoonrapids.com
SUMMARY:Always Available Activities/Located in labeled cabinets
DESCRIPTION:
URL:https://bodencoonrapids.com/event-calendar/always-available-activities-located-in-labeled-cabinets-49/
LOCATION:Activities Room
CATEGORIES:Assisted Living
END:VEVENT
BEGIN:VEVENT
DTSTART;VALUE=DATE:20250925
DTEND;VALUE=DATE:20250926
DTSTAMP:20260424T014223
CREATED:20250903T115045Z
LAST-MODIFIED:20250924T130535Z
UID:10002264-1758758400-1758844799@bodencoonrapids.com
SUMMARY:Always Available Activities/Located in labeled cabinets
DESCRIPTION:
URL:https://bodencoonrapids.com/event-calendar/always-available-activities-located-in-labeled-cabinets-48/
LOCATION:Activities Room
CATEGORIES:Assisted Living
END:VEVENT
BEGIN:VEVENT
DTSTART;VALUE=DATE:20250924
DTEND;VALUE=DATE:20250925
DTSTAMP:20260424T014223
CREATED:20250903T115045Z
LAST-MODIFIED:20250923T125038Z
UID:10002262-1758672000-1758758399@bodencoonrapids.com
SUMMARY:Always Available Activities/Located in labeled cabinets
DESCRIPTION:
URL:https://bodencoonrapids.com/event-calendar/always-available-activities-located-in-labeled-cabinets-47/
LOCATION:Activities Room
CATEGORIES:Assisted Living
END:VEVENT
BEGIN:VEVENT
DTSTART;VALUE=DATE:20250923
DTEND;VALUE=DATE:20250924
DTSTAMP:20260424T014223
CREATED:20250903T115044Z
LAST-MODIFIED:20250922T125038Z
UID:10002260-1758585600-1758671999@bodencoonrapids.com
SUMMARY:Always Available Activities/Located in labeled cabinets
DESCRIPTION:
URL:https://bodencoonrapids.com/event-calendar/always-available-activities-located-in-labeled-cabinets-46/
LOCATION:Activities Room
CATEGORIES:Assisted Living
END:VEVENT
BEGIN:VEVENT
DTSTART;TZID=America/Chicago:20250922T150000
DTEND;TZID=America/Chicago:20250922T153000
DTSTAMP:20260424T014223
CREATED:20250824T113543Z
LAST-MODIFIED:20250922T125038Z
UID:10002093-1758553200-1758555000@bodencoonrapids.com
SUMMARY:Manicure /Nail trim
DESCRIPTION:
URL:https://bodencoonrapids.com/event-calendar/manicure-nail-trim-12/
LOCATION:Activities Room
CATEGORIES:Assisted Living
END:VEVENT
BEGIN:VEVENT
DTSTART;VALUE=DATE:20250922
DTEND;VALUE=DATE:20250923
DTSTAMP:20260424T014223
CREATED:20250903T115044Z
LAST-MODIFIED:20250921T125059Z
UID:10002258-1758499200-1758585599@bodencoonrapids.com
SUMMARY:Always Available Activities/Located in labeled cabinets
DESCRIPTION:
URL:https://bodencoonrapids.com/event-calendar/always-available-activities-located-in-labeled-cabinets-45/
LOCATION:Activities Room
CATEGORIES:Assisted Living
END:VEVENT
BEGIN:VEVENT
DTSTART;VALUE=DATE:20250921
DTEND;VALUE=DATE:20250922
DTSTAMP:20260424T014223
CREATED:20250903T115044Z
LAST-MODIFIED:20250920T125042Z
UID:10002257-1758412800-1758499199@bodencoonrapids.com
SUMMARY:Always Available Activities/Located in labeled cabinets
DESCRIPTION:
URL:https://bodencoonrapids.com/event-calendar/always-available-activities-located-in-labeled-cabinets-44/
LOCATION:Activities Room
CATEGORIES:Assisted Living
END:VEVENT
BEGIN:VEVENT
DTSTART;VALUE=DATE:20250921
DTEND;VALUE=DATE:20250922
DTSTAMP:20260424T014223
CREATED:20250822T113619Z
LAST-MODIFIED:20250902T115044Z
UID:10002066-1758412800-1758499199@bodencoonrapids.com
SUMMARY:Always Available Activities/Located in labeled cabinets
DESCRIPTION:
URL:https://bodencoonrapids.com/event-calendar/always-available-activities-located-in-labeled-cabinets-24/
LOCATION:Activities Room
CATEGORIES:Assisted Living
END:VEVENT
BEGIN:VEVENT
DTSTART;TZID=America/Chicago:20250920T103000
DTEND;TZID=America/Chicago:20250920T113000
DTSTAMP:20260424T014223
CREATED:20250822T113618Z
LAST-MODIFIED:20250920T125042Z
UID:10002063-1758364200-1758367800@bodencoonrapids.com
SUMMARY:Book Club
DESCRIPTION:
URL:https://bodencoonrapids.com/event-calendar/book-club-4/
LOCATION:Activities Room
CATEGORIES:Assisted Living
END:VEVENT
BEGIN:VEVENT
DTSTART;VALUE=DATE:20250920
DTEND;VALUE=DATE:20250921
DTSTAMP:20260424T014223
CREATED:20250903T115044Z
LAST-MODIFIED:20250919T125111Z
UID:10002255-1758326400-1758412799@bodencoonrapids.com
SUMMARY:Always Available Activities/Located in labeled cabinets
DESCRIPTION:
URL:https://bodencoonrapids.com/event-calendar/always-available-activities-located-in-labeled-cabinets-43/
LOCATION:Activities Room
CATEGORIES:Assisted Living
END:VEVENT
BEGIN:VEVENT
DTSTART;VALUE=DATE:20250920
DTEND;VALUE=DATE:20250921
DTSTAMP:20260424T014223
CREATED:20250821T113540Z
LAST-MODIFIED:20250902T115044Z
UID:10002051-1758326400-1758412799@bodencoonrapids.com
SUMMARY:Always Available Activities/Located in labeled cabinets
DESCRIPTION:
URL:https://bodencoonrapids.com/event-calendar/always-available-activities-located-in-labeled-cabinets-23/
LOCATION:Activities Room
CATEGORIES:Assisted Living
END:VEVENT
BEGIN:VEVENT
DTSTART;VALUE=DATE:20250919
DTEND;VALUE=DATE:20250920
DTSTAMP:20260424T014223
CREATED:20250903T115043Z
LAST-MODIFIED:20250918T123549Z
UID:10002254-1758240000-1758326399@bodencoonrapids.com
SUMMARY:Always Available Activities/Located in labeled cabinets
DESCRIPTION:
URL:https://bodencoonrapids.com/event-calendar/always-available-activities-located-in-labeled-cabinets-42/
LOCATION:Activities Room
CATEGORIES:Assisted Living
END:VEVENT
BEGIN:VEVENT
DTSTART;VALUE=DATE:20250918
DTEND;VALUE=DATE:20250919
DTSTAMP:20260424T014223
CREATED:20250903T115043Z
LAST-MODIFIED:20250917T123625Z
UID:10002253-1758153600-1758239999@bodencoonrapids.com
SUMMARY:Always Available Activities/Located in labeled cabinets
DESCRIPTION:
URL:https://bodencoonrapids.com/event-calendar/always-available-activities-located-in-labeled-cabinets-41/
LOCATION:Activities Room
CATEGORIES:Assisted Living
END:VEVENT
BEGIN:VEVENT
DTSTART;VALUE=DATE:20250917
DTEND;VALUE=DATE:20250918
DTSTAMP:20260424T014223
CREATED:20250903T115043Z
LAST-MODIFIED:20250916T123539Z
UID:10002251-1758067200-1758153599@bodencoonrapids.com
SUMMARY:Always Available Activities/Located in labeled cabinets
DESCRIPTION:
URL:https://bodencoonrapids.com/event-calendar/always-available-activities-located-in-labeled-cabinets-40/
LOCATION:Activities Room
CATEGORIES:Assisted Living
END:VEVENT
BEGIN:VEVENT
DTSTART;VALUE=DATE:20250916
DTEND;VALUE=DATE:20250917
DTSTAMP:20260424T014223
CREATED:20250903T115042Z
LAST-MODIFIED:20250915T123536Z
UID:10002250-1757980800-1758067199@bodencoonrapids.com
SUMMARY:Always Available Activities/Located in labeled cabinets
DESCRIPTION:
URL:https://bodencoonrapids.com/event-calendar/always-available-activities-located-in-labeled-cabinets-39/
LOCATION:Activities Room
CATEGORIES:Assisted Living
END:VEVENT
BEGIN:VEVENT
DTSTART;TZID=America/Chicago:20250915T150000
DTEND;TZID=America/Chicago:20250915T153000
DTSTAMP:20260424T014223
CREATED:20250817T113550Z
LAST-MODIFIED:20250915T123536Z
UID:10001992-1757948400-1757950200@bodencoonrapids.com
SUMMARY:Manicure /Nail trim
DESCRIPTION:
URL:https://bodencoonrapids.com/event-calendar/manicure-nail-trim-11/
LOCATION:Activities Room
CATEGORIES:Assisted Living
END:VEVENT
BEGIN:VEVENT
DTSTART;VALUE=DATE:20250915
DTEND;VALUE=DATE:20250916
DTSTAMP:20260424T014223
CREATED:20250903T115042Z
LAST-MODIFIED:20250914T123536Z
UID:10002248-1757894400-1757980799@bodencoonrapids.com
SUMMARY:Always Available Activities/Located in labeled cabinets
DESCRIPTION:
URL:https://bodencoonrapids.com/event-calendar/always-available-activities-located-in-labeled-cabinets-38/
LOCATION:Activities Room
CATEGORIES:Assisted Living
END:VEVENT
BEGIN:VEVENT
DTSTART;VALUE=DATE:20250914
DTEND;VALUE=DATE:20250915
DTSTAMP:20260424T014223
CREATED:20250903T115042Z
LAST-MODIFIED:20250913T123536Z
UID:10002247-1757808000-1757894399@bodencoonrapids.com
SUMMARY:Always Available Activities/Located in labeled cabinets
DESCRIPTION:
URL:https://bodencoonrapids.com/event-calendar/always-available-activities-located-in-labeled-cabinets-37/
LOCATION:Activities Room
CATEGORIES:Assisted Living
END:VEVENT
BEGIN:VEVENT
DTSTART;VALUE=DATE:20250914
DTEND;VALUE=DATE:20250915
DTSTAMP:20260424T014223
CREATED:20250817T113549Z
LAST-MODIFIED:20250902T115043Z
UID:10001988-1757808000-1757894399@bodencoonrapids.com
SUMMARY:Always Available Activities/Located in labeled cabinets
DESCRIPTION:
URL:https://bodencoonrapids.com/event-calendar/always-available-activities-located-in-labeled-cabinets-22/
LOCATION:Activities Room
CATEGORIES:Assisted Living
END:VEVENT
BEGIN:VEVENT
DTSTART;TZID=America/Chicago:20250913T103000
DTEND;TZID=America/Chicago:20250913T113000
DTSTAMP:20260424T014223
CREATED:20250815T113539Z
LAST-MODIFIED:20250913T123536Z
UID:10001960-1757759400-1757763000@bodencoonrapids.com
SUMMARY:Book Club
DESCRIPTION:
URL:https://bodencoonrapids.com/event-calendar/book-club-3/
LOCATION:Activities Room
CATEGORIES:Assisted Living
END:VEVENT
BEGIN:VEVENT
DTSTART;VALUE=DATE:20250913
DTEND;VALUE=DATE:20250914
DTSTAMP:20260424T014223
CREATED:20250903T115042Z
LAST-MODIFIED:20250912T123537Z
UID:10002246-1757721600-1757807999@bodencoonrapids.com
SUMMARY:Always Available Activities/Located in labeled cabinets
DESCRIPTION:
URL:https://bodencoonrapids.com/event-calendar/always-available-activities-located-in-labeled-cabinets-36/
LOCATION:Activities Room
CATEGORIES:Assisted Living
END:VEVENT
BEGIN:VEVENT
DTSTART;VALUE=DATE:20250913
DTEND;VALUE=DATE:20250914
DTSTAMP:20260424T014223
CREATED:20250817T113549Z
LAST-MODIFIED:20250902T115043Z
UID:10001987-1757721600-1757807999@bodencoonrapids.com
SUMMARY:Always Available Activities/Located in labeled cabinets
DESCRIPTION:
URL:https://bodencoonrapids.com/event-calendar/always-available-activities-located-in-labeled-cabinets-21/
LOCATION:Activities Room
CATEGORIES:Assisted Living
END:VEVENT
BEGIN:VEVENT
DTSTART;VALUE=DATE:20250912
DTEND;VALUE=DATE:20250913
DTSTAMP:20260424T014223
CREATED:20250903T115041Z
LAST-MODIFIED:20250911T122037Z
UID:10002244-1757635200-1757721599@bodencoonrapids.com
SUMMARY:Always Available Activities/Located in labeled cabinets
DESCRIPTION:
URL:https://bodencoonrapids.com/event-calendar/always-available-activities-located-in-labeled-cabinets-35/
LOCATION:Activities Room
CATEGORIES:Assisted Living
END:VEVENT
BEGIN:VEVENT
DTSTART;VALUE=DATE:20250911
DTEND;VALUE=DATE:20250912
DTSTAMP:20260424T014223
CREATED:20250903T115041Z
LAST-MODIFIED:20250910T122036Z
UID:10002243-1757548800-1757635199@bodencoonrapids.com
SUMMARY:Always Available Activities/Located in labeled cabinets
DESCRIPTION:
URL:https://bodencoonrapids.com/event-calendar/always-available-activities-located-in-labeled-cabinets-34/
LOCATION:Activities Room
CATEGORIES:Assisted Living
END:VEVENT
BEGIN:VEVENT
DTSTART;VALUE=DATE:20250910
DTEND;VALUE=DATE:20250911
DTSTAMP:20260424T014223
CREATED:20250903T115041Z
LAST-MODIFIED:20250909T122037Z
UID:10002241-1757462400-1757548799@bodencoonrapids.com
SUMMARY:Always Available Activities/Located in labeled cabinets
DESCRIPTION:
URL:https://bodencoonrapids.com/event-calendar/always-available-activities-located-in-labeled-cabinets-33/
LOCATION:Activities Room
CATEGORIES:Assisted Living
END:VEVENT
END:VCALENDAR