BEGIN:VCALENDAR
VERSION:2.0
PRODID:-//Boden Coon Rapids - ECPv6.11.2.1//NONSGML v1.0//EN
CALSCALE:GREGORIAN
METHOD:PUBLISH
X-WR-CALNAME:Boden Coon Rapids
X-ORIGINAL-URL:https://bodencoonrapids.com
X-WR-CALDESC:Events for Boden Coon Rapids
REFRESH-INTERVAL;VALUE=DURATION:PT1H
X-Robots-Tag:noindex
X-PUBLISHED-TTL:PT1H
BEGIN:VTIMEZONE
TZID:America/Chicago
BEGIN:DAYLIGHT
TZOFFSETFROM:-0600
TZOFFSETTO:-0500
TZNAME:CDT
DTSTART:20250309T080000
END:DAYLIGHT
BEGIN:STANDARD
TZOFFSETFROM:-0500
TZOFFSETTO:-0600
TZNAME:CST
DTSTART:20251102T070000
END:STANDARD
END:VTIMEZONE
BEGIN:VEVENT
DTSTART;VALUE=DATE:20250719
DTEND;VALUE=DATE:20250720
DTSTAMP:20260424T092516
CREATED:20250619T154605Z
LAST-MODIFIED:20250718T102039Z
UID:10001048-1752883200-1752969599@bodencoonrapids.com
SUMMARY:Always Available Activities/Located in labeled cabinets
DESCRIPTION:
URL:https://bodencoonrapids.com/event-calendar/always-available-activities-located-in-labeled-cabinets-5/
LOCATION:Activities Room
CATEGORIES:Assisted Living
END:VEVENT
BEGIN:VEVENT
DTSTART;TZID=America/Chicago:20250714T150000
DTEND;TZID=America/Chicago:20250714T153000
DTSTAMP:20260424T092516
CREATED:20250615T194308Z
LAST-MODIFIED:20250714T100558Z
UID:10000995-1752505200-1752507000@bodencoonrapids.com
SUMMARY:Manicure /Nail trim
DESCRIPTION:
URL:https://bodencoonrapids.com/event-calendar/manicure-nail-trim-2/
LOCATION:Activities Room
CATEGORIES:Assisted Living
END:VEVENT
BEGIN:VEVENT
DTSTART;VALUE=DATE:20250713
DTEND;VALUE=DATE:20250714
DTSTAMP:20260424T092516
CREATED:20250613T194316Z
LAST-MODIFIED:20250712T095052Z
UID:10000968-1752364800-1752451199@bodencoonrapids.com
SUMMARY:Always Available Activities/Located in labeled cabinets
DESCRIPTION:
URL:https://bodencoonrapids.com/event-calendar/always-available-activities-located-in-labeled-cabinets-4/
LOCATION:Activities Room
CATEGORIES:Assisted Living
END:VEVENT
BEGIN:VEVENT
DTSTART;VALUE=DATE:20250712
DTEND;VALUE=DATE:20250713
DTSTAMP:20260424T092516
CREATED:20250612T194418Z
LAST-MODIFIED:20250711T095152Z
UID:10000954-1752278400-1752364799@bodencoonrapids.com
SUMMARY:Always Available Activities/Located in labeled cabinets
DESCRIPTION:
URL:https://bodencoonrapids.com/event-calendar/always-available-activities-located-in-labeled-cabinets-3/
LOCATION:Activities Room
CATEGORIES:Assisted Living
END:VEVENT
BEGIN:VEVENT
DTSTART;TZID=America/Chicago:20250707T150000
DTEND;TZID=America/Chicago:20250707T153000
DTSTAMP:20260424T092516
CREATED:20250608T194315Z
LAST-MODIFIED:20250707T095042Z
UID:10000878-1751900400-1751902200@bodencoonrapids.com
SUMMARY:Manicure /Nail trim
DESCRIPTION:
URL:https://bodencoonrapids.com/event-calendar/manicure-nail-trim/
LOCATION:Activities Room
CATEGORIES:Assisted Living
END:VEVENT
BEGIN:VEVENT
DTSTART;VALUE=DATE:20250706
DTEND;VALUE=DATE:20250707
DTSTAMP:20260424T092516
CREATED:20250606T192852Z
LAST-MODIFIED:20250705T095038Z
UID:10000850-1751760000-1751846399@bodencoonrapids.com
SUMMARY:Always Available Activities/Located in labeled cabinets
DESCRIPTION:
URL:https://bodencoonrapids.com/event-calendar/always-available-activities-located-in-labeled-cabinets/
LOCATION:Activities Room
CATEGORIES:Assisted Living
END:VEVENT
BEGIN:VEVENT
DTSTART;VALUE=DATE:20250705
DTEND;VALUE=DATE:20250706
DTSTAMP:20260424T092516
CREATED:20250605T193037Z
LAST-MODIFIED:20250704T095054Z
UID:10000827-1751673600-1751759999@bodencoonrapids.com
SUMMARY:Always Available Activities/Located in labeled cabinets
DESCRIPTION:
URL:https://bodencoonrapids.com/event-calendar/always-available-activities-66/
LOCATION:Activities Room
CATEGORIES:Assisted Living
END:VEVENT
BEGIN:VEVENT
DTSTART;TZID=America/Chicago:20250630T150000
DTEND;TZID=America/Chicago:20250630T153000
DTSTAMP:20260424T092516
CREATED:20250601T191354Z
LAST-MODIFIED:20250630T092123Z
UID:10000767-1751295600-1751297400@bodencoonrapids.com
SUMMARY:Manicure /Nail trim
DESCRIPTION:
URL:https://bodencoonrapids.com/event-calendar/manicure-6/
LOCATION:Activities Room
CATEGORIES:Assisted Living
END:VEVENT
BEGIN:VEVENT
DTSTART;VALUE=DATE:20250629
DTEND;VALUE=DATE:20250630
DTSTAMP:20260424T092516
CREATED:20250530T191326Z
LAST-MODIFIED:20250628T091306Z
UID:10000737-1751155200-1751241599@bodencoonrapids.com
SUMMARY:Always Available Activities/Located in labeled cabinets
DESCRIPTION:
URL:https://bodencoonrapids.com/event-calendar/always-available-activities-59/
LOCATION:Activities Room
CATEGORIES:Assisted Living
END:VEVENT
BEGIN:VEVENT
DTSTART;TZID=America/Chicago:20250623T150000
DTEND;TZID=America/Chicago:20250623T153000
DTSTAMP:20260424T092516
CREATED:20250525T191406Z
LAST-MODIFIED:20250623T091430Z
UID:10000650-1750690800-1750692600@bodencoonrapids.com
SUMMARY:Manicure /Nail trim
DESCRIPTION:
URL:https://bodencoonrapids.com/event-calendar/manicure-5/
LOCATION:Activities Room
CATEGORIES:Assisted Living
END:VEVENT
BEGIN:VEVENT
DTSTART;VALUE=DATE:20250622
DTEND;VALUE=DATE:20250623
DTSTAMP:20260424T092516
CREATED:20250523T191330Z
LAST-MODIFIED:20250621T085807Z
UID:10000620-1750550400-1750636799@bodencoonrapids.com
SUMMARY:Always Available Activities/Located in labeled cabinets
DESCRIPTION:
URL:https://bodencoonrapids.com/event-calendar/always-available-activities-50/
LOCATION:Activities Room
CATEGORIES:Assisted Living
END:VEVENT
BEGIN:VEVENT
DTSTART;VALUE=DATE:20250621
DTEND;VALUE=DATE:20250622
DTSTAMP:20260424T092516
CREATED:20250522T191426Z
LAST-MODIFIED:20250620T084451Z
UID:10000606-1750464000-1750550399@bodencoonrapids.com
SUMMARY:Always Available Activities/Located in labeled cabinets
DESCRIPTION:
URL:https://bodencoonrapids.com/event-calendar/always-available-activities-48/
LOCATION:Activities Room
CATEGORIES:Assisted Living
END:VEVENT
BEGIN:VEVENT
DTSTART;TZID=America/Chicago:20250617T153000
DTEND;TZID=America/Chicago:20250617T163000
DTSTAMP:20260424T092516
CREATED:20250527T191410Z
LAST-MODIFIED:20250615T194307Z
UID:10000681-1750174200-1750177800@bodencoonrapids.com
SUMMARY:Yahtzee/Dice Game
DESCRIPTION:
URL:https://bodencoonrapids.com/event-calendar/yahtzee-3/
LOCATION:Activities Room
CATEGORIES:Assisted Living
END:VEVENT
BEGIN:VEVENT
DTSTART;TZID=America/Chicago:20250616T150000
DTEND;TZID=America/Chicago:20250616T153000
DTSTAMP:20260424T092516
CREATED:20250518T191320Z
LAST-MODIFIED:20250615T194307Z
UID:10000519-1750086000-1750087800@bodencoonrapids.com
SUMMARY:Manicure /Nail trim
DESCRIPTION:
URL:https://bodencoonrapids.com/event-calendar/manicure-4/
LOCATION:Activities Room
CATEGORIES:Assisted Living
END:VEVENT
BEGIN:VEVENT
DTSTART;VALUE=DATE:20250615
DTEND;VALUE=DATE:20250616
DTSTAMP:20260424T092516
CREATED:20250516T185942Z
LAST-MODIFIED:20250614T194310Z
UID:10000489-1749945600-1750031999@bodencoonrapids.com
SUMMARY:Always Available Activities/Located in labeled cabinets
DESCRIPTION:
URL:https://bodencoonrapids.com/event-calendar/always-available-activities-41/
LOCATION:Activities Room
CATEGORIES:Assisted Living
END:VEVENT
BEGIN:VEVENT
DTSTART;VALUE=DATE:20250614
DTEND;VALUE=DATE:20250615
DTSTAMP:20260424T092517
CREATED:20250609T194309Z
LAST-MODIFIED:20250613T194314Z
UID:10000894-1749859200-1749945599@bodencoonrapids.com
SUMMARY:Always Available Activities/Located in labeled cabinets
DESCRIPTION:
URL:https://bodencoonrapids.com/event-calendar/always-available-activities-located-in-labeled-cabinets-2/
LOCATION:Activities Room
CATEGORIES:Assisted Living
END:VEVENT
BEGIN:VEVENT
DTSTART;TZID=America/Chicago:20250609T150000
DTEND;TZID=America/Chicago:20250609T153000
DTSTAMP:20260424T092517
CREATED:20250512T172506Z
LAST-MODIFIED:20250609T194310Z
UID:10000123-1749481200-1749483000@bodencoonrapids.com
SUMMARY:Manicure /Nail trim
DESCRIPTION:
URL:https://bodencoonrapids.com/event-calendar/manicure-3/
LOCATION:Activities Room
CATEGORIES:Assisted Living
END:VEVENT
BEGIN:VEVENT
DTSTART;VALUE=DATE:20250608
DTEND;VALUE=DATE:20250609
DTSTAMP:20260424T092517
CREATED:20250512T172506Z
LAST-MODIFIED:20250607T194312Z
UID:10000115-1749340800-1749427199@bodencoonrapids.com
SUMMARY:Always Available Activities/Located in labeled cabinets
DESCRIPTION:
URL:https://bodencoonrapids.com/event-calendar/always-available-activities-8/
LOCATION:Activities Room
CATEGORIES:Assisted Living
END:VEVENT
BEGIN:VEVENT
DTSTART;VALUE=DATE:20250607
DTEND;VALUE=DATE:20250608
DTSTAMP:20260424T092517
CREATED:20250512T172505Z
LAST-MODIFIED:20250606T192849Z
UID:10000111-1749254400-1749340799@bodencoonrapids.com
SUMMARY:Always Available Activities/Located in labeled cabinets
DESCRIPTION:
URL:https://bodencoonrapids.com/event-calendar/always-available-activities-7/
LOCATION:Activities Room
CATEGORIES:Assisted Living
END:VEVENT
END:VCALENDAR